Workbook
Name \: #REF!
Name \: #REF!
Name \0: #REF!
Name \0: #REF!
Name \3: #REF!
Name \3: #REF!
Name \A: #REF!
Name \A: #REF!
Name \b: #REF!
Name \b: #REF!
Name \C: #REF!
Name \C: #REF!
Name \D: #REF!
Name \D: #REF!
Name \F: #REF!
Name \F: #REF!
Name \m: #REF!
Name \m: #REF!
Name \p: #N/A
Name \q: #REF!
Name \q: #REF!
Name \s: #REF!
Name \s: #REF!
Name _____________DAT17: #REF!
Name _____________DAT17: #REF!
Name _____________DAT18: #REF!
Name _____________DAT18: #REF!
Name ____________DAT17: #REF!
Name ____________DAT17: #REF!
Name ____________DAT18: #REF!
Name ____________DAT18: #REF!
Name ___________DAT12: '[1]UA.4.4Rebate on Bill discounted'!#REF!
Name ___________DAT12: '[1]UA.4.4Rebate on Bill discounted'!#REF!
Name ___________DAT17: #REF!
Name ___________DAT17: #REF!
Name ___________DAT18: #REF!
Name ___________DAT18: #REF!
Name __________DAT1: '[1]UA.4.4Rebate on Bill discounted'!#REF!
Name __________DAT1: '[1]UA.4.4Rebate on Bill discounted'!#REF!
Name __________DAT12: '[1]UA.4.4Rebate on Bill discounted'!#REF!
Name __________DAT12: '[1]UA.4.4Rebate on Bill discounted'!#REF!
Name __________DAT13: #REF!
Name __________DAT13: #REF!
Name __________DAT14: #REF!
Name __________DAT14: #REF!
Name __________DAT15: #REF!
Name __________DAT15: #REF!
Name __________DAT16: #REF!
Name __________DAT16: #REF!
Name __________DAT17: #REF!
Name __________DAT17: #REF!
Name __________DAT18: #REF!
Name __________DAT18: #REF!
Name _________DAT1: '[1]UA.4.4Rebate on Bill discounted'!#REF!
Name _________DAT1: '[1]UA.4.4Rebate on Bill discounted'!#REF!
Name _________DAT10: #REF!
Name _________DAT10: #REF!
Name _________DAT12: '[1]UA.4.4Rebate on Bill discounted'!#REF!
Name _________DAT12: '[1]UA.4.4Rebate on Bill discounted'!#REF!
Name _________DAT13: #REF!

Sheet Disclosure 36
A1: STC of India Limited
A2: Branch/Division :
A3: Notes to Accounts for the year ended March 31, 2019
A6: 36 | B6: First Time adoption of Ind-AS
B7: Transition from IGAAP to Ind AS
B8: These financial statements, for the year ended March 31, 2018, are first financial statements prepared by company in accordance with Ind AS. For years upto and including the year ended March 31, 2017, the company prepared its financial statements in accordance with IGAAP, including accounting standards notified under the Companies (Accounting Standards) Rules, 2006 (as amended).
B9: Accordingly, the company has prepared Ind AS compliant financial statements for year ending on March 31, 2018. In preparing these financial statements, the company has prepared opening Ind AS balance sheet as at 1st April, 2016 the company's date of transition to Ind-AS in accordance with requirement of Ind AS 101, "First time Adoption of Indian Accounting Standards". The principal adjustments made by the company in restating its IGAAP financial statements, including the balance sheet as at April 1, 2016 and the financial statements as at and for the year ended March 31, 2017 are quantified and explained in the Ind-AS reconciliation statement (36.1 to ______) .However the basic approach adopted is summarized hereunder:
B10: i) | C10: All assets and liabilities have been classified into financial assets/liabilities and non-financial assets/liabilities.
B11: ii) | C11: All non-current financial assets/liabilities at below market rate of interest or zero interest and outstanding as on 1st April, 2016 have been measured at fair value.
B12: iii) | C12: In accordance with Ind AS 101, the resulting adjustments are considered as arising from events and transactions entered before date of transition and recognized directly in the retained earnings at the date of transition to Ind AS.
B13: iv) | C13: The estimates as at April 1, 2016 and at March 31, 2017 are consistent with those made for the same dates in accordance with IGAAP (after adjustments to reflect any differences in accounting policies).
B14: v) | C14: Ind AS 101 also allows first time adopter certain exemptions from the retrospective application of certain requirements under Ind AS. Accordingly, the company has availed the following exemptions/mandatory exceptions as per Ind AS 101:
C16: Exemptions :
B18: a) | C18: Deemed Cost for Property, Plant & Equipment and Intangible Assets:
C19: The company has availed exemption under para D7AA of appendix D to Ind AS 101 which permits a first time adopter to continue with the carrying values for its PPE as at date of transition to Ind ASs measured as per previous GAAP.
B21: b) | C21: Investment in subsidiary, joint ventures and associates:
C22: The company has elected to apply previous GAAP carrying amount of its investment in Subsidiaries, Associate, Joint venture as deemed cost as on the date of transition to Ind AS.
B24: c) | C24: Fair value measurement of financial assets and liabilities at initial recognition:
C25: The Company has financial receivables and payables that are non-derivative financial instruments. Under previous GAAP, these were carried at transactions cost less allowances for impairment, if any. Under Ind AS, these financial assets and liabilities are initially recognized at fair value and subsequently measured at amortized cost, less allowance for impairment, if any. For transactions entered into on or after the date of transition to Ind AS, the requirement of initial recognition at fair value is applied prospectively.
C27: Exceptions:
B29: a) | C29: Classification & measurement of financial assets:
C30: The company has applied para B8C of Appendix B the fair value of financial assets and financial liability at the date of transition to Ind AS assumed to be the new gross carrying amount of the that financial assets or the new amortized cost of that liability at the date of transition to Ind AS.
B34: b) | C34: Impairment of financial assets:
C35: The company has availed exception under para B8D of appendix B which permits the first time adopter to apply the impairment requirement of Ind AS 109 prospectively.

Sheet Reconciliation
A1: ABC Limited
A2: Note 36: Disclosure requirements of Indian Accounting Standards
A4: ='Disclosure 36'!A6+0.1 -> 36.1 | B4: Reconciliation of Equity as at April 1, 2016
G5: (Amount Rs.)
B6: Particulars | D6: Note | E6: Indian Gaap | F6: Adjustments | G6: Ind AS
B7: I | C7: ASSETS
B9: 1 | C9: Non current assets
C10: (a) Property, Plant and Equipment | D10: 4
C11: (b) Capital work-in-progress | D11: 5
C12: (c) Investment property | D12: 6
C13: (d) Other Intangible assets | D13: 7
C14: (e) Financial Assets
C15: (i) Investments | D15: 8
C16: (ii) Trade Receivables | D16: 9
C17: (iii) Loans | D17: 10
C18: (iii) Other Financial Assets | D18: 11
C19: (f) Deferred tax assets (net) | D19: 12
C20: (g) Tax assets (net) | D20: 13
C21: (h) Other non current assets | D21: 14
E22: =SUM(E10:E21) -> 0 | F22: =SUM(F10:F21) -> 0 | G22: =E22+F22 -> 0
B23: 2 | C23: Current assets
C24: (a) Inventories | D24: 15
C25: (b) Financial Assets
C26: (i) Current investments | D26: 8
C27: (ii) Trade receivables | D27: 9
C28: (iii) Cash and cash equivalents | D28: 16
C29: (iv) Bank Balances other (iii) above | D29: 17
C30: (v) Loans | D30: 10
C31: (vi) Other Financial Assets | D31: 11
C32: (c) Tax Assets (net) | D32: 13
C33: (d) Other current assets | D33: 14
E35: =SUM(E24:E33) -> 0 | F35: =SUM(F24:F33) -> 0 | G35: =E35+F35 -> 0
C37: Total | E37: =E22+E35 -> 0 | F37: =F22+F35 -> 0 | G37: =E37+F37 -> 0
B39: I. | C39: EQUITY AND LIABILITIES
C41: Equity
C42: (a) Equity Share capital | D42: 18
C43: (b) Other Equity | D43: 19
E45: =SUM(E42:E43) -> 0 | F45: =F42+F43 -> 0 | G45: =G42+G43 -> 0
C46: LIABILITIES
B48: =+B41+1 -> 1 | C48: Non- current liabilities
...

Sheet Impact-BS notes 16
B1: The State Trading Corporation of India Limited
B2: Notes to Financial Statements
B3: ='[64]BS 04.16'!A3 -> Branch/Division _______________
A4: ='[64]PPE 04.16'!A114+1 -> 8 | B4: Investments - Non Current | E4: ='[65]Impact-PPE'!F4 -> (Amount Rupees)
B5: Particulars | C5: Figures as per IGAAP Period Ended April 01, 2016 | D5: Adjustments | E5: Figures as per Ind AS Period Ended April 01, 2016
B7: TRADE INVESTMENTS
B9: Quoted Investments
B11: Unquoted Investments
B13: A. Investment in Equity instrument ~ Subsidiaries
B15: XXXXXXX (Fully paid up XXXX Equity shares of XXX each)
B17: Investment in Equity instruments ~ Subsidiaries/Associates/JV
B18: XXXXXXX (Fully paid up XXXX Equity shares of XXX each)
B21: B. Investment in Equity instrument ~ Associates
B23: XXXXXXX (Fully paid up XXXX Equity shares of XXX each)
B25: XXXXXXX (Fully paid up XXXX Equity shares of XXX each)
B26: Less Impairement in value of investments
B29: C. Investment in Equity instrument ~ Joint Ventures
... B48: Detail of wholly owned subsidiary
B50: Name of Subsidiary | C50: Principal Activity | D50: Place of Incorporation | E50: Ownership And/or Control
B51: XXXXXXXXXXXX
B53: Details of Associates
B54: Name of Associates | C54: Principal Activity | D54: Place of Incorporation | E54: Ownership And/or Control
B55: XXXXXXXXXX
B57: Details of Joint Venture
B58: Name of Joint Venture | C58: Principal Activity | D58: Place of Incorporation | E58: Ownership And/or Control
B59: XXXXXXXXXX
B60: XXXXXXXXXX
B61: XXXXXXXXXX
B62: XXXXXXXXXX
A64: =A4+1 -> 9 | B64: Trade Receivable - Non Current
B66: Particulars | C66: =C5 -> Figures as per IGAAP Period Ended April 01, 2016 | D66: Adjustments | E66: =E5 -> Figures as per Ind AS Period Ended April 01, 2016
B68: A. Trade receivable from related parties
B69: i. Secured ~ Considered good
B70: ii. Unsecured Considered good
B71: iii. Doubtful
B72: Sub-total
B73: Less : Allowance for bad and doubtful receivables
B74: Total (A)
B76: B. Long Term Trade Receivables
B77: i. Secured ~ Considered good
...

Sheet Impact-PPE 16
B1: The State Trading Corporation of India Limited
B2: Notes to Financial Statements
B3: Branch/Division _______________
A4: 4 | B4: Property Plant and Equipment | F4: ='[65]Impact-P&L'!F4 -> (Amount Rupees)
B6: Particulars | C6: Amounts | D6: Figures as per Net block April 01, 2016 | E6: Adjustments | F6: Figures as per Ind As As At April 01, 2016
B8: Gross carrying Amounts of PPE:-
B9: Accumulated depreciation and impairment thereon
B11: Land freehold | C11: 0
B12: - Accumulated depreciation and impairment | C12: 0 | D12: =C11-C12 -> 0 | E12: 0 | F12: =D12+E12 -> 0
B14: Building freehold | C14: 0
B15: - Accumulated depreciation and impairment | C15: 0 | D15: =C14-C15 -> 0 | E15: 0 | F15: =D15+E15 -> 0
B18: Plant & Machinery | C18: 0
B19: - Accumulated depreciation and impairment | C19: 0 | D19: =C18+C19 -> 0 | E19: 0 | F19: =D19+E19 -> 0
B22: Furniture & Fittings | C22: 0
B23: - Accumulated depreciation and impairment | C23: 0 | D23: =C22+C23 -> 0 | E23: 0 | F23: =D23+E23 -> 0
B25: Motor Vehicle | C25: 0
B26: - Accumulated depreciation and impairment | C26: 0 | D26: =C25+C26 -> 0 | E26: 0 | F26: =D26+E26 -> 0
B28: Office Equipments | C28: 0
B29: - Accumulated depreciation and impairment | C29: 0 | D29: =C28+C29 -> 0 | E29: 0 | F29: =D29+E29 -> 0
B31: Computers, data processing units & communication equipment | C31: 0
B32: - Accumulated depreciation and impairment | C32: 0 | D32: =C31+C32 -> 0 | E32: 0 | F32: =D32+E32 -> 0
B34: Electrical Installations & Equipment | C34: 0
B35: - Accumulated depreciation and impairment | C35: 0 | D35: =C34+C35 -> 0 | E35: 0 | F35: =D35+E35 -> 0
B37: Roads, culverts & sewerage etc | C37: 0
B38: - Accumulated depreciation and impairment | C38: 0 | D38: =C37+C38 -> 0 | E38: 0 | F38: =D38+E38 -> 0
B40: Land leasehold | C40: 0
B41: - Accumulated depreciation and impairment | C41: 0 | D41: =C40+C41 -> 0 | E41: 0 | F41: =D41+E41 -> 0
B43: Building leasehold | C43: 0
B44: - Accumulated depreciation and impairment | C44: 0 | D44: =C43+C44 -> 0 | E44: 0 | F44: =D44+E44 -> 0
B46: Plant & Machinery Leasehold | C46: 0
B47: - Accumulated depreciation and impairment | C47: 0 | D47: =C46+C47 -> 0 | E47: 0 | F47: =D47+E47 -> 0
B50: Total | D50: =SUM(D12:D48) -> 0 | E50: =SUM(E12:E48) -> 0 | F50: =D50+E50 -> 0
B52: I. Impairment Losses recognised till date
D53: Rs Cr.
B54: Particulars | C54: Amount | D54: Residual Value
B56: XXXXXX | C56: 0 | D56: 0
B57: XXXXXX | C57: 0 | D57: 0
B58: Total | C58: =SUM(C56:C57) -> 0 | D58: =SUM(D56:D57) -> 0
A60: =A4+1 -> 5 | B60: Capital Work-in-Progress (CWIP)
B62: Particulars | C62: Amounts | D62: Net block April 01, 2016 | E62: Adjustments | F62: Deemed Cost as at April 01, 2016
...

Sheet Impact-BS notes 17
B1: The State Trading Corporation of India Limited
B2: Notes to Financial Statements
B3: ='[64]BS 04.16'!A3 -> Branch/Division _______________
A4: ='[64]PPE 04.16'!A114+1 -> 8 | B4: Investments - Non Current | E4: ='[65]Impact-PPE'!F4 -> (Amount Rupees)
B5: Particulars | C5: Figures as per IGAAP Period Ended March 31, 2017 | D5: Adjustments | E5: Figures as per Ind AS Period Ended March 31, 2017
B7: TRADE INVESTMENTS
B9: Quoted Investments
B11: Unquoted Investments
B13: A. Investment in Equity instrument ~ Subsidiaries
B15: XXXXXXX (Fully paid up XXXX Equity shares of XXX each)
B17: Investment in Equity instruments ~ Subsidiaries/Associates/JV
B18: XXXXXXX (Fully paid up XXXX Equity shares of XXX each)
B21: B. Investment in Equity instrument ~ Associates
B23: XXXXXXX (Fully paid up XXXX Equity shares of XXX each)
B25: XXXXXXX (Fully paid up XXXX Equity shares of XXX each)
B26: Less Impairement in value of investments
B29: C. Investment in Equity instrument ~ Joint Ventures
... B48: Detail of wholly owned subsidiary
B50: Name of Subsidiary | C50: Principal Activity | D50: Place of Incorporation | E50: Ownership And/or Control
B51: XXXXXXXXXXXX
B53: Details of Associates
B54: Name of Associates | C54: Principal Activity | D54: Place of Incorporation | E54: Ownership And/or Control
B55: XXXXXXXXXX
B57: Details of Joint Venture
B58: Name of Joint Venture | C58: Principal Activity | D58: Place of Incorporation | E58: Ownership And/or Control
B59: XXXXXXXXXX
B60: XXXXXXXXXX
B61: XXXXXXXXXX
B62: XXXXXXXXXX
A64: =A4+1 -> 9 | B64: Trade Receivable - Non Current
B66: Particulars | C66: =C5 -> Figures as per IGAAP Period Ended March 31, 2017 | D66: Adjustments | E66: =E5 -> Figures as per Ind AS Period Ended March 31, 2017
B68: A. Trade receivable from related parties
B69: i. Secured ~ Considered good
B70: ii. Unsecured Considered good
B71: iii. Doubtful
B72: Sub-total
B73: Less : Allowance for bad and doubtful receivables
B74: Total (A)
B76: B. Long Term Trade Receivables
B77: i. Secured ~ Considered good
...

Sheet Impact-PPE 17
B1: The State Trading Corporation of India Limited
B2: Notes to Financial Statements
A3: Branch/Division _______________
A4: 4 | B4: Property Plant and Equipment | F4: ='[65]Impact-P&L'!F4 -> (Amount Rupees)
B6: Particulars | C6: Amounts | D6: Figures as per Net block March 31, 2017 | E6: Adjustments | F6: Figures as per Ind As As At March 31, 2017
B8: Gross carrying Amounts of PPE:-
B9: Accumulated depreciation and impairment thereon
B11: Land freehold | C11: 0
B12: - Accumulated depreciation and impairment | C12: 0 | D12: =C11-C12 -> 0 | E12: 0 | F12: =D12+E12 -> 0
B14: Building freehold | C14: 0
B15: - Accumulated depreciation and impairment | C15: 0 | D15: =C14-C15 -> 0 | E15: 0 | F15: =D15+E15 -> 0
B18: Plant & Machinery | C18: 0
B19: - Accumulated depreciation and impairment | C19: 0 | D19: =C18+C19 -> 0 | E19: 0 | F19: =D19+E19 -> 0
B22: Furniture & Fittings | C22: 0
B23: - Accumulated depreciation and impairment | C23: 0 | D23: =C22+C23 -> 0 | E23: 0 | F23: =D23+E23 -> 0
B25: Motor Vehicle | C25: 0
B26: - Accumulated depreciation and impairment | C26: 0 | D26: =C25+C26 -> 0 | E26: 0 | F26: =D26+E26 -> 0
B28: Office Equipments | C28: 0
B29: - Accumulated depreciation and impairment | C29: 0 | D29: =C28+C29 -> 0 | E29: 0 | F29: =D29+E29 -> 0
B31: Computers, data processing units & communication equipment | C31: 0
B32: - Accumulated depreciation and impairment | C32: 0 | D32: =C31+C32 -> 0 | E32: 0 | F32: =D32+E32 -> 0
B34: Electrical Installations & Equipment | C34: 0
B35: - Accumulated depreciation and impairment | C35: 0 | D35: =C34+C35 -> 0 | E35: 0 | F35: =D35+E35 -> 0
B37: Roads, culverts & sewerage etc | C37: 0
B38: - Accumulated depreciation and impairment | C38: 0 | D38: =C37+C38 -> 0 | E38: 0 | F38: =D38+E38 -> 0
B40: Land leasehold | C40: 0
B41: - Accumulated depreciation and impairment | C41: 0 | D41: =C40+C41 -> 0 | E41: 0 | F41: =D41+E41 -> 0
B43: Building leasehold | C43: 0
B44: - Accumulated depreciation and impairment | C44: 0 | D44: =C43+C44 -> 0 | E44: 0 | F44: =D44+E44 -> 0
B46: Plant & Machinery Leasehold | C46: 0
B47: - Accumulated depreciation and impairment | C47: 0 | D47: =C46+C47 -> 0 | E47: 0 | F47: =D47+E47 -> 0
B50: Total | D50: =SUM(D12:D48) -> 0 | E50: =SUM(E12:E48) -> 0 | F50: =D50+E50 -> 0
B52: I. Impairment Losses recognised till date
D53: Rs Cr.
B54: Particulars | C54: Amount | D54: Residual Value
B56: XXXXXX | C56: 0 | D56: 0
B57: XXXXXX | C57: 0 | D57: 0
B58: Total | C58: =SUM(C56:C57) -> 0 | D58: =SUM(D56:D57) -> 0
A60: =A4+1 -> 5 | B60: Capital Work-in-Progress (CWIP)
B62: Particulars | C62: Amounts | D62: Net block March 31, 2017 | E62: Adjustments | F62: Deemed Cost as at March 31, 2017
...

Sheet Impact-PL Notes 17
A1: THE STATE TRADING CORPORATION OF INDIA LTD.
A2: Notes to accounts for the period ended March 31, 2017
A3: Branch/ Division :
A4: 25 | B4: Revenue From Operations | E4: ='[65]Impact-BS notes'!E4 -> (Amount Rupees)
B5: Particulars | C5: Figures as per I-GAAP For the period ended March 31, 2017 | D5: Ind AS Adjustments | E5: Figures as per Ind-AS For the period ended March 31, 2017
B6: (a) Sales
B7: Export
B8: Imported Goods
B9: Domestic
C10: =SUM(C7:C9) -> 0 | D10: =SUM(D7:D9) -> 0 | E10: =SUM(E7:E9) -> 0
B12: Inter Branch Stock despatch
B14: (b) Other operating revenue
B16: Exchange Fluctuation gain
B17: Claims:
B18: From Govt. of India
B19: From Insurance agencies
B20: Others *
B22: Total | C22: =SUM(C18:C21)+C10+C12 -> 0 | D22: =SUM(D18:D21)+D10+D12 -> 0 | E22: =SUM(E18:E21)+E10+E12 -> 0
A25: 26 | B25: Other Income
B26: Particulars | C26: =C5 -> Figures as per I-GAAP For the period ended March 31, 2017 | D26: Ind AS Adjustments | E26: =E5 -> Figures as per Ind-AS For the period ended March 31, 2017
A27: Interest on FD | B27: (a) Interest income:-
A28: Miscellaneous income | B28: Advance to Employees | C28: 0 | D28: 0 | E28: 0
A29: Trading Income | B29: Loan to subsidiaries
B30: Inter Corporate Deposits
B31: Term Deposits With Banks & its subsidiaries :
B32: - Deposits pledged / under Lien as margin money
B33: - Other Deposits
B34: Term Deposits With FIs & its subsidiaries:
B35: Interest on Investments
B36: Income Tax Refunds
B37: Interest on Trade Finance/Associates :
B38: - Interest on PCFC /EPC
B39: - Other than PCFC / EPC
B40: Other Miscellaneous interest
B42: (b) Miscellaneous income:-
... B49: Recoveries for common services from tenants
B50: Total | C50: =+SUM(C28:C49) -> 0 | D50: =+SUM(D28:D49) -> 0 | E50: =+SUM(E28:E49) -> 0
B51: Less: Expenses related to let out property
B52: Land & Development office charges@25%
B53: Property tax
...

Sheet Disclosure 36-40
A1: ='Disclosure 36'!A1 -> STC of India Limited
A2: ='Disclosure 36'!A2 -> Branch/Division :
A3: Notes to Accounts for the year ended March 31st, 2020
A5: 36 | B5: Derivative Financial Instrutments
B6: Particulars | E6: For the year ended March 31, 2020 | G6: For the year ended March 31, 2019
B7: Assets:
B11: Liabilities:
B15: Bifurcation above derivative instrutments in current and non-current
A17: =A5+1 -> 37 | B17: Foreign Currency Exposure
B18: Particulars | C18: For the year ended March 31, 2020 | F18: For the year ended March 31, 2019
C19: Foreign Currency Denomination | D19: Amount in Foreign Currency | E19: Amount in indian Rupees | F19: Foreign Currency Denomination | G19: Amount in Foreign Currency | H19: Amount in indian Rupees
B20: A. Receivable :
B23: SubTotal (A)
B24: B. Payable :
B27: SubTotal (B)
A29: =A17+1 -> 38 | B29: Trade Payables
B30: The Company has amounts due to suppliers under The Micro, Small and Medium Enterprises Development Act, 2006, (MSMED Act) as under :
H31: (Amount Rs.)
B32: Particulars | G32: 2019-20 | H32: 2018-19
B33: Principal amount due to suppliers under MSMED Act, 2006
B34: Interest accrued and due to suppliers under MSMED Act on the above amount, unpaid
B35: Payment made to suppliers (other than interest) beyond the appointed day, during year
B36: Interest paid to suppliers under MSMED Act (other than Section 16)
B37: Interest paid to suppliers under MSMED Act (Section 16)
B38: Interest accrued and remaining unpaid at the end of each of the year to suppliers under MSMED Act
B39: Note :The information has been given in respect of such vendors to the extent they could be identified as micro, small and Medium enterprises on the basis of information available with the Company.
A41: =A29+1 -> 39 | B41: Disclosure in respect of Indian Accounting Standard (Ind AS)-37 "Provisions, Contingent Liabilities and Contingent Assets"
A43: (i) | B43: Provisions | G43: (Amount Rs.)
B44: Particulars | C44: Opening balance as on 01.04.19 | D44: Additions/ Transfers during the year | E44: Utilization during the year | F44: Adjustment during the year | G44: Written-back during the year | H44: Closing balance as on 31.03.20
B45: Contingencies | C45: =H52 -> 0
C46: =H53 -> 0
C47: =H54 -> 0
C48: =H55 -> 0
B49: Total
B51: Particulars | C51: Opening balance as on 01.04.18 | D51: Additions/ Transfers during the year | E51: Utilization during the year | F51: Adjustment during the year | G51: Written-back during the year | H51: Closing balance as on 31.03.19
B52: Contingencies
B56: Total
A58: (ii) | B58: Contingent Liabilities: | H58: (Amount Rs.)
B59: Particulars | G59: 31.03.2020 | H59: 31.03.2019
B60: Claims against the company not acknowledged as debt
...

Sheet Disclosure 41
A1: ='Disclosure 36-40'!A1 -> STC of India Limited
A2: ='Disclosure 36-40'!A2 -> Branch/Division :
A3: ='Disclosure 36-40'!A3 -> Notes to Accounts for the year ended March 31st, 2020
A5: ='Disclosure 36-40'!A79+1 -> 41 | B5: Disclosures in respect of Ind AS 107 - Financial Instruments
A7: =+A5+0.1 -> 41.1 | B7: Financial Instruments by Categories
B8: The carrying value and fair value of financial instruments by categories were as follows:
B9: (a) As on March 31, 2020 | H9: (Amount Rs.)
B10: Particulars | D10: Amortized cost | E10: Financial assets/ liabilities at FVTPL | F10: Financial assets/liabilities at fair value through OCI | G10: Total carrying value | H10: Total fair value
B11: Financial Assets:
B12: Investments in Equity Instruments (Ref Note No. 8)
B13: Cash & Cash Equivalents (Ref Note No. 16)
B14: Bank Balances other than cash & cash equivalents (Ref Note No. 17)
B15: Trade Receivable (Ref Note No. 9)
B16: Employee Loans (Ref Note No. 10)
B17: Security Deposits(Ref Note No. 10)
B18: Other Financial Assets (Ref Note No. 11)
B19: Total | D19: =SUM(D12:D18) -> 0 | E19: =SUM(E12:E18) -> 0 | F19: =SUM(F12:F18) -> 0 | G19: =SUM(G12:G18) -> 0 | H19: =SUM(H12:H18) -> 0
B20: Finacial Liabilities:
B21: Trade Payable (Ref Note No. 21)
B22: Borrowings (Ref Note No. 20 & 22)
B23: Other Financial Liabilities (Ref Note No. 22)
B24: Total | D24: =SUM(D21:D23) -> 0 | E24: =SUM(E21:E23) -> 0 | F24: =SUM(F21:F23) -> 0 | G24: =SUM(G21:G23) -> 0 | H24: =SUM(H21:H23) -> 0
B26: (b) As on March 31, 2019 | H26: (Amount Rs.)
B27: Particulars | D27: Amortized cost | E27: Financial assets/ liabilities at FVTPL | F27: Financial assets/liabilities at fair value through OCI | G27: Total carrying value | H27: Total fair value
B28: Financial Assets:
B29: Investments in Equity Instruments (Ref Note No. 8)
B30: Cash & Cash Equivalents (Ref Note No. 16)
B31: Bank Balances other than cash & cash equivalents (Ref Note No. 17)
B32: Trade Receivable (Ref Note No. 9)
B33: Employee Loans (Ref Note No. 10)
B34: Security Deposits(Ref Note No. 10)
B35: Other Financial Assets (Ref Note No. 11)
B36: Total | D36: =SUM(D29:D35) -> 0 | E36: =SUM(E29:E35) -> 0 | F36: =SUM(F29:F35) -> 0 | G36: =SUM(G29:G35) -> 0 | H36: =SUM(H29:H35) -> 0
B37: Finacial Liabilities:
B38: Trade Payable (Ref Note No. 21)
B39: Borrowings (Ref Note No. 20 & 22)
B40: Other Financial Liabilities (Ref Note No. 22)
B41: Total | D41: =SUM(D38:D40) -> 0 | E41: =SUM(E38:E40) -> 0 | F41: =SUM(F38:F40) -> 0 | G41: =SUM(G38:G40) -> 0 | H41: =SUM(H38:H40) -> 0
B43: The carrying amounts of trade receivables, cash and cash equivalents, borrowings (short term credit), trade payables are considered to be the same as their fair values, due to their short-term nature.
A45: =A7+0.1 -> 41.2 | B45: Fair Value Hierarchy
...

Sheet Disclosure 42-45
A1: =Scrap!A1 -> STC of India Limited
A2: =Scrap!A2 -> Branch/Division :
A3: =Scrap!A3 -> Notes to Accounts for the year ended March 31st, 2020
A5: ='Disclosure 41'!A5+1 -> 42 | B5: Disclosure in respect of Indian Accounting Standard (Ind AS)-21 "The Effects of changes in Foreign Exchange Rates"
B6: The amount of exchange differences (net) debited/credited to the Statement of Profit & Loss Rs._____. (P.Y. Rs._____.)
A8: =A5+1 -> 43 | B8: Disclosure in respect of Indian Accounting Standard (Ind AS)-23 "Borrowing Costs"
B9: The amount capitalized with Property, Plant & Equipments as borrowing cost is Rs. ____ . & Rs. ____ . for the year ended March 31, 2020 & March 31, 2019 respectively.
A11: =A8+1 -> 44 | B11: Disclosure in respect of Indian Accounting Standard (Ind AS)-36 "Impairment of assets"
B12: During the year, the company assessed the impairment loss of Rs. ______ (P.Y. Rs._____.) on assets. Refer Note 32.
A14: =A11+1 -> 45 | B14: Disclosure in respect of Indian Accounting standard (Ind AS)-108: "Operating Segments"
A15: Operating Segments
A16: 1) | B16: Export
A17: 2) | B17: Import
A18: 3) | B18: Domestic
A20: Identification of Segments
A21: The Chief Operating Decision Maker monitors the operating results of its Business Segments separately for the purpose of making decisions about resource allocation and performance assessment. Segment performance is evaluated based on profit or loss and is measured consistently with profit or loss in the financial statements. Operating segments have been identified on the basis of the nature of products/services and have been identified as per the quantitative criteria specified in the Ind AS.
A23: Segment revenue and results
A24: The expenses and incomes which are not directly attributable to any business segment are shown as unallocable expenditure (net of unallocated income).
A26: Segment assets and liability
A27: Segment assets include all operating assets used by the operating segments and mainly consists of PPE, trade receivables, cash & cash equivalents and inventories. Segment liability primarily includes trade payables and other liabilities. Common assets and liabilities which can not be allocated to any of the segments are shown as a part of unallocable assets and liabilities.
A29: Intersegment Transfers
A30: Intersegment prices are normally negotiated among segments with reference to the cost, market price and business risk. Profit or loss on intersegment transfers are eliminated at the company level.
A32: Segment Revenues and Results
A33: (a) for the year ended March 31, 2020 | H33: (Amount Rs.)
A34: S. No. | B34: Particulars | D34: Export | E34: Import | F34: Domestic | G34: Unallocated | H34: Total
A35: 1 | B35: Segment Revenue
A36: 1(a) | B36: External Sales
A37: 1(b) | B37: Inter segment revenue
B38: Segment Revenue (1(a) +1 (b))
A39: 2 | B39: Segments Results
A40: 3 (a) | B40: Unallocated Corporate expenses net of unallocated income
A41: 3 (b) | B41: Interest Expense
A42: 3 (c) | B42: Interest Income
B43: Total [3(a)+3(b)+3(c )] | D43: =SUM(D40:D42) -> 0 | E43: =SUM(E40:E42) -> 0 | F43: =SUM(F40:F42) -> 0 | G43: =SUM(G40:G42) -> 0 | H43: =SUM(H40:H42) -> 0
A44: 4 | B44: Profit before tax from ordinary activities [(2)- 3(a ),(b) & (c )] | D44: =D39-D43 -> 0 | E44: =E39-E43 -> 0 | F44: =F39-F43 -> 0 | G44: =G39-G43 -> 0 | H44: =H39-H43 -> 0
A45: 5 | B45: Exceptional Items
A46: 6 | B46: Income taxes
A47: 7 | B47: Net Profit after tax (4)- (5) -(6) | D47: =D44-D45-D46 -> 0 | E47: =E44-E45-E46 -> 0 | F47: =F44-F45-F46 -> 0 | G47: =G44-G45-G46 -> 0 | H47: =H44-H45-H46 -> 0
A48: 8 | B48: Interest in results of JV's
A49: 9 | B49: Other Information :
...

Sheet Disclosure 46
A1: NOTE NO. 46 :
A2: Disclosure as per IND AS 19 Employee Benefits
A4: (i) | B4: Defined Contribution plans:
B5: A. Pension
B6: Company has defined contribution pension plan for its existing employees in pursuance to the guidelines issued by the Department of Public Enterprises. In this regard STC Employees Defined Contribution Superannuation Pension Trust has been formed. Under the scheme the employer's contribution is 9% of basic pay VDA of eligible employees and the funds of the trust are managed by LIC. An employee leaves the company before completion of 15 years only employee avail the benefit of this scheme. In case the employee leaves the company before completion of 15 years only employee contribution along with interest is payable to him. However, this condition does not apply to the employees who join other CPSE having the same Pension Scheme. (Refer Note 30 for expense on this account).
A8: (i) Defined benefit plans:
B9: A. Provident fund
B10: Company pays fixed contribution to Provident Fund at pre determined rates to a separate trust, which invests the funds in permitted securities. The contribution to the fund for the year is recognised as expenses and is charged to the Statement of Profit & Loss.(Refer Note 30 for expenses on this account) The obligation of the Company is to make such fixed contribution and to ensure a minimum rate of return to the members as specified by the Government.
B12: B. Gratuity
B13: The Company has a defined benefit gratuity plan. Every employee who has rendered continuous service of five years or more is entitled to get gratuity at 15 days salary (15/26 x last drawn basic salary plus dearness allowance) for each completed year of service subject to a maximum of Rs. 20 lakhs on superannuation, resignation, termination, disablement or death.
B15: Based on the actuarial valuation, the following table sets out the status of the gratuity and the amounts recognised in the Company’s financial statements as at balance sheet date:
H16: (Amount in Rs.)
B17: Net defined benefit (asset)/liability : | E17: 31.03.2020 | G17: 31.03.2019
B18: Current
B19: Non-Current
B20: Total PBO at the End of year | E20: =+E18+E19 -> 0 | G20: =+G18+G19 -> 0
B22: Movement in net defined benefit (asset)/liability
H23: (Amount in Rs.)
A24: S.No. | B24: Particulars | C24: Defined Benefit Obligation | E24: Fair value of plan assets | G24: Net defined benefit (asset) liability
C25: 31.03.20 | D25: 31.03.19 | E25: 31.03.20 | F25: 31.03.19 | G25: 31.03.20 | H25: 31.03.19
A26: A | B26: Opening balance
A27: B | B27: Included in profit or loss:
A28: (i) | B28: Current service cost
A29: (ii) | B29: Past service cost
A30: (iii) | B30: Interest cost (income)
B31: Total amount recognised in profit or loss (i+ii+iii) | C31: =SUM(C28:C30) -> 0 | D31: =SUM(D28:D30) -> 0 | E31: =SUM(E28:E30) -> 0 | F31: =SUM(F28:F30) -> 0 | G31: =SUM(G28:G30) -> 0 | H31: =SUM(H28:H30) -> 0
A32: C | B32: Included in OCI:
B33: Remeasurement loss (gain):
B34: Actuarial loss (gain) arising from :
A35: (i) | B35: Financial assumptions
A36: (ii) | B36: Experience adjustment
A37: (iii) | B37: Return on plan assets excluding interest income
B38: Total amount recognised in other comprehensive income (i+ii+iii) | C38: =SUM(C35:C37) -> 0 | D38: =SUM(D35:D37) -> 0 | E38: =SUM(E35:E37) -> 0 | F38: =SUM(F35:F37) -> 0 | G38: =SUM(G35:G37) -> 0 | H38: =SUM(H35:H37) -> 0
A39: D | B39: Other
A40: E | B40: Contribution Paid to the Fund
A41: F | B41: Benefits paid
A42: G | B42: Closing balance (A+B+C+D+E+F) | C42: =+C26+C31+C38+C41 -> 0 | D42: =+D26+D31+D38+D41+D39 -> 0 | E42: =+E26-E30-E37+E41 -> 0 | F42: =+F26-F30-F37+F41+F40 -> 0 | G42: =+G26+G31+G38-G41+G39 -> 0 | H42: =+H26+H31+H38-H41+H39+H40 -> 0
B44: The Fair Value of Plan Assets at the end of the reporting period is as follows:-
H45: (Amount in Rs.)
A46: S.No. | B46: Particulars | E46: As at 31.03.2020 | G46: As at 31.03.2019
...

Sheet Disclosure 47-49
A1: ='Disclosure 42-45'!A1 -> STC of India Limited
A2: ='Disclosure 42-45'!A2 -> Branch/Division :
A3: ='Disclosure 42-45'!A3 -> Notes to Accounts for the year ended March 31st, 2020
A5: 47. Disclosure in respect of Indian Accounting Standard 24 "Related Parties Disclosures"
A6: a. List of Related Party
A7: Name of related party | G7: Type of Relationship | I7: Remarks
A8: A. Subsidiaries
A10: B. Joint Ventures
A12: C. Associates
A14: D. Key Managerial Personnel (KMP)
A17: E. Post employment Benefit Trusts
A19: F. Entities under the control of the same Government
A22: b) Transactions with the related parties are as follows:
A24: Subsidiaries and Joint Venture Companies | G24: Subsidiaries | I24: Joint Venture Companies
A25: Particulars | G25: 2019-20 | H25: 2018-19 | I25: 2019-20 | J25: 2018-19
A26: Rent Received (Rs.)
A27: Others
A29: Compensation to Key Management Personnel | J29: (Amount Rs.)
A30: Particulars | G30: For the year ended March 31, 2020 | I30: For the year ended March 31, 2019
A31: Short-term Employee benefits
A32: Post-employment benefits
A33: Termination benefits
A34: Other long-term benefits
A35: Share-based payments
A36: Total
A38: E. Post employment Benefit Trusts
A39: Particulars | E39: The STC of India Ltd. Employees Provident Fund Trust | G39: STC Employee Defined Contribution Superannuation Pension Trust | I39: The STC Gratuity Fund Trust
E40: 2019-20 | F40: 2018-19 | G40: 2019-20 | H40: 2018-19 | I40: 2019-20 | J40: 2018-19
A41: STC Contribution for the year
A42: Outstanding Balance at the end of the Year with STC
A44: Transactions with the Related Parties under the control of the same Government | J44: (Amount Rs.)
A45: S. No. | B45: Name of the Govt. Deptt. / Govt. entity | F45: Nature of relationship with Entity | H45: Nature of Transaction | I45: 2019-20 | J45: 2018-19
A51: c) Outstanding balances with related parties are as follows: | J51: (Amount Rs.)
A52: Particulars | G52: 43921 | I52: 43555
A53: Amount recoverable towards loans :
A54: - From Subsidiaries
A55: - From Joint Ventures
A56: - From Key Managerial personnel
A57: - From Others
A58: Amount recoverable other than loans :
...

Sheet Disclosure 50-52
A1: ='Disclosure 47-49'!A1 -> STC of India Limited
A2: ='Disclosure 47-49'!A2 -> Branch/Division :
A3: ='Disclosure 47-49'!A3 -> Notes to Accounts for the year ended March 31st, 2020
A5: ='Disclosure 47-49'!A115+1 -> 50 | B5: Disclosure in respect of Indian Accounting Standard (Ind AS)-33 "Earnings Per Share(EPS)"
A6: a) | B6: Basic EPS
B7: The earnings and weighted average number of ordinary shares used in the calculation of basic EPS is as follows:
E8: (Amount in Rs.)
B9: Particulars | D9: For the year ended March 31, 2020 | E9: For the year ended March 31, 2019
B10: Face Value Per Equity Share (Rs.)
B11: Profit (loss) for the year, attributable to the owners of the company (A)
B12: Weighted average number of ordinary shares for the purpose of basic earnings per share(B)
B13: Basic EPS (A/B)
A15: b) | B15: Diluted EPS
B16: The earnings and weighted average number of ordinary shares used in the calculation of Diluted EPS is as follows:
E17: (Amount in Rs.)
B18: Particulars | D18: =D9 -> For the year ended March 31, 2020 | E18: =E9 -> For the year ended March 31, 2019
B19: Profit (loss) for the year, attributable to the owners of the company (A)
B20: Weighted average number of ordinary shares for the purpose of basic earnings per share(B)
B21: Diluted EPS (A/B)
A23: =A5+1 -> 51 | B23: Dividends
B24: Particulars | D24: =D18 -> For the year ended March 31, 2020 | E24: =E18 -> For the year ended March 31, 2019
B25: (i) No. of Equity Shares
B26: (ii) Dividends not recognised at the end of reporting period.
A28: =A23+1 -> 52 | B28: Assets Pledged as Security
B29: Particulars | D29: =D24 -> For the year ended March 31, 2020 | E29: =E24 -> For the year ended March 31, 2019
B30: Current/Non-current
B31: Financial/Non-Financial Assets
B32: First Charge/Floating Charge

Sheet Revenue Income
B1: Disclosure Requirements as per Ind AS 115
B2: Revenue Recognition
B3: Income
A4: 1 | B4: Sales :
B5: Exports | H5: Status of Revenue Recognition
B6: Contract No. | C6: Date | D6: Name of the Party | E6: Commodity | F6: Quantity | G6: Value (Rs) | H6: Unrecognized Amount | I6: Recognized Amount | J6: Pending Performance of the Contract
A7: 1
A8: =+A7+1 -> 2
A9: =+A8+1 -> 3
A10: =+A9+1 -> 4
B11: Total
B13: Imports | H13: Status of Revenue recognition
B14: Contract No. | C14: Date | D14: Name of the Party | E14: Commodity | F14: Quantity | G14: Value (Rs) | H14: Unrecognized Amount | I14: Recognized Amount | J14: Pending Performance of the Contract
A15: 1
A16: =+A15+1 -> 2
A17: =+A16+1 -> 3
A18: =+A17+1 -> 4
B19: Total
B21: Domestic | H21: Status of Revenue recognition
B22: Contract No. | C22: Date | D22: Name of the Party | E22: Commodity | F22: Quantity | G22: Value (Rs) | H22: Unrecognized Amount | I22: Recognized Amount | J22: Pending Performance of the Contract
A23: 1
A24: =+A23+1 -> 2
A25: =+A24+1 -> 3
A26: =+A25+1 -> 4
B27: Total
B29: Other Operating Revenue
B32: Rental Income | H32: Status of Revenue recognition
A33: 1 | B33: Contract No. | C33: Date | D33: Name of the Party | E33: Period of Tenancy | F33: Area Let out (M | G33: Rate per Square Meter | H33: Unrecognized Amount | I33: Recognized Amount | J33: Recovery of Common Services
B38: Other Receipts | H38: Status of Revenue recognition
A39: 1 | B39: Contract No. | C39: Date | D39: Name of the Party | H39: Unrecognized Amount | I39: Recognized Amount

Sheet Rev. Exp.
A1: Revenue Exp.
A3: Other Revenue exp
A4: Other Operating Exp.
A9: Administrative expenses
A13: Housing Colony Expenses
A14: Security charges
A15: Housekeeping
A17: Maintenace of office Building
A22: Other Misc. Charges
A23: Security charges
A24: Housekeeping
A25: Others
... A29: Adv. & Publicity

Sheet Scrap
A1: ='Disclosure 41'!A1 -> STC of India Limited
A2: ='Disclosure 41'!A2 -> Branch/Division :
A3: ='Disclosure 41'!A3 -> Notes to Accounts for the year ended March 31st, 2020
A5: ='Disclosure 41'!A5+1 -> 42 | B5: Disclosure in respect of Indian Accounting Standard (Ind AS)-21 "The Effects of changes in Foreign Exchange Rates"
B6: The amount of exchange differences (net) debited/credited to the Statement of Profit & Loss Rs._____. (P.Y. Rs._____.)
A8: =A5+1 -> 43 | B8: Disclosure in respect of Indian Accounting Standard (Ind AS)-23 "Borrowing Costs"
B9: The amount capitalized with Property, Plant & Equipments as borrowing cost is Rs. ____ . & Rs. ____ . for the year ended March 31, 2019 & March 31, 2018 respectively.
A11: =A8+1 -> 44 | B11: Disclosure in respect of Indian Accounting Standard (Ind AS)-36 "Impairment of assets"
B12: During the year, the company assessed the impairment loss of Rs. ______ (P.Y. Rs._____.) on assets. Refer Note 32.
A14: =A11+1 -> 45 | B14: Disclosure as per Ind AS-19 "Employee Benefits"
B15: (i) Defined Contribution Plans:
B16: A. Pension
B17: Company has defined contribution pension plan for its existing employees in pursuance to the guidelines issued by the Department of Public Enterprises. In this regard STC Employees Defined Contribution Superannuation Pension Trust has been formed. Under the scheme the employer's contribution is 9% of basic pay VDA of eligible employees and the funds of the trust are mangered by LIC. An employee leaves the company before completion of 15 years only employee avail the benefit of this scheme. In case the employee leaves the company before completion of 15 years only employee conribution alongiwht interest is payable to him. However, this condition does not apply to the employees who join other CPSE having the same Pension Scheme. (Refer Note 30 for expense on this account).
B19: (i) Defined Benefit Plans:
B20: a) | C20: Provident Fund:
C21: Company pays fixed contribution to Provident Fund at pre determined rates to a separate trust, which invests the funds in permitted securities. The contribution to the fund for the year is recognised as expenses and is charged to the Statement of Profit & Loss.(Refer Note 30 for expenses on this account) The obligation of the Company is to make such fixed contribution and to ensure a minimum rate of return to the members as specified by the Government.
B23: b) | C23: Gratuity:
C24: The Company has a defined benefit gratuity plan. Every employee who has rendered continuous service of five years or more is entitled to get gratuity at 15 days salary (15/26 x last drawn basic salary plus dearness allowance) for each completed year of service subject to a maximum of Rs. 20 lakhs on superannuation, resignation, termination, disablement or death.
B26: c) | C26: Post-Retirement Medical Facility (PRMF):
C27: The company has Post-Retirement Medical Facility (PRMF), under which retired employee and his/her spouse are eligible for medical facilities in the empanelled hospitals. They can also avail treatment as Out-Patient subject to a ceiling fixed by the Company. Post-retirement medical benefits are recognised in the books as per the actuarial valuation.
C28: As per Actuarial Valuation company's best estimates for FY 2017-2018 towards the Post Retirement Medical facility is Rs._____Cr. (Rs._____Cr. for 2016-2017) for on roll and retired employees.
B29: d) | C29: Leave:
C30: The Company provides for Earned Leave (EL) and Half Pay Leave (HPL) benefit to the employees of the Company which accrue annually at 30 days and 20 days respectively. The maximum ceiling for encashment of leave at time of superannuation/cessation from service other than on disciplinary ground shall be limited to 300 days (EL & HPL combined). 50% of EL subject to a maximum 150 days is en-cashable on resignation. EL is en-cashable while in service leaving a minimum balance of 15 days twice in a year.
C31: As per Actuarial Valuation company's best estimates for FY 2017-2018 towards the earned leave is Rs._____Cr. (Rs._____Cr. for 2016-2017) and half pay leave is Rs._____Cr. (Rs._____Cr. for 2016-2017)
B33: e) | C33: Other Benefits:
C34: Service awards are given to regular employees for rendering continuous service in the Company for long service rendered by them on completion of 15/25/30/35/38 years of service. Besides this, service award @ Rs. 1,000/- per year for each completed year of service is also given at the time of retirement subject to a maximum of Rs. 30,000/-.
C35: As per Actuarial Valuation company's best estimates for FY 2017-2018 is Rs._____Cr. (Rs._____Cr. for 2016-2017) for on roll employees.
B37: f) | C37: Pension:
C38: Company has defined contribution pension plan for its existing employees in pursuance to the guidelines issued by the Department of Public Enterprises. In this regard STC Employees Defined Contribution Superannuation Pension Trust has been formed. Under the scheme the employer’s contribution is 9% of basic pay plus VDA of eligible employees and the funds of the trust are managed by LIC.

Sheet Annexure to note 45
A1: =Scrap!A1 -> STC of India Limited
A2: =Scrap!A2 -> Branch/Division :
A3: =Scrap!A3 -> Notes to Accounts for the year ended March 31st, 2020
B5: The summarized position of various defined benefits recognized in the Statement of Profit & Loss, Other Comprehensive Income (OCI) and Balance Sheet & other disclosures are as under:
I6: (Amount Rs.)
B7: Particulars | D7: Gratuity | E7: Pension | F7: Provident Fund | G7: PRMF | H7: Earned Leave | I7: Half Pay Leave | J7: Other
D8: (Funded) | G8: (Non Funded)
B9: Defined Benefit Obligation | C9: C.Y.
C10: P.Y.
B11: Fair Value of Plan Assets | C11: C.Y.
C12: P.Y.
B13: Funded Status [Surplus/(Deficit)] | C13: C.Y.
C14: P.Y.
B15: Effect of asset ceiling | C15: C.Y.
C16: P.Y.
B17: Net Defined Benefit Assets/(Liabilities) | C17: C.Y.
C18: P.Y.
B20: Movement in defined benefit obligation | I20: (Amount Rs.)
B21: Particulars | D21: Gratuity | E21: Pension | F21: Provident Fund | G21: PRMF | H21: Earned Leave | I21: Half Pay Leave | J21: Other
D22: (Funded) | G22: (Non Funded)
B23: Defined benefit obligation - Beginning of the year | C23: C.Y.
C24: P.Y.
B25: Current service cost | C25: C.Y.
C26: P.Y.
B27: Interest Cost | C27: C.Y.
C28: P.Y.
B29: Benefits Paid | C29: C.Y.
C30: P.Y.
B31: Re-measurements - actuarial loss/(gain) | C31: C.Y.
C32: P.Y.
B33: Defined benefit obligation – End of the year | C33: C.Y.
C34: P.Y.
B36: Movement in plan asset | E36: (Amount Rs.)
B37: Particulars | D37: Gratuity | E37: Pension | F37: Provident Fund
D38: (Funded) | E38: (Funded) | F38: (Funded)
B39: Fair value of plan assets at beginning of year | C39: C.Y.
C40: P.Y.
B41: Interest income | C41: C.Y.
C42: P.Y.
B43: Employer contributions | C43: C.Y.
...
