Workbook

Sheet 1
A1: STATEMENT OF TRADE PAYABLES
A2: AS ON 31.03.2015
A3: ANNEXURE - I
A4: Branch/Division______________________
A5: (Amount in Rs.)
A6: S.No. | B6: Name of Party | C6: Commodity | D6: Total Amount | E6: Current Liability | F6: Non Current Liability | G6: Upto 6 Months | H6: 6-12 Months | I6: 1-2 Years | J6: 2-3 Years | K6: Above 3 years | L6: Government/ P.S.U/Others | M6: Reason for the amount being outstanding for more than 3 years | N6: Nature
F7: Asset | H7: months | I7: yrs | J7: yrs | K7: 3 yrs | N7: Held
A9: (1) | B9: (2) | C9: (3) | D9: (4) | E9: (5) | F9: (6) | G9: (7) | H9: (8) | I9: (9) | J9: (10) | K9: (11) | L9: (12) | M9: (13) | N9: (14)
A11: (A) | B11: Bills acceptances
A17: (B) | B17: Micro, Small & Medium Enterprise
A22: (C) | B22: Others (Supplier's Account)
B30: Total
B33: Note: 1) Trade payables means outstanding balance of parties from whom goods have been purchased.
B34: 2) Total of Trade Payables must tally with the Notes to accounts.
B35: 3) Amount of each & every party may be classified as current and non current according to the requirements of schedule III.
B36: 4) An amount will be non current if it is due to be settled beyond the operating cycle or for more than 12 Months from the reporting date as the case may be.
B37: 5) Suitable Notes may be incorporated in notes to accounts on the basis of materiality.
B42: Head of Finance (Branch/C.O.) | F42: Branch Manager | L42: Branch Auditor/Statutory Auditor

Sheet 2
A1: STATEMENT OF CUSTOMERS AT CREDIT
A2: AS ON 31.03.2015
A3: ANNEXURE II
A4: Branch/Division______________________
A5: (Amount in Rs.)
A6: S.No. | B6: Name of Party | C6: Commodity | D6: Total Amount | E6: Current Liability | F6: Non Current Liability | G6: Upto 6 Months | H6: 6-12 Months | I6: 1-2 Years | J6: 2-3 Years | K6: Above 3 years | L6: Government/ P.S.U/Others | M6: Reason for the amount being outstanding for more than 3 years | N6: Nature
F7: Asset | H7: months | I7: yrs | J7: yrs | K7: 3 yrs | N7: Held
B29: Total
B33: Note: 1) Total of Customers at credit must tally with the Notes to accounts.
B34: 2) Amount of each & every party may be classified as current and non current according to the requirements of schedule III.
B35: 3) An amount will be non current if it is due to be settled beyond the operating cycle or for more than 12 Months from the reporting date as the case may be.
B36: 4) Suitable Notes may be incorporated in notes to accounts on the basis of materiality.
B41: Head of Finance (Branch/C.O.) | F41: Branch Manager | K41: Branch Auditor/Statutory Auditor

Sheet 3
A1: STATEMENT OF ADVANCES FROM CUSTOMERS
A2: AS ON 31.03.2015
A3: ANNEXURE III
A4: Branch/Division________________________
A5: (Amount in Rs.)
A6: S.No. | B6: Name of Party | C6: Commodity | D6: Total Amount | E6: Current Liability | F6: Non Current Liability | G6: Upto 6 Months | H6: 6-12 Months | I6: 1-2 Years | J6: 2-3 Years | K6: Above 3 years | L6: Government/ P.S.U/Others | M6: Reason for the amount being outstanding for more than 3 years | N6: Nature
F7: Asset | H7: months | I7: yrs | J7: yrs | K7: 3 yrs | N7: Held
B30: Total
B33: Note: 1) Total of Advances from Customers must tally with the Notes to accounts.
B34: 2) Amount of each & every party may be classified as current and non current according to the requirements of schedule III.
B35: 3) An amount will be non current if it is due to be settled beyond the operating cycle or for more than 12 Months from the reporting date as the case may be.
B40: Head of Finance (Branch/C.O.) | F40: Branch Manager | K40: Branch Auditor/Statutory Auditor

Sheet 4
A1: STATEMENT OF OUTSTANDING LIABILITIES FOR GOODS & SERVICES RECEIVED
A2: AS ON 31.03.2015
A3: ANNEXURE IV
A4: Branch/Division___________________________
A5: (Amount in Rs.)
A6: S.No. | B6: Name of Party | C6: Commodity | D6: Total Amount | E6: Current Liability | F6: Non Current Liability | G6: Upto 6 Months | H6: 6-12 Months | I6: 1-2 Years | J6: 2-3 Years | K6: Above 3 years | L6: Government/ P.S.U/Others | M6: Reason for the amount being outstanding for more than 3 years | N6: Nature
F7: Asset | H7: months | I7: yrs | J7: yrs | K7: 3 yrs | N7: Held
B21: Total
B25: Note: 1) Total of Oustanding liability must tally with the Notes to accounts
B26: 2) Amount of each & every party may be classified as current and non current according to the requirements of schedule III.
B27: 3) An amount will be non current if it is due to be settled beyond the operating cycle or for more than 12 Months from the reporting date as the case may be.
B32: Head of Finance (Branch/C.O.) | G32: Branch Manager | L32: Branch Auditor/Statutory Auditor

Sheet 5
A1: STATEMENT OF STALE CHEQUES
A2: AS ON 31.03.2015
A3: ANNEXURE V
A4: Branch/Division___________________
A5: (Amount in Rs.)
A6: S.No. | B6: Name of Party | C6: Commodity | D6: Total Amount | E6: Current Liability | F6: Non Current Liability | G6: Upto 6 Months | H6: 6-12 Months | I6: 1-2 Years | J6: 2-3 Years | K6: Above 3 years | L6: Reason for the amount being outstanding for more than 3 years | M6: Nature
F7: Asset | H7: months | I7: yrs | J7: yrs | K7: 3 yrs | M7: Held
B29: Total
B33: Note: 1) Total must tally with the Notes to accounts.
B34: 2) Amount of each & every party may be classified as current and non current according to the requirements of schedule III.
B35: 3) An amount will be non current if it is due to be settled beyond the operating cycle or for more than 12 Months from the reporting date as the case may be.
B39: Head of Finance (Branch/C.O.) | F39: Branch Manager | K39: Branch Auditor/Statutory Auditor

Sheet 6
A1: STATEMENT OF LIABILITY FOR PAY, ALLOWANCES & OTHER DUES TO EMPLOYEES
A2: AS ON 31.03.2015
A3: ANNEXURE VI
A4: Branch/Division___________________
A5: (Amount in Rs.)
A6: S.No. | B6: Head of Account | C6: Total Amount | D6: Current Liability | E6: Non Current Liability | F6: Upto 6 Months | G6: 6-12 Months | H6: 1-2 Years | I6: 2-3 Years | J6: Above 3 years | K6: Reason for the amount being outstanding for more than 3 years | L6: Nature
E7: Asset | G7: months | H7: yrs | I7: yrs | J7: 3 yrs | L7: Held
B30: Total
B33: Note: 1) Total must tally with the Notes to accounts.
B34: 2) Amount of each & every party may be classified as current and non current according to the requirements of schedule III.
B35: 3) An amount will be non current if it is due to be settled beyond the operating cycle or for more than 12 Months from the reporting date as the case may be.
B40: Head of Finance (Branch/C.O.) | E40: Branch Manager | J40: Branch Auditor/Statutory Auditor

Sheet 7
A1: STATEMENT OF UNDISBURSED SALARY
A2: AS ON 31.03.2015
A3: ANNEXURE VII
A4: Branch/Division____________________
A5: (Amount in Rs.)
A6: S.No. | B6: Name of Employee | C6: Total Amount | D6: Current Liability | E6: Non Current Liability | F6: Upto 6 Months | G6: 6-12 Months | H6: 1-2 Years | I6: 2-3 Years | J6: Above 3 years | K6: Reason for the amount being outstanding for more than 3 years | L6: Nature
E7: Asset | G7: months | H7: yrs | I7: yrs | J7: 3 yrs | L7: Held
B31: Total
B33: Note: 1) Total must tally with the Notes to accounts.
B34: 2) Amount of each & every party may be classified as current and non current according to the requirements of schedule III.
B35: 3) An amount will be non current if it is due to be settled beyond the operating cycle or for more than 12 Months from the reporting date as the case may be.
B40: Head of Finance (Branch/C.O.) | E40: Branch Manager | J40: Branch Auditor/Statutory Auditor

Sheet 8
A1: STATEMENT OF BILLS ACCEPTED
A2: AS ON 31.03.2015
A3: ANNEXURE VIII
A4: Branch/Division_________________
A5: (Amount In Rs.)
A6: S.No. | B6: Name of Party/ Associates | C6: Commodity | D6: Bill of Exchange | F6: Total Value
B7: Associates | D7: No. | E7: Date | F7: Foreign | G7: Indian Currency
F8: currency | G8: Current | H8: Non-Current
B29: Total
A31: Note:- Amount of each & every party may be classified as current and non current according to the requirements of schedule III.
A36: Head of Finance (Branch/C.O.) | C36: Branch Manager | E36: Branch Auditors/Statutory Auditors

Sheet 9
A1: STATEMENT OF SECURITY DEPOSITS
A2: AS ON 31.03.2015
A3: ANNEXURE IX
A4: Branch/Division_______________________
A5: (Amount in Rs.)
A6: S.No. | B6: Name of Party | C6: Commodity | D6: Gross Amount | E6: Current Asset | F6: Non Current Asset | G6: Upto 6 Months | H6: 6-12 Months | I6: 1-2 Years | J6: 2-3 Years | K6: Above 3 years | L6: Provision | M6: Net Amount | N6: Government/ P.S.U/Others | O6: Reason for the amount being outstanding for more than 3 years | P6: Security Held
H7: months | I7: yrs | J7: yrs | K7: 3 yrs | L7: Doubtful | M7: Overdue | P7: Held
B30: Total
B33: Note: 1) Total of Deposits (Gross) must tally with the Notes to accounts.
B34: 2) Gross amount of each & every party may be classified as current and non current according to the requirements of schedule III
B35: 3) An amount will be non current if it is due beyond the operating cycle or for more than 12 Months from the reporting date as the case may be.
B36: 4) Suitable Notes may be incorporated in notes to accounts on the basis of materiality.
B41: Head of Finance (Branch/C.O.) | I41: Branch Manager | O41: Branch Auditor/Statutory Auditor

Sheet 10
A1: STATEMENT OF ADVANCES TO EMPLOYEES
A2: AS ON 31.03.2015
A3: ANNEXURE X
A4: Branch/Division_______________________
A5: (Amount in Rs.)
A6: S.No. | B6: Head of Advance | C6: Gross Amount | D6: Current Asset | E6: Non Current Asset | F6: Upto 1 Year | G6: 1-2 Years | H6: 2-3 Years | I6: Above 3 Years | J6: Provision | K6: Net Amount | L6: Secured | M6: Unsecured | N6: Security Held
G7: yrs | H7: yrs | I7: 3 years
A8: (1) | B8: (2) | C8: (3) | D8: (4) | E8: (5) | F8: (6) | G8: (7) | H8: (8) | I8: (9) | J8: (10) | K8: (11) | L8: (12) | M8: (13) | N8: (14)
B27: Total
B29: Note: 1) Advances to employee means advances to employees in the role of the corporation only.
B30: 2)Total of Advance to Employees (Gross) should tally with the figure shown in the Notes to accounts.
B31: 3) Classification of advances between current and non current may be done in accordance to the requirements of schedule III.
B32: 4) Suitable Notes may be incorporated in notes to accounts on the basis of materiality.
B36: Head of Finance (Branch/C.O.) | F36: Branch Manager | K36: Branch Auditor/Statutory Auditor

Sheet 11
A1: STATEMENT OF INTEREST ACCRUED ON ADVANCES TO EMPLOYEES
A2: AS ON 31.03.2015
A3: ANNEXURE XI
A4: Branch/Division________________________
A5: (Amount in Rs.)
A6: S.No. | B6: Head of Advance | C6: Gross Amount | D6: Current Asset | E6: Non Current Asset | F6: Upto 1 Year | G6: 1-2 Years | H6: 2-3 Years | I6: Above 3 years | J6: Provision | K6: Net Amount | L6: Secured/ Unsecured | M6: Remarks
E7: Asset | F7: months | G7: yrs | H7: yrs | I7: 3 yrs | J7: Doubtful | K7: Overdue
B31: Total
B33: Note: 1) Total (Gross) must tally with the Notes to accounts.
B34: 2) Gross amount of each & every party may be classified as current and non current according to the requirements of schedule III.
B35: 3) An amount will be non current if it is due beyond the operating cycle or for more than 12 Months from the reporting date as the case may be.
B36: 4) Suitable Notes may be incorporated in notes to accounts on the basis of materiality.
B40: Head of Finance (Branch/C.O.) | E40: Branch Manager | K40: Branch Auditors/Statutory Auditors

Sheet 12
A1: STATEMENT OF TRADE ADVANCES
A2: AS ON 31.03.2015
A3: ANNEXURE XII
A4: Branch/Division____________________
A5: (Amount in Rs.)
A6: S.No. | B6: Name of Party | C6: Commodity | D6: Gross Amount | E6: Current Asset | F6: Non Current Asset | G6: Overdue Amount | H6: Ageing of Overdue Amount | M6: Provision | N6: Net Overdue | O6: Government/ P.S.U/Others | P6: Reason for the amount being overdue | Q6: Security Held
F7: Asset | G7: Amount | H7: Upto 6 Months | I7: 6-12 Months | J7: 1-2 Years | K7: 2-3 Years | L7: Above 3 years | M7: Doubtful | N7: Overdue | Q7: Held
A9: (1) | B9: (2) | C9: (3) | D9: (4) | E9: (5) | F9: (6) | G9: (7) | H9: (8) | I9: (9) | J9: (10) | K9: (11) | L9: (12) | M9: (13) | N9: (14) | O9: (15) | P9: (16) | Q9: (17)
B29: Total
B33: Note: 1) Trade Advances means outstanding balance of parties exlusively to whom advances given on accrual of any trade, procurement of goods, export etc.
B34: 2) Total of Trade Advances (Gross) must tally with the Notes to accounts.
B35: 3) Gross amount of each & every party may be classified as current and non current according to the requirements of schedule III.
B36: 4) Overdue means an amount which stands unrealized since the due date.
B37: 5) Age wise analysis is to be done for the overdue amount only.
B38: 6) An amount will be non current if it is due beyond the operating cycle or for more than 12 Months from the reporting date as the case may be.
B39: 7) Suitable Notes may be incorporated in notes to accounts on the basis of materiality.
B43: Head of Finance (Branch/C.O.) | G43: Branch Manager | O43: Branch Auditor/Statutory Auditor

Sheet 13
A1: STATEMENT OF OTHER MISC. ADVANCES
A2: AS ON 31.03.2015
A3: ANNEXURE XIII
A4: Branch/Division____________________
A5: (Amount in Rs.
A6: S.No. | B6: Name of Party | C6: Commodity | D6: Gross Amount | E6: Current Asset | F6: Non Current Asset | G6: Overdue Amount | H6: Ageing of Overdue Amount | M6: Provision | N6: Net Overdue | O6: Government/ P.S.U/Others | P6: Reason for the amount being overdue | Q6: Security Held
F7: Asset | G7: Amount | H7: Upto 6 Months | I7: 6-12 Months | J7: 1-2 Years | K7: 2-3 Years | L7: Above 3 years | M7: Doubtful | N7: Overdue | Q7: Held
A9: (1) | B9: (2) | C9: (3) | D9: (4) | E9: (5) | F9: (6) | G9: (7) | H9: (8) | I9: (9) | J9: (10) | K9: (11) | L9: (12) | M9: (13) | N9: (14) | O9: (15) | P9: (16) | Q9: (17)
A11: A) | B11: Balance With custom & Port Trust
A16: B) | B16: Bill of Exchange
A21: C) | B21: Intt. Accrued on Loans, Advances & Deposits
A26: D) | B26: Others
B31: Total
B33: Note: 1) Total of Other Loans Recoverable (Gross) must tally with the Notes to accounts.
B34: 2) Gross amount of each & every party may be classified as current and non current according to the requirements of schedule VI
B35: 3) Overdue means an amount which stands unrealized since the due date.
B36: 4) Age wise analysis is to be done for the overdue amount only
B37: 5) An amount will be non current if it is due beyond the operating cycle or for more than 12 Months from the reporting date as the case may be.
B38: 6) Suitable Notes may be incorporated in notes to accounts on the basis of materiality.
B43: Head of Finance (Branch/C.O.) | I43: Branch Manager | O43: Branch Auditor/Statutory Auditor

Sheet 15
A1: PROVISION FOR DOUBTFUL TRADE RECEIVABLE
A2: AS ON 31.03.2015
A3: ANNEXURE XV
A4: Branch/Division_____________
A5: (Amount in Rs. )
A6: S.No. | B6: Name of Party | C6: Commodity | D6: Overdue Amount | E6: PROVIDED DURING | I6: Government/ P.S.U/Others | J6: Reasons for non Write-off / Adjustment | K6: Nature of Transaction
E7: 2014-15 | F7: 2013-14 | G7: 2012-13 | H7: Prior to 2012-13 | K7: Transaction
H8: 2008-09
B32: Total
B34: Note: 1) Total must tally with the Notes to accounts
B38: Head of Finance (Branch/C.O.) | E38: Branch Manager | I38: Branch Auditor/Statutory Auditor

Sheet 14
A1: STATEMENT OF TRADE RECIEVABLES | O1: STATEMENT OF TRADE RECIEVABLES
A2: AS ON 31.03.2015 | O2: =+A2 -> AS ON 31.03.2015
A3: ANNEXURE XIV | O3: ANNEXURE XIV
A4: Branch/Division______________________________
A5: (Amount in Rs.) | O5: (Amount in Rs.)
A6: S.No. | B6: Name of Party | C6: Commodity | D6: Gross Amount | E6: Current Asset | F6: Not Due | G6: Overdue Amount | H6: Ageing of Overdue Amount(Current) | M6: Provision agnst. Doubtful | N6: Net Overdue | O6: Non Current Asset | P6: Not Due | Q6: Overdue Amount | R6: Ageing of Overdue Amount (Non current) | W6: Provision agnst. Doubtful | X6: Net Overdue | Y6: Government/ P.S.U/Others | Z6: Reason for the amount being overdue | AA6: Security Held
H7: Upto 6 Months | I7: 6-12 Months | J7: 1-2 Years | K7: 2-3 Years | L7: Above 3 years | O7: Asset | R7: Upto 6 Months | S7: 6-12 Months | T7: 1-2 Years | U7: 2-3 Years | V7: Above 3 years | AA7: Held
A9: (1) | B9: (2) | C9: (3) | D9: (4) | E9: (5) | F9: (6) | G9: (7) | H9: (8) | I9: (9) | J9: (10) | K9: (11) | L9: (12) | M9: (13) | N9: (14) | O9: (15) | P9: (16) | Q9: (17) | R9: (18) | S9: (19) | T9: (20) | U9: (21) | V9: (22) | W9: (23) | X9: (24) | Y9: (25) | Z9: (26) | AA9: (27)
B24: Total
O27: Note: 1) Trade Receivable means oustanding balance of parties exlusively to whom goods have been sold
O28: 2) Total of Trade Receivables (Gross) must tally with the Notes to accounts 19(1) & 22.
O29: 3) Gross amount of each & every party may be classified as current and non current according to the requirements of schedule VI (Revised).
O30: 4) Overdue means an amount which stands unrealized since the due date.
O31: 5) Age wise analysis is to be done for the overdue amount only.
O32: 6) An amount will be non current if it is due beyond the operating cycle or for more than 12 Months from the reporting date as the case may be.
O33: 7) Other Trade Rececivable under Note 22(b) would be match with total of column (6) & (8).
O34: 8) Suitable Notes may be incorporated in notes to accounts on the basis of materiality.
B38: Head of Finance (Branch/C.O.) | G38: Branch Manager | K38: Branch Auditor/Statutory Auditor | V38: Branch Manager | Z38: Branch Auditor/Statutory Auditor

Sheet 16
A1: STATEMENT OF CLAIMS RECOVERABLE
A2: AS ON 31.03.2015
A3: ANNEXURE XVI
A4: Branch/Division__________________
A5: (Amount in Rs.)
A6: S.No. | B6: Name of Party | C6: Commodity | D6: Gross Amount | E6: Current Asset | F6: Non Current Asset | G6: Overdue Amount | H6: Ageing of Overdue Amount | M6: Provision | N6: Net Overdue | O6: Government/ P.S.U/Others | P6: Reason for the amount being overdue | Q6: Security Held
F7: Asset | G7: Amount | H7: Upto 6 Months | I7: 6-12 Months | J7: 1-2 Years | K7: 2-3 Years | L7: Above 3 years | M7: Doubtful | N7: Overdue | Q7: Held
A9: (1) | B9: (2) | C9: (3) | D9: (4) | E9: (5) | F9: (6) | G9: (7) | H9: (8) | I9: (9) | J9: (10) | K9: (11) | L9: (12) | M9: (13) | N9: (14) | O9: (15) | P9: (16) | Q9: (17)
B31: Total
B33: Note: 1) Total of Claims Recoverable (Gross) must tally with the Notes to accounts.
B34: 2) Gross amount of each & every party may be classified as current and non current according to the requirements of schedule VI
B35: 3) Overdue means an amount which stands unrealized on the due date.
B36: 4) Age wise analysis is to be done for the overdue amount only
B37: 5) An amount will be non current if it is due beyond the operating cycle or for more than 12 Months from the reporting date as the case may be.
B38: 6) Complete information from column no. 1 to 17 must be furnished. Column no. 15, 16 & 17 should not be left blank in anycase.
B39: 7) Suitable Notes may be incorporated in notes to accounts on the basis of materiality.
B44: Head of Finance (Branch/C.O.) | I44: Branch Manager | O44: Branch Auditor/Statutory Auditor

Sheet 17
A1: STATEMENT OF PROVISION FOR DOUBTFUL CLAIMS
A2: AS ON 31.03.2015
A3: ANNEXURE XVII
A4: Branch/Division____________________________
A5: (Amount in Rs.)
A6: S.No. | B6: Name of Party | C6: Commodity | D6: Overdue Amount | E6: PROVIDED DURING | I6: Government/ P.S.U/Others | J6: Reasons for non Write-off / Adjustment | K6: Nature of Transaction
E7: 2014-15 | F7: 2013-14 | G7: 2012-13 | H7: Prior to 2012-13 | K7: Transaction
H8: 2008-09
B20: Total
B22: Note: 1) Total must tally with the Notes to accounts.
B27: Head of Finance (Branch/C.O.) | F27: Branch Manager | J27: Branch Auditor/Statutory Auditor

Sheet 18
A1: STATEMENT OF PROVISIONS MADE FOR OTHER CURRENT ASSETS
A2: AS ON 31.03.2015
A3: ANNEXURE XVIII
A4: Branch/Division________________
A5: (Amount in Rs.)
A6: S.No. | B6: Name of Party | C6: Commodity | D6: Current Asset | E6: Non Current Asset | F6: Total | G6: Upto 1 Year | H6: 1-2 Years | I6: 2-3 Years | J6: Above 3 years | K6: Reasons for making the provision | L6: Nature of Transaction
G7: year | H7: yrs | I7: yrs | J7: 3 yrs | K7: provision | L7: Transaction
A8: A. | B8: Trade Receivables
B14: Sub Total
A15: B. | B15: Claims
B20: Sub Total
A21: C. | B21: Loans & Advances
B22: -Trade Advances
B23: -Advances to employees
B24: -Other Loands recoverable
B27: Sub Total
A28: D. | B28: Deposits
B33: Sub Total
B34: Grand Total
B35: Note: Total amount must Tally with figures in the notes to accounts.
B38: Head of Finance (Branch/C.O.) | F38: Branch Manager | J38: Branch Auditor/Statutory Auditor

Sheet 19
A1: TALLY OF PROVISIONS FOR CURRENT ASSETS & NON CURRENT ASSETS
A2: F.Y. 31.03.2015
A4: ANNEXURE - XIX
A5: Branch/Division________________________
A6: (Amount in Rs.)
A7: Provision for Doubtful | B7: Opening Bal. as on 01.04.2014 | C7: Transferred from C.O during 2014-15 | D7: Realised during the year | E7: W/Off during the year | F7: Provisions made during 2014-15 | G7: Closing bal. as on 31.03.2015
B8: as on 01.04.2010 | C8: C.O. during 2010-11 | D8: the year (Sch.15) | E8: year Sch. (19) | F8: during 2010-11 | G8: 31.03.2011
B10: (1) | C10: (2) | D10: (3) | E10: (4) | F10: (5) | G10: (6) = (1)+(2)-(3)-(4)+(5)
A13: - Trade Receivables
A15: - Claims
A17: - Loans & Advance
A18: - Trade Advances
A19: - Advanes to employees
A20: - Other loans recoverable
A22: - Deposits
A24: Note: Fig. in Col.(1) & (6) must tally with respective Balances in concerned notes.
A28: Head of Finance (Branch/C.O.) | C28: Branch Manager | E28: Branch Auditor/Statutory Auditor

Sheet 20
A1: FOREIGN CURRENCY EXPOSOURE
A2: STATEMENT OF OUTSTANDING RECEIVABLE IN FOREIGN CURRENCY
A3: AS ON 31.03.2015
A4: ANNEXURE XX
A5: Branch/Division_________________________
A7: S.No. | B7: Name of Party | C7: Commodity | D7: Name of Currency | E7: F.O.B Value in | G7: Ageing in Rs. | L7: Nature of Transaction
D8: currency | E8: Foreign Currency | F8: Rs. | G8: Upto 6 Months | H8: 6-12 Years | I8: 1-2 Years | J8: 2-3 Years | K8: Above 3 Years | L8: Transaction
B10: A. STC's Own A/C
B12: I) Hedged
B16: II) Unhedged
B21: B. Associates A/C
B23: I) Hedged
B27: II) Unhedged
B40: Note: Nature of transaction should be classified whether the transaction is in the nature of export sales, royalty, know-how, professional & consultation fees, interest and dividends and any other income.
B47: Head of Finance (Branch/C.O.) | F47: Branch Manager | J47: Branch Auditor/Statutory Auditor

Sheet 20A
A1: STATEMENT OF OUTSTANDING PAYABLE / RECEIVABLE IN FOREIGN CURRENCY
A2: AS ON 31.03.2015
A3: Annexure -XXA
A4: (Amount in Rs.)
A5: (A) DETAILS OF FOREIGN EXCHANGE EXPOSURE FOR THE QUARTER ENDED 31.03.2015
A6: S.No. | B6: Name of Party | C6: Commodity | D6: Name of currency | E6: Payable | F6: Receivable | G6: Nature of Transaction | H6: STC's A/c OR Associate's A/c | I6: Hedged /Unhedged (specify nature of Hedge) i.e. forward cover, futures options, swaps etc. | J6: STEPS TAKEN TO LIMIT THE RISK OF ADVERSE EXCHANGE RATE MOVEMENT, IF MATERIAL
E7: Foreign currency Full value* | F7: Foreign currency Full value*
B20: Total
A22: (B) DETAILS OF MATERIAL DEFAULTS IN FINANCIAL OBLIGATIONS TO AND BY THE COMPANY, OR SUBSTANTIAL NON PAYMENT FOR GOODS SOLD BY THE COMPANY FOR THE QUARTER ENDED 31.03.2015
A23: S.No. | B23: Particulars | F23: AMOUNT | H23: REMARKS
B27: Total
A29: Note : The above information is to be submitted to the BOARD along with Quaterly/Half-Yearly/Annual accounts.
A31: ( c ) DETAILS OF FOREIGN RXCHANGE EXPOSURE AS ON 31.03.2015 ( full value in foreign currency)
A32: S.No. | B32: PARTICULARS | C32: STC's own Account | G32: Associate Account
C33: Hedged | E33: Unhedged | G33: Hedged | I33: Unhedged
C34: Receivable | D34: Payable | E34: Receivable | F34: Payable | G34: Receivable | H34: Payable | I34: Receivable | J34: Payable
A35: 1 | B35: USD
A36: =+A35+1 -> 2 | B36: EURO
A37: =+A36+1 -> 3 | B37: CAD
A38: =+A37+1 -> 4 | B38: POUND
A39: =+A38+1 -> 5 | B39: Others, Specify
A42: (D ) DETAILS OF FOREIGN EXCHANGE EXPOSURE AS ON 31.03.2015 (Full value in Foreign currency) as per RBI Instruction
A43: S.No. | B43: Particulars | C43: USD | E43: EURO | G43: POUND | I43: Other (please specify)
C44: Receivable | D44: Payable | E44: Receivable | F44: Payable | G44: Receivable | H44: Payable | I44: Receivable | J44: Payable
A45: 1 | B45: Foreign Currency Exposure (FCE)
A46: =A45+1 -> 2 | B46: FCE having maturity cash flows over the period of next 5 yrs (out of 1 above)
A47: =A46+1 -> 3 | B47: Amount covered by financial hedge (out of 2 above)
A48: =A47+1 -> 4 | B48: Amount covered by natural hedge (out of 2 above)
A49: =A48+1 -> 5 | B49: Unhedged Foreign Currency Exposure (FCE) (2-3-4)
A51: Note : Clarification, if any, in respect of (D) above may be sought from Banking division,C.O.
B56: Head of Finance (Branch/C.O.) | E56: Branch Manager | H56: Branch Auditor/Statutory Auditor

Sheet 21
A1: FOREIGN CURRENCY EXPOSOURE
A2: STATEMENT OF OUTSTANDING PAYABLE IN FOREIGN CURRENCY
A3: AS ON 31.03.2015
A4: ANNEXURE XXI
A5: Branch/Division
F6: Value in | H6: Ageing in Rs.
A7: S.No. | B7: Name of Party | C7: Commodity | D7: Name of Currency | E7: Import/Other (Specify) | F7: Foreign Currency | G7: Rs. | H7: Upto 6 Months | I7: 6-12 Months | J7: 1-2 Years | K7: 2-3 Years | L7: Above 3 Years | M7: Nature of Transaction
D8: currency | F8: Value | G8: Value | H8: months | I8: months | J8: yrs | K8: yrs | L8: 3 yrs | M8: Transaction
B10: A. STC's Own A/C
B12: I) Hedged
B15: Sub Total
B16: II) Unhedged
B20: Sub Total
B21: B. Associates A/C
B23: I) Hedged
B26: Sub Total
B27: II) Unhedged
B31: Sub Total
B37: Note:- Nature of Transaction in case of imports will be shown in respect of Import Purchases, Raw materials, Components & spare parts and capital goods.
B42: Head of Finance (Branch/C.O.) | F42: Branch Manager | J42: Branch Auditor/Statutory Auditor

Sheet 22
A1: STATEMENT OF PROVISION FOR EXPENDITURE (AS-29)
A2: AS ON 31.03.2015
A3: ANNEXURE XXII
A4: Branch/Division_______________
A5: (Amount in Rs.)
A6: S.No. | B6: Head of Account | C6: Balance on 31.03.2015 | D6: Agewise Analysis | I6: Nature of Obligation | J6: Expected timing of outflow | K6: Reasons for carrying over more than 3 yrs
B7: Account | C7: 31.03.2011 | D7: Upto 6 Months | E7: 6-12 Years | F7: 1-2 years | G7: 2-3 years | H7: Above 3 Years | I7: obligation | J7: timing of
E8: months | H8: yrs | J8: outflow
B22: Total
B25: Total must tally with figures shown in in the notes to accounts.
B29: Head of Finance (Branch/C.O.) | F29: Branch Manager | J29: Branch Auditor/Statutory Auditor

Sheet 23
A1: TALLY OF PROVISIONS FOR EXPENDITURE (AS-29)
A2: AS ON 31.03.2015
A4: ANNEXURE - XXIII
A5: Branch/Division_______________________
A6: (Amount in Rs.)
A7: S.No. | B7: Head of A/c | C7: Commodity | D7: Opening Balance as on 01.04.2014 | E7: Adjustments made during the year 2014-15 | F7: Provision made during the year 2014-15 | G7: Balance as on 31.03.2015 | H7: Remarks
C8: Division | E8: during the year | F8: during the year | G8: 31.03.2012
E9: 2011-12 | F9: 2011-12
D10: '(1) | E10: '(2) | F10: '(3) | G10: (4)=(1)+(2)+(3)
A24: Note: Opening and Closing Balances should tally with the notes to accounts.
B28: Head of Finance (Branch/C.O.) | E28: Branch Manager | G28: Branch Auditor/Statutory Auditor

Sheet 24
A1: DETAILS OF AMOUNT WRITTEN OFF
A2: DURING 2014-15
A3: ANNEXURE - XXIV
A4: Branch/Division_____________________
A5: (Amount in Rs.)
A6: S.No. | B6: Name of Party /Agency | C6: Commodity | D6: Date of Transaction | E6: Particulars of Transaction | F6: Amount | I6: Year of Provision Created | J6: Details of disputes, if any | K6: Reasons for write off
B7: Agency | D7: Transaction | E7: Transaction | F7: Gross | G7: Provision | H7: Net | J7: disputes, if any
B29: Total
A32: Note: Copy of approval of competent authority for all write offs should be enclosed
B36: Head of Finance (Branch/C.O.) | E36: Branch Manager | I36: Branch Auditor/Statutory Auditor

Sheet 25-a
A1: DETAILS OF CONTINGENT LIABILITY NOT PROVIDED FOR AS ON 31.03.2015
A2: (Annexure - XXV (a)
A3: (Amount in Rs. )
A4: BRANCH/DIVISIONS ______________
A5: (A) CLAIM AGAINST THE COMPANY NOT ACKNOWLEDGED AS DEBT
A6: S.NO. | B6: NAME OF PARTY | C6: NATURE OF CLAIM | D6: CASE NO. | E6: DATE & YEAR OF CASE | F6: CASE PENDING IN WHICH COURT | G6: OPENING BALANCE as on 01.04.2014 | I6: ADDITION/ (DELETION) DURING THE YEAR | J6: CLOSING BALANCE as on 31.03.2015 | L6: LAST HEARING DATE | M6: NEXT DATE OF HEARING | N6: REAMRKS
G7: PRINCIPAL | H7: INTEREST, IF ANY | J7: PRINCIPAL | K7: INTEREST, IF ANY
A19: TOTAL
A20: Note : The total value given in the annexure should be matched with Contingent Liabilty not provided for {in pont no. 45(A)} as shown in NOTES TO ACCOUNTS
A22: (A) OTHER MONEY FOR WHICH COMPANY IS CONTINGENTLY LIABLE
A23: S.NO. | B23: NAME OF PARTY | C23: NATURE OF CLAIM | D23: CASE NO. | E23: DATE & YEAR OF CASE | F23: CASE PENDING IN WHICH COURT | G23: OPENING BALANCE | I23: ADDITION/ (DELETION) DURING THE YEAR | J23: CLOSING BALANCE | L23: LAST HEARING DATE | M23: NEXT DATE OF HEARING | N23: REAMRKS
G24: PRINCIPAL | H24: INTEREST, IF ANY | J24: PRINCIPAL | K24: INTEREST, IF ANY
A35: TOTAL
A36: Note : The total value given in the annexure should be matched with Contingent Liabilty not provided for {in pont no. 45(C)} as shown in NOTES TO ACCOUNTS
A37: Branch/Division is requested to consult with concerned Trade Division and Legal Division.
A41: Head of Finance (Branch/C.O.) | I41: Branch Manager | M41: Branch Auditors/ Statutory Auditors

Sheet 25-b
A1: STATEMENT OF GUARANTEE GIVEN BY BANK ON BEHALF OF CORPORATION
A2: =+'23'!A2:H2 -> AS ON 31.03.2015
A3: ANNEXURE XXV(b)
A4: Branch/Division______________________
A5: (Amount in Rs.)
A6: S.No. | B6: Name of Party | C6: Commodity | D6: Total | E6: Upto 1 year | F6: 1-2 Years | G6: 2-3 Years | H6: Above 3 Years | I6: Above 5 Years | J6: Above 10 Years | K6: Reason for Carrying the amount beyond 3 Years | L6: Nature of Transaction
E8: year | F8: yrs | G8: yrs | H8: 3 yrs | I8: 5 yrs | J8: 10 yrs | L8: Transaction
B34: Total
B39: Head of Finance (branch/C.O.) | F39: Branch Manager | I39: Branch Auditors/Statutory Auditors

Sheet 25-C
A1: STATEMENT OF LETTER OF CREDIT ISSUED BY BANK
A2: =+'25-b'!A2:L2 -> AS ON 31.03.2015
A3: ANNEXURE XXV(C)
A4: Branch/Division__________________
A6: S.No. | B6: Name of Issuing Bank | C6: LC NO. & Date | D6: Commodity | E6: Total Value in Foreign Currency | F6: Total Value in Rs
B27: Total
A31: Head of Finance (branch/C.O.) | C31: Branch Manager | E31: Branch Auditors/Statutory Auditors

Sheet 25-d
A1: STATEMENT OF DEMAND FOR SALES TAX DISPUTED
A2: =+'25-C'!A2:F2 -> AS ON 31.03.2015
A3: ANNEXURE XXV(d)
A4: Branch/Division_______________________
A5: (Amount in Rs.)
A6: S.No. | B6: Assessment year | C6: Pending With | D6: Commodity | E6: Total | F6: Upto 1 year | G6: 1-2 Years | H6: 2-3 Years | I6: Above 3 Years | J6: Above 5 Years | K6: Above 10 Years | L6: Reason for Carrying the amount beyond 3 Years | M6: Nature of Transaction
F8: year | G8: yrs | H8: yrs | I8: 3 yrs | J8: 5 yrs | K8: 10 yrs | M8: Transaction
B23: Total
B28: Head of Finance (Branch/C.O.) | E28: Branch Manager | K28: Branch Auditors/Statutory Auditors

Sheet 25-e
A1: STATEMENT OF SALES TAX LIABILITY WHICH MAY ARISE ON RE-ASSESSMENT
A2: =+'25-d'!A2:M2 -> AS ON 31.03.2015
A3: ANNEXURE XXV(e)
A4: Branch/Division___________________
A5: (Amount in Rs.)
A6: S.No. | B6: Assessment year | C6: Pending With | D6: Total Value of Tax Liability | E6: Upto 1 year | F6: 1-2 Years | G6: 2-3 Years | H6: Above 3 Years | I6: Above 5 Years | J6: Above 10 Years | K6: Reason for Carrying the amount beyond 3 Years | L6: Nature of Transaction
E8: year | F8: yrs | G8: yrs | H8: 3 yrs | I8: 5 yrs | J8: 10 yrs | L8: Transaction
B24: Total
B28: Head of Finance (Branch/C.O.) | E28: Branch Manager | K28: Branch Auditors/Statutory Auditors

Sheet 25-f
A1: STATEMENT OF BILLS DISCOUNTED
A2: =+'25-e'!A2:L2 -> AS ON 31.03.2015
A3: ANNEXURE XXV(F)
A4: Branch/Division___________________________
A5: (Amount in Rs.)
A6: S.No. | B6: Name of Party/ Associates | C6: Commodity | D6: Total Value in | F6: Ageing in Rs. | K6: Reasons for carrying the amount beyond 3 years | L6: Nature of Transaction
B7: Associates | D7: Foreign currency | E7: Rs. | F7: Upto 6 months | G7: 6-12 months | H7: 1-2 years | I7: 2-3 Years | J7: Above 3 Years | K7: forward of amounts | L7: Transaction
B22: Total
B27: Head of Finance (Branch/C.O.) | E27: Branch Manager | K27: Branch Auditors/Statutory Auditors

Sheet 25-g
A1: STATEMENT OF BONDS GIVEN TO CUSTOMS
A2: =+'25-f'!A2:L2 -> AS ON 31.03.2015
A3: ANNEXURE XXV(g)
A4: Branch/Division_________________________
A5: (Amount in Rs.)
A6: S.No. | B6: Name of Party/ Associates | C6: Commodity | D6: Total Value | E6: Upto 6 months | F6: 6-12 months | G6: 1-2 years | H6: 2-3 Years | I6: Above 3 Years | J6: Reasons for carrying the amount beyond 3 years | K6: Nature of Transaction
B7: Associates | E7: months | F7: months | G7: yrs | H7: yrs | I7: 3 yrs | J7: forward of amounts | K7: Transaction
J8: outstanding for
B23: Total
B26: Head of Finance (Branch/C.O.) | E26: Branch Manager | J26: Branch Auditors/Statutory Auditors

Sheet 25-h
A1: STATEMENT OF LEASE RENT IN DISPUTE
A2: =+'25-g'!A2:K2 -> AS ON 31.03.2015
A3: ANNEXURE XXV(h)
A4: Branch/Division_________________
A5: (Amount in Rs.)
A6: S.No. | B6: Details of property | C6: Nature of the leased assets | D6: Total | E6: Upto 6 months | F6: 6-12 months | G6: 1-2 years | H6: 2-3 Years | I6: Above 3 Years | J6: Reasons for carrying the amount beyond 3 years | K6: Nature of Transaction
C7: the leased | E7: months | F7: months | G7: yrs | H7: yrs | I7: 3 yrs | J7: forward of amounts | K7: Transaction
C8: assets | J8: outstanding for
B24: Total
B27: Head of Finance (Branch/C.O.) | E27: Branch Manager | I27: Branch Auditors/Statutory Auditors

Sheet 25 i
A1: STATEMENT OF CAPITAL COMMITMENT PENDING EXECUTION
A2: =+'25-h'!A2:K2 -> AS ON 31.03.2015
A3: ANNEXURE XXV(i)
A4: Branch/Division_______________________
A5: (Amount in Rs.)
A6: S.No. | B6: Details of Capital Commitment | C6: Nature of Work Pending | D6: Total Amount | E6: Upto 6 months | F6: 6-12 months | G6: 1-2 yrs | H6: 2-3 yrs | I6: Above 3 yrs | J6: Reasons for Pendency
B23: Total
B27: Head of Finance (Branch/C.O.) | E27: Branch Manager | I27: Branch Auditors/Statutory Auditors

Sheet 25 j
A1: STATEMENT OF CONTINGENT ASSETS
A2: =+'25 i'!A2:J2 -> AS ON 31.03.2015
A3: ANNEXURE XXV(j)
A4: Branch/Division__________________________
A5: (Amount in Rs.)
A6: S.No. | B6: Name of Party | C6: Commodity | D6: Contingent assets as on 31.03.2015 | G6: Balance as at | J6: Case, if yes, pending in which court | K6: Government/ P.S.U/Others | L6: Reasons for non Recognition / Adjustment | M6: Nature of Transaction
D7: Total | E7: Principal | F7: Interest, If any | G7: 31.03.2014 | H7: 31.03.2013 | I7: 31.03.2012
B29: Total
B31: Note : Total should tally with the figure shown in the notes to Accounts.
B35: Head of Finance (Branch/C.O.) | G35: Branch Manager | L35: Branch Auditor/Statutory Auditor

Sheet 26
A1: STATEMENT OF SHORTAGES
A2: =+'25 j'!A2:M2 -> AS ON 31.03.2015
A3: ANNEXURE XXVI
A4: Branch/Division______________________
A5: Quantity (Q) in MT
A6: Value (V) in Rs.
A7: S.No. | B7: Commodity | C7: Total shortages as per | G7: Breakup of other shortages | Q7: Shortage to be written off | S7: % of shortage to be written off
C8: Trading Accounts | G8: Normal processing/ | I8: Abnormal Losses
C9: Claims income | E9: Other | G9: handling losses | I9: Storage/ Handling loss | K9: Transit Loss | M9: Moisture Loss | O9: Contingent Assets | Q9: 9+11+13+15 | R9: 10+12+14+16 | S9: 17/(3+5) | T9: 18/(4+6)
C10: incl.under SIS | E10: Shortage | G10: Transit loss/
G11: Moisture Loss
C12: Q | D12: V | E12: Q | F12: V | G12: Q | H12: V | I12: Q | J12: V | K12: Q | L12: V | M12: Q | N12: V | O12: Q | P12: V | Q12: Q | R12: V | S12: Q | T12: V
A13: 1 | B13: 2 | C13: 3 | D13: 4 | E13: 5 | F13: 6 | G13: 7 | H13: 8 | I13: 9 | J13: 10 | K13: 11 | L13: 12 | M13: 13 | N13: 14 | O13: 15 | P13: 16 | Q13: 17 | R13: 18 | S13: 19 | T13: 20
B26: Total
A28: Note: 1. Processorwise details of Processing loss to be furnished in Annexure-XXXII.
A29: 2. Quantity Handled shall be arrived at as follow:-
A30: Opening Stock+Inter Branch Stock Receipt+Inter Commodity Receipt+Purchases-InterBranch Stock Despatches-Inter Commodity Transfers.
A31: 3. Godown Shortages shall be included in 'Handling Loss' and Refining and Tinning Loss in 'Processing Loss'.
A32: 4. Claim income in this statement is to be restricted in current year's claim
A33: 5. Reconciliation of Shortage and Claim income with Trading Account is to be attached.
A34: 6. Justification for treating the claim as suspense is to be furnished.
B37: Head of Finance (Branch/C.O.) | H37: Branch Manager | O37: Branch Auditors/Statutory Auditors

Sheet 27
A1: STATEMENT OF PROCESSING LOSS DURING 2014-15
A2: QUANTITY OF LOSS
A3: ANNEXURE XXVII
A4: Branch/Division__________________
A5: Quantity (Q) in MT
A6: Value (V) in Rs.
A7: S.No. | B7: Name of Processor or Tinner | C7: Commodity | D7: Total Quantity Processed | E7: Actual Loss | F7: Loss Permissible as per contract | G7: Excess of | I7: Amt. Received against Loss at (6)
G8: (4) over (5)
B9: Q | D9: Q | E9: Q | F9: Q | G9: Q | H9: V | I9: `
A10: 1 | B10: 2 | D10: 3 | E10: 4 | F10: 5 | G10: 6 | I10: 7
B28: Total
A30: Note: Justification for writing-off, if any, to be furnished.
B34: Head of Finance (Branch/C.O.) | F34: Branch Manager | H34: Branch Auditors/Statutory Auditors

Sheet 28
A1: STATEMENT SHOWING THE PARTICULARS OF CLAIMS REJECTED*
A2: F.Y. 2014-15
A3: ANNEXURE XXVIII
A4: Branch/Division_______________
A5: Quantity (Q) in MT
A6: Value (V) in Rs.
A7: S.No. | B7: Commodity | C7: Under SIS | E7: Others | G7: Remarks
C9: Q | D9: V | E9: Q | F9: V
A10: 1 | B10: 2 | C10: 3 | E10: 4 | G10: 5
B25: Total
A26: *This includes all claims whether lodged during this year or earlier.
B30: Head of Finance (Branch/C.O.) | D30: Branch Manager | F30: Branch Auditors/Statutory Auditors

Sheet 29
A1: STATEMENT OF BANK GUARANTEES RECEIVED
A2: =+'26'!A2:T2 -> AS ON 31.03.2015
A3: ANNEXURE XXIX
A4: Branch/Division___________________
A5: (Amount in Rs.)
A6: S.No. | B6: Name of Party | C6: Commodity | D6: Name of Bank | E6: Value | F6: BG No. | G6: Date of BG | H6: Date of Validity | I6: Extension | J6: Nature of Transaction
J7: Transaction
B25: Total
A27: Note : Total should tally with the figure shown in the notes to Accounts.
B31: Head of Finance (Branch/C.O.) | E31: Branch Manager | H31: Branch Auditor/Statutory Auditor

Sheet 30
A1: STATEMENT OF POST DATED CHEQUES RECEIVED
A2: =+'29'!A2:J2 -> AS ON 31.03.2015
A3: ANNEXURE XXX
A4: Branch/Division_____________
A5: (Amount in Rs.)
A6: S.No. | B6: Name of Party | C6: Commodity | D6: Name of Bank | E6: Value | F6: Cheque No. | G6: Date of PDC | H6: Date of Validity | I6: Nature of Transaction
F7: No. | G7: PDC | H7: Validity | I7: Transaction
B23: Total
B26: Head of Finance (Branch/C.O.) | D26: Branch Manager | G26: Branch Auditor/Statutory Auditor

Sheet 31
A1: STATEMENT OF FORWARD CONTRACTS
A2: =+'30'!A2:I2 -> AS ON 31.03.2015
A3: ANNEXURE XXXI
A4: Branch/Division_______________________
A6: S.No. | B6: Name of Party/Associates | C6: Commodity | D6: Name of Bank | E6: Currency | F6: Value in | H6: Rate of Foreign Currency | I6: Forward Contract No. | J6: Date of FC | K6: Date of Validity | L6: Roll Over upto | M6: Nature of Transaction
F7: Foreign Currency | G7: Rs. | H7: Foreign | I7: Contract | J7: FC | K7: Validity | L7: over | M7: Transaction
G8: currency | H8: Currency | I8: No. | L8: upto
B28: Total
B33: Head of Finance (Branch/C.O.) | F33: Branch Manager | J33: Branch Auditor/Statutory Auditor

Sheet 32
A1: REASONS FOR TRADING LOSSES 2014-15
A3: ANNEXURE XXXII
A4: Branch/Division___________________
A5: (Amount in Rs.)
A6: Commodity | B6: Trading Loss | C6: Reasons/Remarks
B7: (` )
A9: Exports
A14: Sub Total
A15: Imports
A20: Sub Total
A21: Domestic
A26: Sub Total
A27: Grand total
A30: DETAILS OF PAYMENTS MADE DURING 2014-15
A31: (ACTUAL ON CASH BASIS)
A32: (Amount in ` )
B33: Central Govt | C33: State Govt.
A35: Sales Tax / Value Added Tax
A38: Excise Duty
A41: Custom Duty
A44: Service Tax
A47: Interest on Govt. Loans
A50: Other Taxes & Duties
A53: TOTAL
A55: Note The figures given above should be strictly on cash basis only.
A59: Head of Finance (Branch/C.O.) | B59: Branch Manager | C59: Branch Auditors/Statutory Auditors

Sheet 33
E1: A. COMPOSITION OF EXPORTS 2014-15
E3: Branch/Division___________________
E4: ANNEXURE XXXIII
E5: (Amount in Rs.)
E6: Commodity | F6: Country | G6: Quantity | H6: Value(` )
H7: F.O.B | I7: Sale
E21: Total
E23: B. COMPOSITION OF IMPORTS 2014-15
E25: Commodity | F25: Country | G25: Quantity | H25: Value(` )
H26: C.I.F | I26: Sale
E36: Total
E39: Head of Finance (Branch/C.O.) | G39: Branch Manager | H39: Branch Auditors/ Statutory Auditors

Sheet 34
D2: BREAK-UP OF DEBTS OUTSTANDING AS AT 31.03.2015
D3: Branch/Division___________________
D4: ANNEXURE XXXIV
D5: 1. TRADE RECIEVABLE
D6: (Amount in Rs.)
E7: Categories | F7: Total | H7: Govt. Deptt. | J7: Public Sector | L7: Private Parties
F8: Good | G8: Doubtful | H8: Good | I8: Doubtful | J8: Good | K8: Doubtful | L8: Good | M8: Doubtful
D10: 1) | E10: 0-6 months
D11: 2) | E11: 6-12 months
D12: 3) | E12: 1-2 years
D13: 4) | E13: 2-3 years
D14: 5) | E14: 3 yrs & above
E15: Total
D17: Note: Total of Trade receivable must tally with the notes to accounts.
D19: 2. CLAIMS RECOVERABLE
D21: Break-up of Claims | F21: Total | H21: Govt. Deptt. | J21: Govt. Deptt. | L21: Public Sector | N21: Private Parties
D22: Recoverable | H22: Other than Customs | J22: Customs
F23: Good | G23: Doubtful | H23: Good | I23: Doubtful | J23: Good | K23: Doubtful | L23: Good | M23: Doubtful | N23: Good | O23: Doubtful
D25: 1) | E25: 0-6 months
D26: 2) | E26: 6-12 months
D27: 3) | E27: 1-2 years
D28: 4) | E28: 2-3 years
D29: 5) | E29: 3 yrs & above
E30: Total
D32: Note: Total of claims recoverable must tally with the notes to accounts.
D34: Break up of total
D35: (i) Accepted but not settled.
D36: (ii) Not accepted
D38: 3. OTHER LOANS
D40: Break-up of other | F40: Total | H40: Govt. Deptt. | J40: Public Sector | L40: Private Parties
D41: loans | F41: Good | G41: Doubtful | H41: Good | I41: Doubtful | J41: Good | K41: Doubtful | L41: Good | M41: Doubtful
D43: 1) | E43: 0-6 months
D44: 2) | E44: 6-12 months
D45: 3) | E45: 1-2 years
D46: 4) | E46: 2-3 years
D47: 5) | E47: 3 yrs & above
E48: Total
D50: Note: total of other loans must tally with the notes to accounts.
D53: Head of Finance (Branch/C.O.) | I53: Branch Manager | L53: Branch Auditors/ Statutory Auditors

Sheet 35
D1: Break up & Category of Sales
D2: Branch/Division___________________
D3: ANNEXURE-XXXV
D4: Amount (Rs.)
D5: (A) BREAK UP OF SALES DURING 2014-15 | G5: Sales
D6: 1) Central Government Including statutory bodies
D7: 2) State Government including local bodies
D8: 3) Public Sector Undertaking
D9: 4) Exports
D10: 5) Others
D11: TOTAL
D13: (B) CATEGORY OF SALES | F13: Sales | G13: Trading Profit
D15: A. | E15: Exports
D17: B. | E17: Imports
D19: C. | E19: Domestic
E21: TOTAL
D23: Note: Sales shown under (A) & (B) should individually tally with sales shown in summary of Trading Accounts and
D24: Profit & Loss Account.
D28: Head of Finance (Branch/C.O.) | F28: Branch Manager | G28: Branch Auditors/ Statutory Auditors

Sheet 36
F1: Total number of houses/flats acquired/built and number of employees to whom Accommodation has been provided
F3: Branch/Division___________________
F4: ANNEXURE XXXVI
F5: Type | G5: Total Quarters/Flats as on 31.03.2015 | H5: Occupied | I5: Unoccupied
F16: Total
F19: PERSONS RETIRED AND COMPENSATION PAID UNDER VRS DURING 2014-15
G21: No. of Employees | H21: Compensation Paid (in Rs.)
F22: Executives (AMs & above)
F24: Supervisors (OMs & SOMs)
F26: Worker (Others)
F28: Total
F33: Head of Finance (Branch/C.O.) | G33: Branch Manager | H33: Branch Auditors/ Statutory Auditors

Sheet 37
C1: ANNEXURE TO DIRECTOR'S REPORT
C2: Branch/Division___________________
C3: ANNEXURE XXXVII
C5: INFORMATION REQUIRED UNDER SECTION 217(2A) OF THE COMPANIES ACT, 1956 READ WITH COMPANIES
C6: (PARTICULARS OF EMPLOYEES) RULES 1975, AS AMENDED AND FORMING PART OF DIRECTOR'S REPORT FOR THE
C7: YEAR ENDED 31ST MARCH, 2015.
C9: (A) Employed throughout the financial year and in receipt of remuneration not less than Rs. 60,00,000/- in the aggregate for the year
C10: 2014-15
C12: S.No. | D12: Name of | E12: Desgn. | F12: Age as | G12: Remuneration | H12: Nature of Employment | J12: Qualification | K12: Date of | L12: Total | M12: Last
D13: Employees | F13: on | G13: (Rs.) | H13: whether contract or | K13: commencement | L13: Experience | M13: employment
F14: 31.03.15 | H14: regular | K14: of service in STC | L14: (Years) | M14: held in
C15: 1 | D15: 2 | E15: 3 | F15: 4 | G15: 5 | H15: 6 | J15: 7 | K15: 8 | L15: 9 | M15: 10
C26: (B) Employed for part of the financial year 2014-15 and in receipt of remuneration not less than Rs. 5,00,000/- per month.
C28: S.No. | D28: Name of | E28: Desgn. | F28: Age as | G28: Remuneration | H28: Nature of Employment | J28: Qualification | K28: Date of | L28: Total | M28: Last
D29: Employees | F29: on | G29: (Rs.) | H29: whether contract or | K29: commencement | L29: Experience | M29: employment
F30: 31.03.15 | H30: regular | K30: of service in STC | L30: (Years) | M30: held in
C31: 1 | D31: 2 | E31: 3 | F31: 4 | G31: 5 | H31: 6 | J31: 7 | K31: 8 | L31: 9 | M31: 10
C40: * In case of VRS optees/normal retirements, amount of Provident fund paid should not be included.
D44: Head of Finance (Branch/C.O.) | G44: Branch Manager | K44: Branch Auditors/ Statutory Auditors

Sheet 38
F1: Break up of Salaries and Allowances During 2014-15
F2: Branch/Division___________________
F3: ANNEXURE XXXVIII
F4: (Amount in Rs.)
F5: (A ) Salary & Allowances
F6: PARTICULARS | G6: Non-executive | H6: Executives | I6: Board level | J6: Total
G7: (Staff) | H7: (AMs & above) | I7: (Directors)
G8: (`) | H8: (`) | I8: (`) | J8: (`)
F9: Basic Pay
F10: Variable Dearness allowance
F11: House rent allowance
F12: Adjustment Benefit Allowance
F13: Special Pay
F14: Charge Allowance
F15: Overtime allowance
F16: Washing Allowance
F17: Meal allowance
F18: Encashment of earned leave
F19: Encashment of half pay leave
F20: Other misc.: (specify)
... F44: (B) Value of Perquisites included in taxable salary as per Income Tax 1961 but not included in (A) above
F45: PARTICULARS | G45: Non-executive | H45: Executives | I45: Board level | J45: Total
G46: (Staff) | H46: (AMs & above) | I46: (Directors)
G47: (`) | H47: (`) | I47: (`) | J47: (`)
F49: (a) Official Accommodation
F50: (b) Intt. on loan
F51: (c ) Holiday home
F52: (d) Gardener
F53: (e) Electricity reimbursement on residential office
F54: (f)
F55: (g)
F56: (h)
F57: (I)
F62: Head of Finance (Branch/C.O.) | G62: Branch Manager | I62: Branch Auditors/ Statutory Auditors

Sheet 38A
A1: THE STATE TRADING CORPORATION OF INDIA LTD.
A2: OVERHEAD EXPENDITURE BUDGET FOR THE PERIOD ENDED 31st MARCH, 2015
A3: BRANCH/DIVISION ………………………………
A4: ANNEXURE XXXVIIIA
A5: (Amount in Rs.)
A6: PARTICULARS | B6: Annual Budget for 2014-15 | C6: Pro rata Budget | D6: Actual expenditure up to 31.03.15 | E6: Variation | F6: Reason for Variation
B10: -1 | C10: -2 | D10: -3 | E10: (4)= (2) - (3) | F10: -5
A11: A. ESTABLISHMENT
A12: Pay and Allowances | E12: =+C12-D12 -> 0
A13: Overtime | E13: =+C13-D13 -> 0
A14: Opex to Managers | E14: =+C14-D14 -> 0
A15: Bonus/ex-gratia/PRP | E15: =+C15-D15 -> 0
A16: Welfare : Medical | E16: =+C16-D16 -> 0
A17: : Others | E17: =+C17-D17 -> 0
A18: Gratuity | E18: =+C18-D18 -> 0
A19: Pension | E19: =+C19-D19 -> 0
A20: VRS Payments(ex-gratia) | D20: 0
A21: Tax on Perquisites | D21: 0
A22: TOTAL | B22: =SUM(B12:B21) -> 0 | C22: =SUM(C12:C21) -> 0 | D22: =SUM(D12:D21) -> 0 | E22: =SUM(E12:E21) -> 0 | F22: =SUM(F12:F21) -> 0
A23: B. ADMINISTRATION
A24: Office Rent | E24: =+C24-D24 -> 0
A25: Rates Taxes, Electricity& water charges | E25: =+C25-D25 -> 0
A26: Printing & Stationery | E26: =+C26-D26 -> 0
A27: Postage,Telegram&Telex | E27: =+C27-D27 -> 0
A28: Telephones | E28: =+C28-D28 -> 0
A29: Books and Periodicals | E29: =+C29-D29 -> 0
A30: Repairs and Maintenance | E30: =+C30-D30 -> 0
A31: Travelling : Inland | E31: =+C31-D31 -> 0
A32: : Foreign | E32: =+C32-D32 -> 0
A33: Housing Colony Expenses | E33: =+C33-D33 -> 0
A34: Service vehicle expenses | E34: =+C34-D34 -> 0
A35: Insurance | E35: =+C35-D35 -> 0
... A42: Donation | E42: =+C42-D42 -> 0
A43: TOTAL | B43: =SUM(B24:B42) -> 0 | C43: =SUM(C24:C42) -> 0 | D43: =SUM(D24:D42) -> 0 | E43: =SUM(E24:E42) -> 0 | F43: =SUM(F24:F42) -> 0
A44: C. TRADE
A45: Legal & professional expenses | E45: =+C45-D45 -> 0
A46: Advertising & Publicity | E46: =+C46-D46 -> 0
A47: Exhibitions and Fairs | E47: =+C47-D47 -> 0
A48: Difference in Exchange | E48: =+C48-D48 -> 0
A49: Bank Charges | E49: =+C49-D49 -> 0
...

Sheet 39
D1: DETAILS OF SOCIAL OVERHEADS 2014-15
D2: Branch/Division___________________
D3: ANNEXURE - XXXIX
D4: (Amount in Rs.)
D5: S.No. | E5: Facility | F5: Revenue Expenditure for the year | G5: Amount Recovered from employees | H5: Net Revenue Expenditure borne by PSUs | I5: Capital Expenditure incurred
D9: 1 | E9: Canteen
D10: 2 | E10: Transport including Conveyance
E11: Reimbursement
D12: 3 | E12: Expenditure on Schools, Educational
E13: institutions including reimbursement
D14: 4 | E14: Expenditure on housing leased
E15: accommodation (other than self
E16: lease)
D17: 5 | E17: Expenditure on self lease
D18: 6 | E18: Uniforms
D19: 7 | E19: Recreation facilities
D20: 8 | E20: Hospital and medical facilities
D21: 9 | E21: Exgratia special award in lieu of
E22: bonus paid to employees not entitled
E23: for bonus either under the Bonus Act
E24: or any productivity linked incentive
E25: scheme
D26: 10 | E26: Loans and Advance
D28: S.No. | E28: Facility | F28: Loans outstanding as on 31.03.2013 | G28: Loans outstanding as on 31.03.2015 | H28: Amount of interest earned during 2013-14 | I28: Amount of interest subsidy disbursed on loans/advances taken from other sources
D32: 1 | E32: House Building Advance
D33: 2 | E33: Motor Car advance
D34: 3 | E34: Welfare Advances
D38: Note:
D39: (1) Canteen - Includes expenditure on tea, eatables and Tiffin subsidy given to employees.
D40: (2) Transport - Includes expenditure incurred on official conveyance reimbursement.
D41: (3) Recreation facility - Includes expenditure on holiday homes, sports & excursions.
D42: (4) Welfare advance - Includes household article advances, Marriage advance, Festival advance,
D43: Medical Advance and flood advance etc.
D44: (5) Amount of interest - Interest earned is in respect of all the loans outstanding during 2013-14.
E49: Head of Finance (Branch/C.O.) | F49: Branch Manager | H49: Branch Auditors/ Statutory Auditors

Sheet 40
A1: DETAILS OF FIXED ASSETS FOR THE PURPOSE OF INCOME TAX ACT
A2: DURING THE F.Y 2014-15
A3: ANNEXURE XL
A4: Branch/Division_____________________
A6: Value (V) in ` Lakhs
A7: S.No. | B7: Detail of ASSET | C7: ADDITION (ACTUAL COST) DURING THE YEAR | I7: DELETION DURING THE YEAR
C8: IST APRIL TO 3RD OCT, 2014 | F8: 4TH OCT. TO 31ST MARCH, 2015 | I8: BY SALES
C9: Date of purchase | D9: Date of put to use | E9: Amount (`) | F9: Date of Purchase | G9: Date of put to use | H9: Amount (`) | I9: Sale Price | J9: WDV | K9: Profit/Loss
B26: Total
A30: Head of Finance (Branch/C.O.) | E30: Branch Manager | I30: Branch Auditors/Statutory Auditors

Sheet 41
A1: INFORMATION ON SFR FOR THE YEAR ENDED 31.03.2015
A3: BRANCH/DIVISIONS ______________
B4: ANNEXURE XLI
B5: (Amount in Rs.)
A6: 1. DATA ON CONSULTANTS
A7: NO. OF CONSULTANTS
A8: EXPENDITURE ON CONSULTANTS INCLUDING INCIDENTALS
A9: PROFESSIONAL FEES
A11: NO. OF CASES BY STC
A12: VALUE UNDER LITIGATION/ ARBITRATION
A13: NO. OF CASES AGAINST STC
A14: VALUE UNDER LITIGATION/ ARBITRATION
A15: LEGAL FEES PAID DURING THE YEAR
A17: 2. LAND MANAGEMENT
A18: TOTAL AREA IN SQ. METERS
A19: AREA FOR WHICH LEGAL DOCUMENTS ARE IN NAME OF THE STC
... A50: (6) Name of Branch Auditors :
A51: Name | B51: Man Days/hours spent in Audit | C51: TA/DA paid/paybale | D51: Out of pocket exps. paid/payable | E51: Audit fees actually paid | F51: Tax Audit fee paid/payable* | G51: Others payments, if any
A52: Partners
A53: Chartered Accountants Employees
A54: Other Employees
A58: Head of Finance (Branch/C.O.) | B58: Branch Manager | C58: Branch Auditors/Statutory Auditors

Sheet 42
A1: DETAILS OF TAX DEDUCTED AT SOURCE ON RENTAL, INTEREST INCOME ETC. FROM 01.04.14 - 31.03.15
A2: (Annexure - XLII)
A3: (Amount in Rs. )
A4: BRANCH/DIVISIONS ______________
A6: S.NO. | B6: NAME OF PARTY | C6: DATE OF PAYMENT RECEIVED | D6: GROSS AMOUNT CREDITED IN BOOKS | E6: AMOUNT OF TDS DEDUCTED BY PARTY | F6: FORM 16A CERTIFICATE NO. ISSUED BY PARTY | G6: TM No. | H6: Remarks
A19: Note:
A20: 1 | B20: Branches /Accounting units must ensure that Form 16 A & TM has been forwarded to corporate accounts Div.
A21: 2 | B21: Branches /Accounting units must ensure that Income has been accounted for in books of account on Gross Basis only.

Sheet 43
A1: DETAILS OF ASSETS FOR WHICH TITLE DEED WERE NOT REGISTERED AS ON 31.03.2015
A2: (Annexure - XLIII)
A3: (Amount in Rs. )
A4: BRANCH/DIVISIONS ______________
A6: Name of the Asset | B6: Gross value of the Asset | C6: Net Value of Asset as at 31.03.2015 | D6: Date/Year of acquisition | E6: Present status of action taken to get the title deed registered / reasons for delay in execution of deed
A20: DETAILS OF TRADE RECEIVABLES AS ON 31.03.2015
B21: Amount of Trade receivables outstanding as on | D21: Amount considered doubtful and for which provision has been made in accounts | F21: Age wise analysis of outstanding trade receivables as on 31.03.2015
B22: 31.03.2014 | C22: 31.03.2015 | D22: 31.03.2014 | E22: 31.03.2015 | F22: Less than 1 year | G22: More than 1 year but less than 2 years | H22: More than 2 years but less than 3 years | I22: More than 3 years
A23: A. Govt. Departments
A26: B. PSUs
A29: C. Others
A32: Total
A37: Head of Finance (Branch/C.O.) | D37: Branch Manager | F37: Branch Auditors/ Statutory Auditors

Sheet 44
A1: BREAK UP OF OTHERS, MISC. NON TRADE RECEIPTS, MISC. OFFICE EXPS. & WRITE BACK FOR THE YEAR ENDED 31ST MARCH 2015
A3: ANNEXURE - XLIV
A4: Branch/Division______________________
A5: (Amount in Rs.)
A7: (A) | B7: Details of Other Trade Income- Others under Other Operating Revenue in Note no. 26(b)
A8: S.No. | B8: Name of Party | C8: Amount | D8: Nature/Details of Income
D9: Held
A18: Total
A21: (B) | B21: Details of Misc. Non Trade Receipts under Other Receipts in Note no. 27(d)
A22: S.No. | B22: Name of Party | C22: Amount | D22: Nature/Details of Income
D23: Held
A31: Total
A34: (C) | B34: Details of Misc. Office Exps. under Other Administration Exps. in Note no. 34(b)
A35: S.No. | B35: Name of Party | C35: Amount | D35: Nature/Details of Exps.
D36: Held
A43: Total
A46: (D) | B46: Details of Liabilities created in previous year written back -Others in Note no. 35 (d)
A47: S.No. | B47: Name of Party | C47: Amount | D47: Nature/Details
D48: Held
A54: Total
A57: (E) | B57: Details of Write back of unclaimed credit balances in Note no. 35 (d)
A58: S.No. | B58: Name of Party | C58: Amount | D58: Nature/Details
D59: Held
A64: Total
B67: Head of Finance (Branch/C.O.) | C67: Branch Manager | D67: Branch/Statutory Auditors

Sheet 45
A1: DETAILS OF IMPACT OF POINT NO. 2 OF ACCOUNTING POLICY FOR THE YEAR ENDED 31ST MARCH 2015
A3: Branch/Division___________________
A4: ANNEXURE - XLV
A5: (Amount in Rs.)
A6: S.No. | B6: Particulars | C6: Amount Recongnized in books of account on cash basis during the year | D6: Income Accrued last year(s) but recongnized in current year | E6: Income Accrued but not recongnized
E9: Prior to 31/03/14 | F9: Current Year
A10: 1 | B10: Claims for refund of excess insurance premium on open policies
A13: 2 | B13: Interest on loans to subsidiaries and on delayed payments of sales/trade finance where realization is doubtful
A16: 3 | B16: Export benefits
A18: 4 | B18: Interest realisable from the items handled on Government account
A21: 5 | B21: Liquidated Damages
A23: 6 | B23: Claim lodged with Insurance Companies
B24: Total
A27: S.No. | B27: Assets Particulars | C27: Depreciation charged as per Companies' 2013 (existing rates) for the F.Y 2014-15 | D27: Depreciation to be computed as per old rates for F.Y. 2014-15 | E27: Difference
A32: 1 | B32: Building
A34: 2 | B34: Plant & Equipment
A36: 3 | B36: Furniture & fixtures
A38: 4 | B38: Vehicles
A40: 5 | B40: Air Conditioner & office Equipment
A42: 6 | B42: Computer data processor & communication equipment
A44: 7 | B44: Other (please specify)
B46: Total *
A48: Note : * Total should be matched with note no. 33.1
A53: Head of Finance (Branch/C.O.) | C53: Branch Manager | E53: Branch/Statutory Auditors

Sheet 45A
A1: THE STATE TRADING CORPORATION OF INDIA LTD.
A2: ANNEXURE XLVA
A3: Branch/Division ………………………
A4: (Amount in Rs.)
A5: (A) Fixed Assets-
A8: TANGIBLE ASSETS
A10: (A) OWNED ASSETS
A12: S.No. | B12: Description | C12: GROSS BLOCK | H12: DEPRECIATION & AMORTIZATION | L12: ACCUMULATED IMPAIRMENT | P12: NET BLOCK
C13: As on 01.04.2014 | D13: Additions due to revaluation | E13: Additions due to purchase | F13: Deductions/ Adjustments | G13: As on 31.03.2015 | H13: Up to 31.03.2014 | I13: Deductions/ Adjustments | J13: For the period ended 31.03.2015 | K13: Up to 31.03.2015 | L13: =+C13 -> As on 01.04.2014 | M13: Write Back/ Adjustments | N13: For the period ended 31.03.2015 | O13: =+G13 -> As on 31.03.2015 | P13: =+O13 -> As on 31.03.2015 | Q13: As on 31.03.2014
C14: (1) | D14: (2) | E14: (3) | F14: (4) | G14: (5)= (1)+(2)+(3)-(4) | H14: (6) | I14: (7) | J14: -8 | K14: (9)= (6)+/-(7)+(8) | L14: (10) | M14: (11) | N14: -12 | O14: (13)= (10)+/- (11)+(12) | P14: (14) = (5)-(9)-(13) | Q14: (15) = (1) - (6) - (10)
A15: 1 | B15: Land
A16: =A15+1 -> 2 | B16: Building
B17: - RCC Frame Structure
B18: - Other than RCC frame structure
B19: - Factory Building
B20: - Fences, wells, Tube wells
B21: - Other (including temporary structure)
A22: 3 | B22: Plant & Machinery
A23: =A22+1 -> 4 | B23: Furniture & Fittings
A24: =A23+1 -> 5 | B24: Motor Vehicles
B25: - Cars
B26: -Others (pl specify)
A27: 6 | B27: Office Equipment
A28: =A27+1 -> 7 | B28: Computers & data processing units
B29: -Servers and Netwroks
B30: -End User Devices(laptop, desktop)
A31: =A28+1 -> 8 | B31: Electrical Installation and Equipment
A33: Total
A34: Previous Year
A36: B) LEASEHOLD ASSETS
A38: S.No. | B38: Description | C38: GROSS BLOCK | H38: DEPRECIATION & AMORTIZATION | L38: ACCUMULATED IMPAIRMENT | P38: NET BLOCK
C39: =+C13 -> As on 01.04.2014 | D39: =D13 -> Additions due to revaluation | E39: =E13 -> Additions due to purchase | F39: Deductions | G39: =+G13 -> As on 31.03.2015 | H39: =+H13 -> Up to 31.03.2014 | I39: Deductions/ Adjustments | J39: =+J13 -> For the period ended 31.03.2015 | K39: =K13 -> Up to 31.03.2015 | L39: =L13 -> As on 01.04.2014 | M39: Write Back/ Adjustments | N39: =N13 -> For the period ended 31.03.2015 | O39: =O13 -> As on 31.03.2015 | P39: =P13 -> As on 31.03.2015 | Q39: =Q13 -> As on 31.03.2014
C40: =C14 -> (1) | D40: =D14 -> (2) | E40: =E14 -> (3) | F40: =F14 -> (4) | G40: =G14 -> (5)= (1)+(2)+(3)-(4) | H40: =H14 -> (6) | I40: =I14 -> (7) | J40: =J14 -> -8 | ... Q40: =Q14 -> (15) = (1) - (6) - (10)
A41: 1 | B41: Land
A42: =A41+1 -> 2 | B42: Building
A43: =A42+1 -> 3 | B43: Plant & Equipment
A44: 4 | B44: Bridge,Culverts & Bunders etc.
A45: 5 | B45: Others, Specify
A46: Total
A47: Previous Year
...

Sheet 46
A1: DETAILS OF STATUTORY DUES FOR THE YEAR ENDED 31ST MARCH 2015
A3: Branch/Division___________________
A4: ANNEXURE - XLVI
A5: (Amount in Rs.)
