Workbook
Name _GoBack: Notes!#REF!

Sheet B_S & Notes 11-12
B1: insert accounting policy from word file at this place
B3: 3. SHAREHOLDERS’ FUND
B4: 3.1 SHARE CAPITAL
F5: (Amount in ` )
D6: 31-03-2012 | F6: 31-03-2011
D7: Number | E7: Amount | F7: Number | G7: Amount
B8: A. Authorised
B9: Equity Shares of Par Value Rs.1/- each | D9: 1000000000 | E9: =G9 -> 1000000000 | F9: 1000000000 | G9: 1000000000
B11: B. Issued, subscribed and fully paid
B12: Opening Balance | D12: 1000000000 | E12: =G16 -> 1000000000 | F12: 50000000 | G12: 500000000
B13: Addition* | F13: 450000000
F14: 500000000 | G14: 500000000
B15: Deduction | F15: -
B16: Closing Balance | D16: 1000000000 | E16: =+E12+E13-E15 -> 1000000000 | F16: 1000000000 | G16: =+G12+G14-G15 -> 1000000000
B18: * During 2010-11, bonus shares were issued in the ratio of 1:1 by capitalizing a sum of Rs.500 million from general reserve and shares of the company of Rs.10/- each were further divided into 10 shares of Re1/- each.
B20: The Company has one class of share capital, comprising ordinary shares of Rupee 1/- each. Subject to the Company’s Articles of Association and applicable law, the Company’s ordinary shares confer on the holder: the right to receive notice of and vote at g
B22: The Company does not have any holding company. Hence no share is held by its holding company or its subsidiaries or associates.
B24: No shareholder other than the promoters is holding more than 5% shares of the company. The shareholding of the promoters i.e. President of India as on 31-03-2012 is 993,312,000 shares (P.Y. 993,312,000 shares)
B26: No share of the company is reserved for issue under options and contracts / commitments for the sale of shares / disinvestment.
B28: During last five years company has not issued any shares pursuant to contracts without payment being received in cash.
B30: During last five years company has not bought back its shares
B32: During 2010-11, bonus shares were issued in the ratio of 1:1 shares of the company of Rs.10/- each.
B34: The Company does not have any security convertible to equity / preference shares.
B36: The value of calls unpaid (including calls unpaid by directors and officers) is Rs. NIL million (P.Y. Rs. NIL million).
B38: The value of forfeited shares is Rs. NIL million (P.Y. Rs. NIL million).
B40: 3.1 RESERVES & SURPLUS
B42: 3.2.1 Reserves
F43: (Amount in ` )
D44: As at | E44: Additions | F44: Deductions | G44: As at
D45: 01-04-2011 | G45: 31-03-2012
B46: Capital Reserve | D46: 688326 | G46: =+D46+E46-F46 -> 688326
B47: General Reserve | D47: 5881127248 | E47: =H54 -> 75000000 | G47: =+D47+E47-F47 -> 5956127248
B49: Total (a) | D49: =SUM(D46:D48) -> 5881815574 | E49: =SUM(E46:E48) -> 75000000 | F49: =SUM(F46:F48) -> 0 | G49: =+D49+E49-F49 -> 5956815574
B51: 3.2.2 Surplus
G52: (Amount in ` )
D53: As at 01-04-2011 | E53: Transfer from statement of profit & loss | F53: Dividend | G53: Dividend Tax | H53: Transfer to General Reserve | I53: As at 31-03-2012
B54: Balance in Profit & Loss account | D54: 6915530242 | E54: 707218066 | F54: 250000000 | G54: 40556250 | H54: 75000000 | I54: =+D54+E54-F54-G54-H54 -> 7257192058
B56: Total (b) | D56: =+D54 -> 6915530242 | E56: =+E54 -> 707218066 | F56: =+F54 -> 250000000 | G56: =+G54 -> 40556250 | H56: =+H54 -> 75000000 | I56: =+D56+E56-F56-G56-H56 -> 7257192058
B57: Total (a+b) | D57: =D56+D49 -> 12797345816 | I57: =+I56+G49 -> 13214007632
B59: 4. NON CURRENT LIABILITIES
...

Sheet BS. & Notes 2012-13
B1: insert accounting policy from word file at this place
B3: 3. SHAREHOLDERS’ FUND
B4: 3.1 SHARE CAPITAL & RECONCILIATION OF THE NUMBER OF SHARES OUTSTANDING AT THE END OF THE REPORTING PERIOD
D6: (` in million)
D7: 31-03-2014
D8: Number | E8: Amount
B9: A. Authorised
B10: Equity Shares of Par Value Rs.1/- each | D10: 1000000000 | E10: 1000000000
B12: B. Issued, subscribed and fully paid
B13: Opening Balance as on 1st April 2011 | D13: 1000000000 | E13: 1000000000
B14: Addition*
B15: Deduction
B16: Closing Balance as 31st March 2012 | D16: 1000000000 | E16: =+E13+E14-E15 -> 1000000000
B18: * During 2010-11, bonus shares were issued in the ratio of 1:1 by capitalizing a sum of Rs.500 million from general reserve and shares of the company of Rs.10/- each were further divided into 10 shares of Re1/- each.
B20: The Company has one class of share capital, comprising ordinary shares of Rupee 1/- each. Subject to the Company’s Articles of Association and applicable law, the Company’s ordinary shares confer on the holder: the right to receive notice of and vote at g
B22: The Company does not have any holding company. Hence no share is held by its holding company or its subsidiaries or associates.
B24: No shareholder other than the promoters is holding more than 5% shares of the company. The shareholding of the promoters i.e. President of India as on 31-03-2012 is 993,312,000 shares (P.Y. 993,312,000 shares)
B26: No share of the company is reserved for issue under options and contracts / commitments for the sale of shares / disinvestment.
B28: During last five years company has not issued any shares pursuant to contracts without payment being received in cash.
B30: During last five years company has not bought back its shares
B32: During 2010-11, bonus shares were issued in the ratio of 1:1 shares of the company of Rs.10/- each.
B34: The Company does not have any security convertible to equity / preference shares.
B36: The value of calls unpaid (including calls unpaid by directors and officers) is Rs. NIL million (P.Y. Rs. NIL million).
B38: The value of forfeited shares is Rs. NIL million (P.Y. Rs. NIL million).
B40: 3.1 RESERVES & SURPLUS
D42: 31-03-2013 | F42: 31-03-2012
B43: Reserves
B44: Capital reserve- Opening Balance | D44: 688326 | F44: 688326
B45: Add : Transferred from Surplus | D45: 0 | F45: 0
B46: Closing Balance | E46: =+D44+D45 -> 688326 | G46: =+F44+F45 -> 688326
B48: General reserve- Opening Balance | D48: =G52 -> 5956127248 | F48: 5881127248
B49: Add : Tranferred from Surplus | F49: 75000000
D50: =+D48+D49 -> 5956127248 | F50: =+F48+F49 -> 5956127248
B51: Less : Duduction | F51: 0
B52: Closing Balance | E52: =+D50-D51 -> 5956127248 | G52: =+F50-F51 -> 5956127248
B54: Sustainable Development Reserve - Opening Balance
B55: Add : Tranferred from Surplus | D55: =D75 -> 2113291
D56: =+D54+D55 -> 2113291 | F56: =+F54+F55 -> 0
B57: Less : Duduction
B58: Closing Balance | E58: =+D56-D57 -> 2113291 | G58: =+F56-F57 -> 0
...

Sheet BS
B1: MMTC LIMITED
B2: BALANCE SHEET AS AT 31-03-2015
F3: (Amount in ` )
C5: Note No. | D5: AS AT 31-03-2015 | F5: AS AT 31-03-2014
B7: EQUITY AND LIABILITIES
B8: SHAREHOLDERS' FUNDS | C8: 3
B9: Share Capital | C9: 3.1 | D9: ='B_S & Notes (O)'!E16 -> 1000000000 | F9: ='B_S & Notes (O)'!G16 -> 1000000000
B10: Reserves & Surplus | C10: 3.2 | D10: ='B_S & Notes (O)'!E89 -> 173906481 | F10: ='B_S & Notes (O)'!G89 -> 0
E11: =+SUM(D9:D11) -> 1173906481 | G11: =+SUM(F9:F11) -> 1000000000
B13: SHARE APPLICATION MONEY PENDING ALLOTMENT
B15: NON-CURRENT LIABILITIES | C15: 4
B16: Long-term borrowings | C16: 4.1 | D16: ='B_S & Notes (O)'!E124 -> 0 | F16: ='B_S & Notes (O)'!G124 -> 0
B17: Deferred tax liabilities (net)
B18: Other Long term liabilities | C18: 4.1 | D18: ='B_S & Notes (O)'!E143 -> 264636859 | F18: ='B_S & Notes (O)'!G143 -> 0
B19: Long-term provisions | C19: 4.2 | D19: ='B_S & Notes (O)'!E163 -> 1771236074 | E19: =+SUM(D16:D19) -> 2035872933 | F19: ='B_S & Notes (O)'!G163 -> 0 | G19: =+SUM(F16:F19) -> 0
B21: CURRENT LIABILITIES | C21: 5
B22: Short-term borrowings | C22: 5.1 | D22: ='B_S & Notes (O)'!E178 -> 2866488481 | F22: ='B_S & Notes (O)'!G178 -> 0
B23: Trade payables | C23: 5.2 | D23: ='B_S & Notes (O)'!E192 -> 31643840201 | F23: ='B_S & Notes (O)'!G192 -> 0
B24: Other current liabilities | C24: 5.3 | D24: ='B_S & Notes (O)'!E222 -> 8376002629 | F24: ='B_S & Notes (O)'!G222 -> 0
B25: Short-term provisions | C25: 5.4 | D25: ='B_S & Notes (O)'!E250 -> 994851142 | E25: =+SUM(D22:D25) -> 43881182453 | F25: ='B_S & Notes (O)'!G250 -> 0 | G25: =+SUM(F22:F25) -> 0
B27: Total : | E27: =+SUM(E8:E26) -> 47090961867 | G27: =+SUM(G8:G26) -> 1000000000
B28: ASSETS
B29: NON-CURRENT ASSETS | C29: 6
B30: Fixed Assets | C30: 6.1
B31: Tangible assets | C31: 6.1.1 | D31: ='BS & Notes 2014-15'!D953 -> 576766960 | F31: ='BS & Notes 2013-14'!D951 -> 0
B32: Intangible assets | C32: 6.1.2 | D32: ='BS & Notes 2014-15'!D954 -> 1468066 | F32: ='BS & Notes 2013-14'!D952 -> 0
B33: Capital Work-in-progress | C33: 6.1.3 | D33: ='BS & Notes 2014-15'!D955 -> 49045 | F33: ='BS & Notes 2013-14'!D953 -> 0
B34: Intangible assets under development | C34: 6.1.4
B35: Non-current investments | C35: 6.2 | D35: ='B_S & Notes (O)'!E303 -> 4456573320 | F35: ='B_S & Notes (O)'!G303 -> 0
B36: Deferred tax assets (net) | C36: 6.3 | D36: ='B_S & Notes (O)'!F318 -> 2278970000 | F36: ='B_S & Notes (O)'!D318 -> 2261560000
B37: Long-term loans and advances | C37: 6.4 | D37: ='B_S & Notes (O)'!E360 -> 940593623 | F37: ='B_S & Notes (O)'!G360 -> 0
B38: Other non-current assets | C38: 6.5 | D38: ='B_S & Notes (O)'!E381 -> 8325338 | E38: =+SUM(D30:D38) -> 8262746352 | F38: ='B_S & Notes (O)'!G381 -> 0 | G38: =+SUM(F30:F38) -> 2261560000
B40: CURRENT ASSETS | C40: 7
B41: Current investments | C41: 7.1 | D41: ='B_S & Notes (O)'!E407 -> 0 | F41: ='B_S & Notes (O)'!G407 -> 0
B42: Inventories | C42: 7.2 | D42: ='B_S & Notes (O)'!E427 -> 3194035388 | F42: ='B_S & Notes (O)'!G427 -> 0
B43: Trade receivables | C43: 7.3 | D43: ='B_S & Notes (O)'!E465 -> 30350748334 | F43: ='B_S & Notes (O)'!G465 -> 0
B44: Cash and Bank Balances | C44: 7.4 | D44: ='B_S & Notes (O)'!E487 -> 1637728197 | F44: ='B_S & Notes (O)'!G487 -> 0
B45: Short-term loans and advances | C45: 7.5 | D45: ='B_S & Notes (O)'!E522 -> 12878902093 | F45: ='B_S & Notes (O)'!G522 -> 0
B46: Other current assets | C46: 7.6 | D46: ='B_S & Notes (O)'!E535 -> 3184811960 | E46: =+SUM(D41:D46) -> 51246225972 | F46: ='B_S & Notes (O)'!G535 -> 0 | G46: =+SUM(F41:F46) -> 0
B48: Total : | E48: =+SUM(E29:E47) -> 59508972324 | G48: =+SUM(G29:G47) -> 2261560000
...

Sheet BS & Notes 2014-15
B3: 3. SHAREHOLDERS’ FUND
B4: 3.1 SHARE CAPITAL & RECONCILIATION OF THE NUMBER OF SHARES OUTSTANDING AT THE END OF THE REPORTING PERIOD
D6: (` in million)
D7: 31-03-2015
D8: Number | E8: Amount
B9: A. Authorised
B10: Equity Shares of Par Value Rs.1/- each | D10: 1000000000 | E10: 1000000000
B12: B. Issued, subscribed and fully paid
B13: Opening Balance | D13: 1000000000 | E13: 1000000000
B14: Addition
B15: Deduction
B16: Closing Balance | D16: 1000000000 | E16: =+E13+E14-E15 -> 1000000000
B18: * During 2010-11, bonus shares were issued in the ratio of 1:1 by capitalizing a sum of Rs.500 million from general reserve and shares of the company of Rs.10/- each were further divided into 10 shares of Re1/- each.
B20: The Company has one class of share capital, comprising ordinary shares of Rupee 1/- each. Subject to the Company’s Articles of Association and applicable law, the Company’s ordinary shares confer on the holder: the right to receive notice of and vote at g
B22: The Company does not have any holding company. Hence no share is held by its holding company or its subsidiaries or associates.
B24: No shareholder other than the promoters is holding more than 5% shares of the company. The shareholding of the promoters i.e. President of India as on 31-03-2012 is 993,312,000 shares (P.Y. 993,312,000 shares)
B26: No share of the company is reserved for issue under options and contracts / commitments for the sale of shares / disinvestment.
B28: During last five years company has not issued any shares pursuant to contracts without payment being received in cash.
B30: During last five years company has not bought back its shares
B32: During 2010-11, bonus shares were issued in the ratio of 1:1 shares of the company of Rs.10/- each.
B34: The Company does not have any security convertible to equity / preference shares.
B36: The value of calls unpaid (including calls unpaid by directors and officers) is Rs. NIL million (P.Y. Rs. NIL million).
B38: The value of forfeited shares is Rs. NIL million (P.Y. Rs. NIL million).
B40: 3.1 RESERVES & SURPLUS
D42: 31-03-2015 | F42: 31-03-2014
B43: Reserves
B44: Capital reserve- Opening Balance | D44: 688326 | F44: ='BS & Notes 2013-14'!D44 -> 0
B45: Add : Transferred from Surplus | D45: 0 | F45: ='BS & Notes 2013-14'!D45 -> 0
B46: Closing Balance | E46: =+D44+D45 -> 688326 | G46: =+F44+F45 -> 0
B48: General reserve- Opening Balance | D48: =G52 -> 0 | F48: ='BS & Notes 2013-14'!D48 -> 0
B49: Add : Tranferred from Surplus | D49: =D82 -> 100000000 | F49: ='BS & Notes 2013-14'!D49 -> 0
D50: =+D48+D49 -> 100000000 | F50: =+F48+F49 -> 0
B51: Less : Duduction | F51: 0
B52: Closing Balance | E52: =+D50-D51 -> 100000000 | G52: =+F50-F51 -> 0
B54: Sustainable Development Reserve - Opening Balance | D54: =G58 -> 0 | F54: ='BS & Notes 2013-14'!D54 -> 0
B55: Add : Tranferred from Surplus | F55: ='BS & Notes 2013-14'!D55 -> 0
D56: =+D54+D55 -> 0 | F56: =+F54+F55 -> 0
B57: Less : Duduction | F57: ='BS & Notes 2013-14'!D57 -> 0
B58: Closing Balance | E58: =+D56-D57 -> 0 | G58: =+F56-F57 -> 0
B60: Corporate Social Responsibility Reserve-Opening Balance | D60: =G64 -> 0 | F60: ='BS & Notes 2013-14'!D60 -> 0
...

Sheet B_S & Notes (O)
B1: insert accounting policy from word file at this place
B3: 3. SHAREHOLDERS’ FUND
B4: 3.1 SHARE CAPITAL & RECONCILIATION OF THE NUMBER OF SHARES OUTSTANDING AT THE END OF THE REPORTING PERIOD
F5: (Amount in `)
D6: 31-03-2015 | F6: 31-03-2014
D7: Number | E7: Amount | F7: Number | G7: Amount
B8: A. Authorised
B9: Equity Shares of Par Value Rs.1/- each | D9: 1000000000 | E9: =G9 -> 1000000000 | F9: ='B_S & Notes 11-12'!D9 -> 1000000000 | G9: ='B_S & Notes 11-12'!E9 -> 1000000000
B11: B. Issued, subscribed and fully paid
B12: Opening Balance | D12: 1000000000 | E12: =G12 -> 1000000000 | F12: ='B_S & Notes 11-12'!D12 -> 1000000000 | G12: ='B_S & Notes 11-12'!E12 -> 1000000000
B13: Addition
B15: Deduction
B16: Closing Balance | D16: 1000000000 | E16: =+E12+E13-E15 -> 1000000000 | F16: ='B_S & Notes 11-12'!D16 -> 1000000000 | G16: ='B_S & Notes 11-12'!E16 -> 1000000000
B18: * During 2010-11, bonus shares were issued in the ratio of 1:1 by capitalizing a sum of Rs.500 million from general reserve and shares of the company of Rs.10/- each were further divided into 10 shares of Re1/- each.
B20: The Company has one class of share capital, comprising ordinary shares of Rupee 1/- each. Subject to the Company’s Articles of Association and applicable law, the Company’s ordinary shares confer on the holder: the right to receive notice of and vote at g
B22: The Company does not have any holding company. Hence no share is held by its holding company or its subsidiaries or associates.
B24: No shareholder other than the promoters is holding more than 5% shares of the company. The shareholding of the promoters i.e. President of India as on 31-03-2015 is 993,312,000 shares (P.Y. 993,312,000 shares)
B26: No share of the company is reserved for issue under options and contracts / commitments for the sale of shares / disinvestment.
B28: During last five years company has not issued any shares pursuant to contracts without payment being received in cash.
B30: During last five years company has not bought back its shares
B32: During 2010-11, bonus shares were issued in the ratio of 1:1 shares of the company of Rs.10/- each.
B34: The Company does not have any security convertible to equity / preference shares.
B36: The value of calls unpaid (including calls unpaid by directors and officers) is Rs. NIL million (P.Y. Rs. NIL million).
B38: The value of forfeited shares is Rs. NIL million (P.Y. Rs. NIL million).
B41: 3.2 RESERVES & SURPLUS
D43: 31-03-2015 | F43: 31-03-2014
B44: Reserves
B45: Capital reserve- Opening Balance | D45: ='BS & Notes 2014-15'!D44 -> 688326 | F45: ='BS & Notes 2013-14'!D44 -> 0
B46: Add : Transferred from Surplus | D46: ='BS & Notes 2014-15'!D45 -> 0 | F46: ='BS & Notes 2013-14'!D45 -> 0
B47: Closing Balance | E47: =+D45+D46 -> 688326 | G47: =+F45+F46 -> 0
B49: General reserve- Opening Balance | D49: ='BS & Notes 2014-15'!D48 -> 0 | F49: ='BS & Notes 2013-14'!D48 -> 0
B50: Add : Tranferred from Surplus | D50: ='BS & Notes 2014-15'!D49 -> 100000000 | F50: ='BS & Notes 2013-14'!D49 -> 0
D51: =D49+D50 -> 100000000 | F51: =+F49+F50 -> 0
B52: Less : Duduction | D52: ='BS & Notes 2014-15'!D51 -> 0 | F52: ='BS & Notes 2013-14'!D51 -> 0
B53: Closing Balance | E53: =D51-D52 -> 100000000 | G53: =+F51-F52 -> 0
B55: Sustainable Development Reserve - Opening Balance | D55: ='BS & Notes 2014-15'!D54 -> 0 | F55: ='BS & Notes 2013-14'!D54 -> 0
B56: Add : Tranferred from Surplus | D56: ='BS & Notes 2014-15'!D55 -> 0 | F56: ='BS & Notes 2013-14'!D55 -> 0
D57: =+D55+D56 -> 0 | F57: =+F55+F56 -> 0
B58: Less : Duduction | D58: ='BS & Notes 2014-15'!D57 -> 0 | F58: ='BS & Notes 2013-14'!D57 -> 0
B59: Closing Balance | E59: =+D57-D58 -> 0 | G59: =+F57-F58 -> 0
...

Sheet BS & Notes 2013-14

Sheet BS (I GAAP)

Sheet BS & Notes 2010-11

Sheet RESERVE & SURPLUS MILLIION

Sheet cash flow statement

Sheet Assets

Sheet PRP & PRMBS

Sheet Sheet1
A2: 0.302458 | B2: =ROUND(A2,2) -> 0.3 | C2: =A2-B2 -> 0.002458
A3: 1.668648 | B3: =ROUND(A3,2) -> 1.67 | C3: =A3-B3 -> -0.001352
A4: 26.167014 | B4: =ROUND(A4,2) -> 26.17 | C4: =A4-B4 -> -0.002986
A5: 17.24835 | B5: =ROUND(A5,2) -> 17.25 | C5: =A5-B5 -> -0.00165 | G5: Total Assets | H5: MMTC | I5: ='BS (I GAAP)'!E48 -> 0
A6: 1.091605 | B6: =ROUND(A6,2) -> 1.09 | C6: =A6-B6 -> 0.001605 | H6: CO | I6: ='BS & Notes 2014-15'!G970/1000000 -> 28575.197
A7: 47.310754 | B7: =ROUND(A7,2) -> 47.31 | C7: =A7-B7 -> 0.000754 | H7: MICA | I7: ='BS & Notes 2014-15'!AI970/1000000 -> 11.77153
A8: 0.784075 | B8: =ROUND(A8,2) -> 0.78 | C8: =A8-B8 -> 0.004075 | I8: =I5-I6-I7 -> -28586.968
A9: 25.778594 | B9: =ROUND(A9,2) -> 25.78 | C9: =A9-B9 -> -0.001406
A10: 16.56219 | B10: =ROUND(A10,2) -> 16.56 | C10: =A10-B10 -> 0.00219 | G10: REVENUE FROM OPERATIONS
A11: 7.14335 | B11: =ROUND(A11,2) -> 7.14 | C11: =A11-B11 -> 0.00335
A12: 2.994398 | B12: =ROUND(A12,2) -> 2.99 | C12: =A12-B12 -> 0.004398 | H12: MMTC | I12: =Notes!#REF!+Notes!#REF!-Notes!#REF! -> #REF!
A13: 15.051733 | B13: =ROUND(A13,2) -> 15.05 | C13: =A13-B13 -> 0.001733 | H13: CO | I13: ='BS & Notes 2014-15'!G572/1000000 -> 76834.907
A14: 6.903609 | B14: =ROUND(A14,2) -> 6.9 | C14: =A14-B14 -> 0.003609 | H14: MICA | I14: ='BS & Notes 2014-15'!AI582 -> 0
A15: 38.039407 | B15: =ROUND(A15,2) -> 38.04 | C15: =A15-B15 -> -0.000593 | I15: =I12-I13-I14 -> #REF!
A16: 18.857217 | B16: =ROUND(A16,2) -> 18.86 | C16: =A16-B16 -> -0.002783
A17: 6.741215 | B17: =ROUND(A17,2) -> 6.74 | C17: =A17-B17 -> 0.001215
A18: 48.481803 | B18: =ROUND(A18,2) -> 48.48 | C18: =A18-B18 -> 0.001803
A19: 5.832722 | B19: =ROUND(A19,2) -> 5.83 | C19: =A19-B19 -> 0.002722
A20: 3.971543 | B20: =ROUND(A20,2) -> 3.97 | C20: =A20-B20 -> 0.001543
A21: 0.430687 | B21: =ROUND(A21,2) -> 0.43 | C21: =A21-B21 -> 0.000687
A22: 5.483243 | B22: =ROUND(A22,2) -> 5.48 | C22: =A22-B22 -> 0.003243
A23: 18.307935 | B23: =ROUND(A23,2) -> 18.31 | C23: =A23-B23 -> -0.002065
A24: 0.183278 | B24: =ROUND(A24,2) -> 0.18 | C24: =A24-B24 -> 0.003278
A25: 3.38945 | B25: =ROUND(A25,2) -> 3.39
A26: 7.537007 | B26: =ROUND(A26,2) -> 7.54
A27: 22.025461 | B27: =ROUND(A27,2) -> 22.03
A28: 4.67553 | B28: =ROUND(A28,2) -> 4.68
A29: -2.735206 | B29: =ROUND(A29,2) -> -2.74
A30: 8.535474 | B30: =ROUND(A30,2) -> 8.54
A31: 15.994766 | B31: =ROUND(A31,2) -> 15.99
A32: 6.855344 | B32: =ROUND(A32,2) -> 6.86
A33: 299.95691 | B33: =ROUND(A33,2) -> 299.96
A34: 78.34657 | B34: =ROUND(A34,2) -> 78.35
A35: 12.355817 | B35: =ROUND(A35,2) -> 12.36
A36: 63.109864 | B36: =ROUND(A36,2) -> 63.11
A37: =SUM(A2:A36) -> 835.38281 | B37: =SUM(B2:B36) -> 835.38

Sheet points

Sheet Transition BS
A1: The State Trading Corporation of India Limited
A2: Opening Balance Sheet as at April 01, 2016
G3: (Figures in Rupees Cr.)
B4: Particulars | C4: Note | D4: As at March 31, 2016 | E4: Adjustments | F4: As at April 01, 2016 | G4: Justification/Explanation for adjusment, if any
A5: I | B5: ASSETS
A7: 1 | B7: Non current assets
B8: (a) Property, Plant and Equipment | C8: =PPE!A4 -> 1 | D8: =PPE!D50 -> 0 | E8: =PPE!E50 -> 0 | F8: =D8+E8 -> 0
B9: (b) Capital work-in-progress | C9: =PPE!A60 -> 2 | D9: =PPE!D74 -> 0 | E9: =PPE!E74 -> 0 | F9: =D9+E9 -> 0
B10: (c) Investment property | C10: =PPE!A76 -> 3 | D10: =+PPE!D82 -> 0 | E10: =+PPE!E82 -> 0 | F10: =D10+E10 -> 0
B11: (d) Goodwill
B12: (e) Other Intangible assets | C12: =PPE!A111 -> 4 | D12: =PPE!D118 -> 0 | E12: =PPE!E118 -> 0 | F12: =D12+E12 -> 0
B13: (f) Intangible assets under development
B14: (g) Biological Assets other than bearer plants
B15: (h) Financial Assets
B16: (i) Non current investments | C16: =Notes!A4 -> 5 | D16: =+Notes!C44 -> 0 | E16: =+Notes!D44 -> 0 | F16: =D16+E16 -> 0
B17: (ii) Trade Receivables | C17: =Notes!A66 -> 6 | D17: =Notes!C78 -> 0 | E17: =Notes!D78 -> 0 | F17: =D17+E17 -> 0
B18: (iii) Loans | C18: =Notes!A82 -> 7 | D18: =+Notes!C151 -> 0 | E18: =Notes!D151 -> 0 | F18: =D18+E18 -> 0
B19: (iii) Others | C19: =Notes!A155 -> 8 | D19: 0 | E19: =Notes!D164 -> 0 | F19: =D19+E19 -> 0
B20: (i) Deferred tax assets (net) | C20: =Notes!A169 -> 9 | D20: =Notes!C176 -> 0 | E20: =Notes!D176 -> 0 | F20: =D20+E20 -> 0
B21: (j) Other non current assets | C21: =Notes!A178 -> 10 | D21: =Notes!C248 -> 0 | E21: =Notes!D248 -> 0 | F21: =D21+E21 -> 0
D22: =SUM(D8:D21) -> 0 | E22: =SUM(E8:E21) -> 0 | F22: =SUM(F8:F21) -> 0
A23: 2 | B23: Current assets
B24: (a) Inventories | C24: =Notes!A256 -> 11 | D24: =+Notes!C268 -> 0 | E24: =Notes!D268 -> 0 | F24: =D24+E24 -> 0
B25: (b) Financial Assets
B26: (i) Current investments | D26: 0 | E26: 0 | F26: =D26+E26 -> 0
B27: (ii) Trade receivables | C27: =Notes!A271 -> 12 | D27: =Notes!C291 -> 0 | E27: =+Notes!D291 -> 0 | F27: =D27+E27 -> 0
B28: (iii) Cash and cash equivalents | C28: =Notes!A293 -> 13 | D28: =Notes!C313 -> 0 | E28: =Notes!D313 -> 0 | F28: =D28+E28 -> 0
B29: (iv) Bank Balances other than (iii) above | C29: =Notes!A317 -> 14 | D29: =Notes!C328 -> 0 | E29: =Notes!D328 -> 0 | F29: =D29+E29 -> 0
B30: (v) Loans | C30: =Notes!A332 -> 15 | D30: =+Notes!C400 -> 0 | E30: =+Notes!D400 -> 0 | F30: =D30+E30 -> 0
B31: (vi) Others | C31: =Notes!A405 -> 16
B32: (c) Current tax Assets | C32: =Notes!A420 -> 17 | D32: =+Notes!C426 -> 0 | E32: =+Notes!D426 -> 0 | F32: =D32+E32 -> 0
B33: (d) Other current assets | C33: =Notes!A430 -> 18 | D33: =Notes!C481 -> 0 | E33: =Notes!D481 -> 0 | F33: =D33+E33 -> 0
D34: =SUM(D24:D33) -> 0 | E34: =SUM(E24:E33) -> 0 | F34: =D34+E34 -> 0
B36: Total | D36: =D34+D22 -> 0 | E36: =E34+E22 -> 0 | F36: =ROUNDDOWN(+F34+F22,2) -> 0
A38: II. | B38: EQUITY AND LIABILITIES
A40: 1 | B40: Equity
B41: (a) Equity Share capital | C41: =Notes!A486 -> 19 | D41: =Notes!D497 -> 0 | E41: 0 | F41: =SUM(D41:E41) -> 0
B42: (b) Other Equity | C42: =Notes!A517 -> 20 | D42: =+'Changes in Equity'!Q15 -> 0 | E42: =SUM('Changes in Equity'!Q16:Q20) -> 0 | F42: =SUM(D42:E42) -> 0
D44: =SUM(D41:D43) -> 0 | E44: =SUM(E41:E43) -> 0 | F44: =SUM(F41:F43) -> 0
A46: =+A40+1 -> 2 | B46: Non- current liabilities
...

Sheet PPE
B1: The State Trading Corporation of India Limited
B2: Notes to Financial Statements
A4: 1 | B4: Property Plant and Equipment | F4: (Rupees in Cr.)
B6: Particulars | C6: Amounts | D6: Net block March 31, 2016 | E6: Adjustments | F6: Deemed Cost as at April 01, 2016
B8: Gross carrying Amounts of PPE:-
B9: Accumulated depreciation and impairment thereon
B11: Land freehold | C11: 0
B12: - Accumulated depreciation and impairment | C12: 0 | D12: =C11-C12 -> 0 | E12: 0 | F12: =D12+E12 -> 0
B14: Building freehold | C14: 0
B15: - Accumulated depreciation and impairment | C15: 0 | D15: =C14-C15 -> 0 | E15: 0 | F15: =D15+E15 -> 0
B18: Plant & Machinery | C18: 0
B19: - Accumulated depreciation and impairment | C19: 0 | D19: =C18+C19 -> 0 | E19: 0 | F19: =D19+E19 -> 0
B22: Furniture & Fittings | C22: 0
B23: - Accumulated depreciation and impairment | C23: 0 | D23: =C22+C23 -> 0 | E23: 0 | F23: =D23+E23 -> 0
B25: Motor Vehicle | C25: 0
B26: - Accumulated depreciation and impairment | C26: 0 | D26: =C25+C26 -> 0 | E26: 0 | F26: =D26+E26 -> 0
B28: Office Equipments | C28: 0
B29: - Accumulated depreciation and impairment | C29: 0 | D29: =C28+C29 -> 0 | E29: 0 | F29: =D29+E29 -> 0
B31: Computers, data processing units & communication equipment | C31: 0
B32: - Accumulated depreciation and impairment | C32: 0 | D32: =C31+C32 -> 0 | E32: 0 | F32: =D32+E32 -> 0
B34: Electrical Installations & Equipment | C34: 0
B35: - Accumulated depreciation and impairment | C35: 0 | D35: =C34+C35 -> 0 | E35: 0 | F35: =D35+E35 -> 0
B37: Roads, culverts & sewerage etc | C37: 0
B38: - Accumulated depreciation and impairment | C38: 0 | D38: =C37+C38 -> 0 | E38: 0 | F38: =D38+E38 -> 0
B40: Land leasehold | C40: 0
B41: - Accumulated depreciation and impairment | C41: 0 | D41: =C40+C41 -> 0 | E41: 0 | F41: =D41+E41 -> 0
B43: Building leasehold | C43: 0
B44: - Accumulated depreciation and impairment | C44: 0 | D44: =C43+C44 -> 0 | E44: 0 | F44: =D44+E44 -> 0
B46: Plant & Machinery Leasehold | C46: 0
B47: - Accumulated depreciation and impairment | C47: 0 | D47: =C46+C47 -> 0 | E47: 0 | F47: =D47+E47 -> 0
B50: Total | D50: =SUM(D12:D48) -> 0 | E50: =SUM(E12:E48) -> 0 | F50: =D50+E50 -> 0
B52: I. Impairment Losses recognised till date
D53: Rs Cr.
B54: Particulars | C54: Amount | D54: Residual Value
B56: XXXXXX | C56: 0 | D56: 0
B57: XXXXXX | C57: 0 | D57: 0
B58: Total | C58: =SUM(C56:C57) -> 0 | D58: =SUM(D56:D57) -> 0
A60: =A4+1 -> 2 | B60: Capital Work-in-Progress (CWIP)
B62: Particulars | C62: Amounts | D62: Net block March 31, 2016 | E62: Adjustments | F62: Deemed Cost as at April 01, 2016
B64: Office Building
...

Sheet Notes
B1: The State Trading Corporation of India Limited
B2: Notes to Financial Statements
A4: =PPE!A111+1 -> 5 | B4: Non Current Investments
E5: (Rupees in Cr.)
B6: Particulars | C6: 42460 | D6: Adjustments | E6: As at April 01, 2016
B8: TRADE INVESTMENTS
B10: Quoted Investments | C10: 0 | D10: 0 | E10: 0
B12: Unquoted Investments
B14: A. Investment in Equity instrument ~ Subsidiaries
B16: XXXXXXX (Fully paid up XXXX Equity shares of XXX each) | C16: 0 | D16: 0 | E16: =SUM(C16:D16) -> 0
B18: Investment in Equity instruments ~ Subsidiaries/Associates/JV
B19: XXXXXXX (Fully paid up XXXX Equity shares of XXX each) | C19: 0 | D19: 0 | E19: =SUM(C19:D19) -> 0
C20: =SUM(C16:C19) -> 0 | D20: =SUM(D16:D19) -> 0 | E20: =SUM(E16:E19) -> 0
B22: B. Investment in Equity instrument ~ Associates
B24: XXXXXXX (Fully paid up XXXX Equity shares of XXX each) | C24: 0 | D24: =-C24 -> 0 | E24: =SUM(C24:D24) -> 0
B26: XXXXXXX (Fully paid up XXXX Equity shares of XXX each)
B27: Less Impairement in value of investments
C28: =SUM(C24:C26) -> 0 | D28: =SUM(D24:D26) -> 0 | E28: =SUM(C28:D28) -> 0
B30: C. Investment in Equity instrument ~ Joint Ventures
B31: i. XXXXXXX (Fully paid up XXXX Equity shares of XXX each) | C31: 0 | D31: 0 | E31: =SUM(C31:D31) -> 0
B32: ii. XXXXXXX (Fully paid up XXXX Equity shares of XXX each) | C32: 0 | D32: 0 | E32: =SUM(C32:D32) -> 0
B33: iii. XXXXXXX (Fully paid up XXXX Equity shares of XXX each) | C33: 0 | D33: 0 | E33: =SUM(C33:D33) -> 0
B34: iv. XXXXXXX (Fully paid up XXXX Equity shares of XXX each) | C34: 0 | D34: 0 | E34: =SUM(C34:D34) -> 0
B35: v. XXXXXXXXX (Fully paid XXXXXX Shares of Rs.XX) Less : Impairement in value of investment | C35: 0 | D35: 0 | E35: =SUM(C35:D35) -> 0
C36: =SUM(C31:C35) -> 0 | D36: =SUM(D31:D35) -> 0 | E36: =SUM(E31:E35) -> 0
B37: D) Others
B38: XXXXXXXXXX
B39: Fully paid XXXXXX Equity shares of Rs.XX/- each | C39: 0 | D39: 0 | E39: =SUM(C39:D39) -> 0
B40: Less: Impairement in value of investment | C40: 0 | D40: 0 | E40: =SUM(C40:D40) -> 0
C41: =+C39-C40 -> 0 | D41: 0 | E41: =SUM(C41:D41) -> 0
C42: 0 | D42: 0 | E42: =SUM(C42:D42) -> 0
B44: Total | C44: =+C42+C41+C36+C28+C20 -> 0 | D44: =+D42+D41+SUM(D28:D35)+D20 -> 0 | E44: =+E42+E41+SUM(E28:E35)+E20 -> 0
B46: Detail of wholly owned subsidiary
B48: Name of Subsidiary | C48: Principal Activity | D48: Place of Incorporation | E48: Ownership And/or Control
B49: XXXXXXXXXXXX
B51: Details of Associates
B53: Name of Associates | C53: Principal Activity | D53: Place of Incorporation | E53: Ownership And/or Control
B54: XXXXXXXXXX
B56: Details of Joint Venture
B58: Name of Joint Venture | C58: Principal Activity | D58: Place of Incorporation | E58: Ownership And/or Control
...

Sheet Changes in Equity
A1: The State Trading Corporation of India Limited
A2: Transitional Balance Sheet as at April 01, 2016
P4: Rs in Cr.
A5: Statement of Changes in Equity as at April 01, 2016
A6: A . Equity Share Capital
E7: Balance at the beginning of the reporting period | I7: Changes in equity share capital during the year | J7: Balance at the end of the reporting period
E8: 0 | I8: 0 | J8: 0
A12: B. Other Equity
B13: Share application money pending allotment | C13: Equity Components of compound financial instruments | I13: Debt instruments through OCI | K13: Equity instruments through OCI | L13: Effective Portion of cash flow hedges | M13: Revaluation Surpluses | N13: Exchange difference on translation | O13: Other items of OCI | P13: Money received against share warrants | Q13: Total
D14: General Reserve | E14: Capital Reserve | F14: Securities Premium Reserve | G14: Other Reserve (please specify nature) | H14: Retained Earnings
A15: Balance at the beginning of the reporting period | B15: 0 | C15: 0 | D15: =+Notes!C531 -> 0 | E15: =+Notes!C522 -> 0 | F15: 0 | G15: =Notes!E528 -> 0 | H15: =+Notes!C537 -> 0 | I15: 0 | K15: 0 | L15: 0 | M15: 0 | N15: 0 | O15: 0 | P15: 0 | Q15: =SUM(B15:P15) -> 0
A16: Changes in accounting policy or prior period errors | B16: 0 | C16: 0 | D16: =Notes!D531 -> 0 | E16: =-E15 -> 0 | F16: 0 | G16: 0 | H16: 0 | I16: 0 | J16: 0 | K16: 0 | L16: 0 | M16: 0 | N16: 0 | O16: 0 | P16: 0 | Q16: =SUM(B16:P16) -> 0
A17: Total comprehensive income for the year | B17: 0 | C17: 0 | D17: 0 | I17: 0 | J17: 0 | K17: 0 | L17: 0 | M17: 0 | N17: 0 | O17: 0 | P17: 0 | Q17: =SUM(B17:P17) -> 0
A18: Dividends | B18: 0 | C18: 0 | D18: 0 | E18: 0 | F18: 0 | G18: 0 | H18: 0 | I18: 0 | J18: 0 | K18: 0 | L18: 0 | M18: 0 | N18: 0 | O18: 0 | P18: 0 | Q18: =SUM(B18:P18) -> 0
A19: Transfer to retained earnings | B19: 0 | C19: 0 | D19: 0 | E19: 0 | F19: 0 | G19: 0 | H19: 0 | I19: 0 | J19: 0 | K19: 0 | L19: 0 | M19: 0 | N19: 0 | O19: 0 | P19: 0 | Q19: =SUM(B19:P19) -> 0
A20: Any other changes | B20: 0 | C20: 0 | D20: 0 | E20: 0 | F20: 0 | G20: 0 | H20: 0 | I20: 0 | J20: 0 | K20: 0 | L20: 0 | M20: 0 | N20: 0 | O20: 0 | P20: 0 | Q20: =SUM(B20:P20) -> 0
A21: Balance at the end of the reporting period | B21: =SUM(B15:B20) -> 0 | C21: =SUM(C15:C20) -> 0 | D21: =SUM(D15:D20) -> 0 | E21: =SUM(E15:E20) -> 0 | F21: =SUM(F15:F20) -> 0 | G21: =SUM(G15:G20) -> 0 | H21: =SUM(H15:H20) -> 0 | I21: 0 | J21: =SUM(J15:J20) -> 0 | K21: 0 | L21: 0 | M21: 0 | N21: 0 | O21: 0 | P21: 0 | Q21: =SUM(Q15:Q20) -> 0

Sheet FA Schedule I GAAP
A3: Fixed Assets Schedule
A5: Fixed Assets | B5: Gross Blocks | G5: Depreciation/Impairment | M5: Net Carrying Value | O5: Remarks
B6: 01-04-2014 | C6: Addition | D6: Other Adjustments | E6: Disposals | F6: 31-03-2015 | G6: Opening balance as at 01-04-2014 | H6: Depreciation for the year | I6: Impairment/ (reversal of impairment) | J6: Sub-Total | K6: Deductions | L6: Balance as at 31-03-2015 | M6: 42094 | N6: 41729
A7: Land freehold
A8: -Office building | B8: =3659111 -> 3659111 | C8: 0 | D8: 0 | E8: 0 | F8: 3659111 | G8: 0 | H8: 0 | I8: 0 | J8: 0 | K8: 0 | L8: 0 | M8: =F8-L8 -> 3659111 | N8: =B8-G8 -> 3659111
A9: -Staff Quarters | B9: 1332631 | C9: 0 | D9: 0 | E9: 0 | F9: 1332631 | G9: 0 | H9: 0 | I9: 0 | J9: 0 | K9: 0 | L9: 0 | M9: =F9-L9 -> 1332631 | N9: =B9-G9 -> 1332631
A10: Land leasehold | M10: =F10-L10 -> 0 | N10: =B10-G10 -> 0
A11: -Office building | B11: 39596457 | C11: 0 | D11: 0 | E11: 0 | F11: 39596457 | G11: 12126157 | H11: 502694 | I11: 0 | J11: 12628851 | K11: 0 | L11: 12628851 | M11: =F11-L11 -> 26967606 | N11: =B11-G11 -> 27470300
A12: -Staff Quarters | B12: 2670348 | C12: 0 | D12: 0 | E12: 0 | F12: 2670348 | G12: 1116383 | H12: 25304 | I12: 0 | J12: 1141687 | K12: 0 | L12: 1141687 | M12: =F12-L12 -> 1528661 | N12: =B12-G12 -> 1553965
A13: Building | M13: =F13-L13 -> 0 | N13: =B13-G13 -> 0
A14: -Office Building | B14: 127604051 | C14: 0 | D14: 0 | E14: 0 | F14: 127604051 | G14: 59214126 | H14: 1520797 | I14: 0 | J14: 60734923 | K14: 0 | L14: 60734923 | M14: =F14-L14 -> 66869128 | N14: =B14-G14 -> 68389925
A15: -Staff Quarters/Residential Flats | B15: 65718669 | C15: 185743 | D15: 0 | E15: 0 | F15: 65904412 | G15: 53092819 | H15: 507578 | I15: 0 | J15: 53600397 | K15: 0 | L15: 53600397 | M15: =F15-L15 -> 12304015 | N15: =B15-G15 -> 12625850
A16: -Water supply, Sewerage & Drainage | B16: 9484462 | C16: 0 | D16: 0 | E16: 0 | F16: 9484462 | G16: 9398809 | H16: 85639 | I16: 0 | J16: 9484448 | K16: 0 | L16: 9484448 | M16: =F16-L16 -> 14 | N16: =B16-G16 -> 85653
A17: -Electrical Installations | B17: 18255462 | C17: 199060 | D17: 0 | E17: 32150 | F17: 18422372 | G17: 16411123 | H17: 342944 | I17: 0 | J17: 16754067 | K17: 32147 | L17: 16721920 | M17: =F17-L17 -> 1700452 | N17: =B17-G17 -> 1844339
A18: -Roads & Culverts | B18: 3579962 | C18: 0 | D18: 0 | E18: 0 | F18: 3579962 | G18: 3209239 | H18: 138179 | I18: 0 | J18: 3347418 | K18: 0 | L18: 3347418 | M18: =F18-L18 -> 232544 | N18: =B18-G18 -> 370723
A19: -Audio/Fire/Airconditioning | B19: 12237919 | C19: 446193 | D19: -59233 | E19: 80542 | F19: 12544337 | G19: 11995935 | H19: 155288 | I19: 0 | J19: 12151223 | K19: 150126 | L19: 12001097 | M19: =F19-L19 -> 543240 | N19: =B19-G19 -> 241984
A20: Plant & Equipment | B20: 796244522 | C20: 660020 | D20: 0 | E20: 1915893 | F20: 794988649 | G20: 332080802 | H20: 33576635 | I20: 0 | J20: 365657437 | K20: 1915883 | L20: 363741554 | M20: =F20-L20 -> 431247095 | N20: =B20-G20 -> 464163720
A21: Furniture & Fixtures | E21: 0 | F21: 0 | J21: 0 | M21: =F21-L21 -> 0 | N21: =B21-G21 -> 0
A22: -Partitions | B22: 23414961 | C22: 212668 | D22: 1167741 | E22: 36195 | F22: 24759175 | G22: 22955915 | H22: 11175 | I22: 0 | J22: 22967090 | K22: -1131538 | L22: 24098628 | M22: =F22-L22 -> 660547 | N22: =B22-G22 -> 459046
A23: -Others | B23: 50539356 | C23: 941271 | D23: -2160563 | E23: 151383 | F23: 49168681 | G23: 48001777 | H23: 850128 | I23: 0 | J23: 48851905 | K23: 2296361 | L23: 46555544 | M23: =F23-L23 -> 2613137 | N23: =B23-G23 -> 2537579
A24: Vehicles | B24: 21576938 | C24: 0 | D24: 0 | E24: 551683 | F24: 21025255 | G24: 20472182 | H24: 240044 | I24: 0 | J24: 20712226 | K24: 551682 | L24: 20160544 | M24: =F24-L24 -> 864711 | N24: =B24-G24 -> 1104756
A25: Office Equipments | B25: 57476886 | C25: 2122560 | D25: 1075050 | E25: 1130830 | F25: 59543666 | G25: 48028674 | H25: 5290465 | I25: 0 | J25: 53319139 | K25: 12419 | L25: 53306720 | M25: =F25-L25 -> 6236946 | N25: =B25-G25 -> 9448212
A26: Others:- | B26: 0 | E26: 0 | F26: 0 | G26: 0 | H26: 0 | J26: 0 | M26: =F26-L26 -> 0 | N26: =B26-G26 -> 0
A27: Railway Wagon Rakes | B27: 553643160 | C27: 0 | D27: 0 | E27: 0 | F27: 553643160 | G27: 421687310 | H27: 25086864 | I27: 106868921 | J27: 553643095 | K27: 0 | L27: 553643095 | M27: =F27-L27 -> 65 | N27: =B27-G27 -> 131955850 | O27: Reassessment of impairment not to be done as requested
A28: Railway Loop Line at BNHT | B28: 26170572 | C28: 0 | D28: 0 | E28: 0 | F28: 26170572 | G28: 26170571 | H28: 0 | I28: 0 | J28: 26170571 | K28: 0 | L28: 26170571 | M28: =F28-L28 -> 1 | N28: =B28-G28 -> 1
A29: Warehouse | B29: 34112382 | C29: 0 | D29: 0 | E29: 0 | F29: 34112382 | G29: 19405114 | H29: 2135988 | I29: 0 | J29: 21541102 | K29: 0 | L29: 21541102 | M29: =F29-L29 -> 12571280 | N29: =B29-G29 -> 14707268 | O29: Classification need to be changed
A30: Computer/ Data Processors | B30: 178017283 | C30: 4648516 | D30: -22995 | E30: 1017479 | F30: 181625325 | G30: 169479196 | H30: 5727810 | I30: 0 | J30: 175207006 | K30: 1017456 | L30: 174189550 | M30: =F30-L30 -> 7435775 | N30: =B30-G30 -> 8538087
M31: =F31-L31 -> 0 | N31: =B31-G31 -> 0
A32: Total | B32: 2025335132 | C32: 9416031 | D32: 0 | E32: 4916155 | F32: 2029835008 | G32: 1274846132 | H32: 76197532 | I32: 106868921 | J32: 1457912585 | K32: 4844536 | L32: 1453068049 | M32: =F32-L32 -> 576766959 | N32: =B32-G32 -> 750489000
A33: Last Year | B33: =B35*1000000 -> 2022790000 | C33: =C35*1000000 -> 15640000 | E33: =E35*1000000 -> 13100000 | F33: =B32 -> 2025335132 | G33: =G35*1000000 -> 1158050000 | H33: =H35*1000000 -> 115170000 | I33: =I35*1000000 -> 10880000 | J33: =J35*1000000 -> 1284100000 | K33: =K35*1000000 -> 9260000 | L33: =G32 -> 1274846132 | M33: =N32 -> 750489000
B35: 2022.79 | C35: 15.64 | E35: 13.1 | G35: 1158.05 | H35: 115.17 | I35: 10.88 | J35: 1284.1 | K35: 9.26
B37: Gross Block | H37: Amortisation | N37: Net Carrying Value
A38: Intangible Assets | B38: 01-04-2014 | C38: Addition | D38: Additions through Business Combinations | E38: Other adjustments | F38: Disposals | G38: 31-03-2015 | H38: Opening balance as at 01-04-2014 | I38: Amortisation for the year | J38: Impairment / (reversal of impairment) | K38: Sub-Total | L38: Deductions | M38: Balance as at 31-03-2015 | N38: 42094 | O38: 41729
A39: Computer software | B39: 2405002 | C39: 144486 | D39: 0 | E39: 0 | F39: 0 | G39: 2549488 | H39: 598667 | I39: 482755 | J39: 0 | K39: 1081422 | L39: 0 | M39: 1081422 | N39: =G39-M39 -> 1468066 | O39: =B39-H39 -> 1806335
A40: Others | B40: 0 | C40: 0 | D40: 0 | E40: 0 | F40: 0 | G40: 0 | H40: 0 | I40: 0 | J40: 0 | K40: 0 | L40: 0 | M40: 0
A41: Total | B41: 2405002 | C41: 144486 | D41: 0 | E41: 0 | F41: 0 | G41: 2549488 | H41: 598667 | I41: 482755 | J41: 0 | K41: 1081422 | L41: 0 | M41: 1081422 | N41: =N39 -> 1468066 | O41: =O39 -> 1806335
A42: Last Year | B42: =B44*1000000 -> 2050000 | C42: =C44*1000000 -> 540000 | E42: =E44*1000000 -> 190000 | G42: =B41 -> 2405002 | H42: =H44*1000000 -> 410000 | I42: =I44*1000000 -> 380000 | K42: =K44*1000000 -> 790000 | L42: =L44*1000000 -> 190000 | M42: =H41 -> 598667 | N42: =O41 -> 1806335
B44: 2.05 | C44: 0.54 | E44: 0.19 | H44: 0.41 | I44: 0.38 | K44: 0.79 | L44: 0.19
B48: Gross Block | G48: Depreciation/Impairment | M48: Net Carrying Value
A49: Capital work-in-progress | B49: 01-04-2014 | C49: Addition | D49: Other Adjustments | E49: Disposals | F49: 31-03-2015 | G49: Opening balance as at 01-04-2014 | H49: Depreciation for the year | I49: Impairment/ (reversal of impairment) | J49: Sub-Total | K49: Deductions | L49: Balance as at 31-03-2015 | M49: 42094 | N49: 41729
...

Sheet Assets (2)
B2: 6.1.1 Tangible Assets
G3: (` in million)
C4: TOTAL | I4: CORPORATE OFFICE | O4: BANGALORE | U4: AHMEDABAD | AA4: HYDERABAD | AG4: BELLARY | AM4: MUMBAI | AS4: GOA | AY4: BHUBANESWAR | BE4: KOLKATA | BK4: JAIPUR | BQ4: VIZAG | BW4: DRO | CC4: JJC | CI4: CHENNAI | CO4: MICA
B5: Gross Blocks | C5: 01-04-2014 | D5: Addition | E5: Other Adjustments | F5: Disposals | G5: 31-03-2015 | I5: 01-04-2014 | J5: Addition | K5: Other Adjustments | L5: Disposals | M5: 31-03-2015 | O5: 01-04-2014 | P5: Addition | Q5: Other Adjustments | R5: Disposals | S5: 31-03-2015 | U5: 01-04-2014 | V5: Addition | W5: Other Adjustments | X5: Disposals | Y5: 31-03-2015 | AA5: 01-04-2014 | AB5: Addition | AC5: Other Adjustments | AD5: Disposals | AE5: 31-03-2015 | AG5: 01-04-2014 | AH5: Addition | AI5: Other Adjustments | AJ5: Disposals | AK5: 31-03-2015 | AM5: 01-04-2014 | AN5: Addition | AO5: Other Adjustments | AP5: Disposals | AQ5: 31-03-2015 | AS5: 01-04-2014 | AT5: Addition | AU5: Other Adjustments | AV5: Disposals | AW5: 31-03-2015 | AY5: 01-04-2014 | AZ5: Addition | BA5: Other Adjustments | BB5: Disposals | BC5: 31-03-2015 | BE5: 01-04-2014 | BF5: Addition | BG5: Other Adjustments | BH5: Disposals | BI5: 31-03-2015 | BK5: 01-04-2014 | BL5: Addition | BM5: Other Adjustments | BN5: Disposals | BO5: 31-03-2015 | BQ5: 01-04-2014 | BR5: Addition | BS5: Other Adjustments | BT5: Disposals | BU5: 31-03-2015 | BW5: 01-04-2014 | BX5: Addition | BY5: Other Adjustments | BZ5: Disposals | CA5: 31-03-2015 | CC5: 01-04-2014 | CD5: Addition | CE5: Other Adjustments | CF5: Disposals | CG5: 31-03-2015 | CI5: 01-04-2014 | CJ5: Addition | CK5: Other Adjustments | CL5: Disposals | CM5: 31-03-2015 | CO5: 01-04-2014 | CP5: Addition | CQ5: Other Adjustments | CR5: Disposals | CS5: 31-03-2015
B6: Land freehold | M6: =+I6+J6+K6-L6 -> 0 | S6: =+O6+P6+Q6-R6 -> 0 | Y6: =+U6+V6+W6-X6 -> 0 | AE6: =+AA6+AB6+AC6-AD6 -> 0 | AK6: =+AG6+AH6+AI6-AJ6 -> 0 | AQ6: =+AM6+AN6+AO6-AP6 -> 0 | AW6: =+AS6+AT6+AU6-AV6 -> 0 | BC6: =+AY6+AZ6+BA6-BB6 -> 0 | BI6: =+BE6+BF6+BG6-BH6 -> 0 | BO6: =+BK6+BL6+BM6-BN6 -> 0 | BU6: =+BQ6+BR6+BS6-BT6 -> 0 | CA6: =+BW6+BX6+BY6-BZ6 -> 0 | CG6: =+CC6+CD6+CE6-CF6 -> 0 | CM6: =+CI6+CJ6+CK6-CL6 -> 0 | CS6: =+CO6+CP6+CQ6-CR6 -> 0
B7: -Office building | C7: =I7+O7+U7+AA7+AG7+AM7+AS7+AY7+BE7+BK7+BQ7+BW7+CC7+CI7+CO7 -> 3659111 | D7: =J7+P7+V7+AB7+AH7+AN7+AT7+AZ7+BF7+BL7+BR7+BX7+CD7+CJ7+CP7 -> 0 | E7: =K7+Q7+W7+AC7+AI7+AO7+AU7+BA7+BG7+BM7+BS7+BY7+CE7+CK7+CQ7 -> 0 | F7: =L7+R7+X7+AD7+AJ7+AP7+AV7+BB7+BH7+BN7+BT7+BZ7+CF7+CL7+CR7 -> 0 | G7: =+C7+D7+E7-F7 -> 3659111 | M7: =+I7+J7+K7-L7 -> 0 | O7: 3659111 | S7: =+O7+P7+Q7-R7 -> 3659111 | Y7: =+U7+V7+W7-X7 -> 0 | AE7: =+AA7+AB7+AC7-AD7 -> 0 | AK7: =+AG7+AH7+AI7-AJ7 -> 0 | AQ7: =+AM7+AN7+AO7-AP7 -> 0 | AW7: =+AS7+AT7+AU7-AV7 -> 0 | BC7: =+AY7+AZ7+BA7-BB7 -> 0 | BI7: =+BE7+BF7+BG7-BH7 -> 0 | BO7: =+BK7+BL7+BM7-BN7 -> 0 | BU7: =+BQ7+BR7+BS7-BT7 -> 0 | CA7: =+BW7+BX7+BY7-BZ7 -> 0 | CG7: =+CC7+CD7+CE7-CF7 -> 0 | CM7: =+CI7+CJ7+CK7-CL7 -> 0 | CS7: =+CO7+CP7+CQ7-CR7 -> 0
B8: -Staff Quarters | C8: =I8+O8+U8+AA8+AG8+AM8+AS8+AY8+BE8+BK8+BQ8+BW8+CC8+CI8+CO8 -> 1332631 | D8: =J8+P8+V8+AB8+AH8+AN8+AT8+AZ8+BF8+BL8+BR8+BX8+CD8+CJ8+CP8 -> 0 | E8: =K8+Q8+W8+AC8+AI8+AO8+AU8+BA8+BG8+BM8+BS8+BY8+CE8+CK8+CQ8 -> 0 | F8: =L8+R8+X8+AD8+AJ8+AP8+AV8+BB8+BH8+BN8+BT8+BZ8+CF8+CL8+CR8 -> 0 | G8: =+C8+D8+E8-F8 -> 1332631 | I8: 1316521 | M8: =+I8+J8+K8-L8 -> 1316521 | O8: 16110 | S8: =+O8+P8+Q8-R8 -> 16110 | Y8: =+U8+V8+W8-X8 -> 0 | AE8: =+AA8+AB8+AC8-AD8 -> 0 | AK8: =+AG8+AH8+AI8-AJ8 -> 0 | AQ8: =+AM8+AN8+AO8-AP8 -> 0 | AW8: =+AS8+AT8+AU8-AV8 -> 0 | BC8: =+AY8+AZ8+BA8-BB8 -> 0 | BI8: =+BE8+BF8+BG8-BH8 -> 0 | BO8: =+BK8+BL8+BM8-BN8 -> 0 | BU8: =+BQ8+BR8+BS8-BT8 -> 0 | CA8: =+BW8+BX8+BY8-BZ8 -> 0 | CG8: =+CC8+CD8+CE8-CF8 -> 0 | CM8: =+CI8+CJ8+CK8-CL8 -> 0 | CS8: =+CO8+CP8+CQ8-CR8 -> 0
B9: Land leasehold | M9: =+I9+J9+K9-L9 -> 0 | S9: =+O9+P9+Q9-R9 -> 0 | Y9: =+U9+V9+W9-X9 -> 0 | AE9: =+AA9+AB9+AC9-AD9 -> 0 | AK9: =+AG9+AH9+AI9-AJ9 -> 0 | AQ9: =+AM9+AN9+AO9-AP9 -> 0 | AW9: =+AS9+AT9+AU9-AV9 -> 0 | BC9: =+AY9+AZ9+BA9-BB9 -> 0 | BI9: =+BE9+BF9+BG9-BH9 -> 0 | BO9: =+BK9+BL9+BM9-BN9 -> 0 | BU9: =+BQ9+BR9+BS9-BT9 -> 0 | CA9: =+BW9+BX9+BY9-BZ9 -> 0 | CG9: =+CC9+CD9+CE9-CF9 -> 0 | CM9: =+CI9+CJ9+CK9-CL9 -> 0 | CS9: =+CO9+CP9+CQ9-CR9 -> 0
B10: -Office building | C10: =I10+O10+U10+AA10+AG10+AM10+AS10+AY10+BE10+BK10+BQ10+BW10+CC10+CI10+CO10 -> 39596457 | D10: =J10+P10+V10+AB10+AH10+AN10+AT10+AZ10+BF10+BL10+BR10+BX10+CD10+CJ10+CP10 -> 0 | E10: =K10+Q10+W10+AC10+AI10+AO10+AU10+BA10+BG10+BM10+BS10+BY10+CE10+CK10+CQ10 -> 0 | F10: =L10+R10+X10+AD10+AJ10+AP10+AV10+BB10+BH10+BN10+BT10+BZ10+CF10+CL10+CR10 -> 0 | G10: =+C10+D10+E10-F10 -> 39596457 | I10: 11071815 | M10: =+I10+J10+K10-L10 -> 11071815 | O10: 1575000 | S10: =+O10+P10+Q10-R10 -> 1575000 | Y10: =+U10+V10+W10-X10 -> 0 | AE10: =+AA10+AB10+AC10-AD10 -> 0 | AK10: =+AG10+AH10+AI10-AJ10 -> 0 | AM10: 24799540 | AQ10: =+AM10+AN10+AO10-AP10 -> 24799540 | AW10: =+AS10+AT10+AU10-AV10 -> 0 | AY10: 425186 | BC10: =+AY10+AZ10+BA10-BB10 -> 425186 | BE10: 13221 | BI10: =+BE10+BF10+BG10-BH10 -> 13221 | BO10: =+BK10+BL10+BM10-BN10 -> 0 | BQ10: 150 | BU10: =+BQ10+BR10+BS10-BT10 -> 150 | CA10: =+BW10+BX10+BY10-BZ10 -> 0 | CG10: =+CC10+CD10+CE10-CF10 -> 0 | CM10: =+CI10+CJ10+CK10-CL10 -> 0 | CO10: 1711545 | CS10: =+CO10+CP10+CQ10-CR10 -> 1711545
B11: -Staff Quarters | C11: =I11+O11+U11+AA11+AG11+AM11+AS11+AY11+BE11+BK11+BQ11+BW11+CC11+CI11+CO11 -> 2670348 | D11: =J11+P11+V11+AB11+AH11+AN11+AT11+AZ11+BF11+BL11+BR11+BX11+CD11+CJ11+CP11 -> 0 | E11: =K11+Q11+W11+AC11+AI11+AO11+AU11+BA11+BG11+BM11+BS11+BY11+CE11+CK11+CQ11 -> 0 | F11: =L11+R11+X11+AD11+AJ11+AP11+AV11+BB11+BH11+BN11+BT11+BZ11+CF11+CL11+CR11 -> 0 | G11: =+C11+D11+E11-F11 -> 2670348 | I11: 1243638 | M11: =+I11+J11+K11-L11 -> 1243638 | S11: =+O11+P11+Q11-R11 -> 0 | Y11: =+U11+V11+W11-X11 -> 0 | AE11: =+AA11+AB11+AC11-AD11 -> 0 | AK11: =+AG11+AH11+AI11-AJ11 -> 0 | AQ11: =+AM11+AN11+AO11-AP11 -> 0 | AS11: 1049750 | AW11: =+AS11+AT11+AU11-AV11 -> 1049750 | AY11: 376960 | BC11: =+AY11+AZ11+BA11-BB11 -> 376960 | BI11: =+BE11+BF11+BG11-BH11 -> 0 | BO11: =+BK11+BL11+BM11-BN11 -> 0 | BU11: =+BQ11+BR11+BS11-BT11 -> 0 | CA11: =+BW11+BX11+BY11-BZ11 -> 0 | CG11: =+CC11+CD11+CE11-CF11 -> 0 | CM11: =+CI11+CJ11+CK11-CL11 -> 0 | CS11: =+CO11+CP11+CQ11-CR11 -> 0
B12: Building | M12: =+I12+J12+K12-L12 -> 0 | S12: =+O12+P12+Q12-R12 -> 0 | Y12: =+U12+V12+W12-X12 -> 0 | AE12: =+AA12+AB12+AC12-AD12 -> 0 | AK12: =+AG12+AH12+AI12-AJ12 -> 0 | AQ12: =+AM12+AN12+AO12-AP12 -> 0 | AW12: =+AS12+AT12+AU12-AV12 -> 0 | BC12: =+AY12+AZ12+BA12-BB12 -> 0 | BI12: =+BE12+BF12+BG12-BH12 -> 0 | BO12: =+BK12+BL12+BM12-BN12 -> 0 | BU12: =+BQ12+BR12+BS12-BT12 -> 0 | CA12: =+BW12+BX12+BY12-BZ12 -> 0 | CG12: =+CC12+CD12+CE12-CF12 -> 0 | CM12: =+CI12+CJ12+CK12-CL12 -> 0 | CS12: =+CO12+CP12+CQ12-CR12 -> 0
B13: -Office Building | C13: =I13+O13+U13+AA13+AG13+AM13+AS13+AY13+BE13+BK13+BQ13+BW13+CC13+CI13+CO13 -> 127604051 | D13: =J13+P13+V13+AB13+AH13+AN13+AT13+AZ13+BF13+BL13+BR13+BX13+CD13+CJ13+CP13 -> 0 | E13: =K13+Q13+W13+AC13+AI13+AO13+AU13+BA13+BG13+BM13+BS13+BY13+CE13+CK13+CQ13 -> 0 | F13: =L13+R13+X13+AD13+AJ13+AP13+AV13+BB13+BH13+BN13+BT13+BZ13+CF13+CL13+CR13 -> 0 | G13: =+C13+D13+E13-F13 -> 127604051 | I13: 32637459 | M13: =+I13+J13+K13-L13 -> 32637459 | O13: 3087082 | S13: =+O13+P13+Q13-R13 -> 3087082 | U13: 2267146 | Y13: =+U13+V13+W13-X13 -> 2267146 | AE13: =+AA13+AB13+AC13-AD13 -> 0 | AK13: =+AG13+AH13+AI13-AJ13 -> 0 | AM13: 42355692 | AQ13: =+AM13+AN13+AO13-AP13 -> 42355692 | AS13: 2900 | AW13: =+AS13+AT13+AU13-AV13 -> 2900 | AY13: 25733818 | BC13: =+AY13+AZ13+BA13-BB13 -> 25733818 | BE13: 3092122 | BI13: =+BE13+BF13+BG13-BH13 -> 3092122 | BO13: =+BK13+BL13+BM13-BN13 -> 0 | BQ13: 4101592 | BU13: =+BQ13+BR13+BS13-BT13 -> 4101592 | CA13: =+BW13+BX13+BY13-BZ13 -> 0 | CG13: =+CC13+CD13+CE13-CF13 -> 0 | CM13: =+CI13+CJ13+CK13-CL13 -> 0 | CO13: 14326240 | CS13: =+CO13+CP13+CQ13-CR13 -> 14326240
B14: -Staff Quarters/Residential Flats | C14: =I14+O14+U14+AA14+AG14+AM14+AS14+AY14+BE14+BK14+BQ14+BW14+CC14+CI14+CO14 -> 65718669 | D14: =J14+P14+V14+AB14+AH14+AN14+AT14+AZ14+BF14+BL14+BR14+BX14+CD14+CJ14+CP14 -> 185743 | E14: =K14+Q14+W14+AC14+AI14+AO14+AU14+BA14+BG14+BM14+BS14+BY14+CE14+CK14+CQ14 -> 0 | F14: =L14+R14+X14+AD14+AJ14+AP14+AV14+BB14+BH14+BN14+BT14+BZ14+CF14+CL14+CR14 -> 0 | G14: =+C14+D14+E14-F14 -> 65904412 | I14: 18617919 | J14: 185743 | M14: =+I14+J14+K14-L14 -> 18803662 | O14: 8339117 | S14: =+O14+P14+Q14-R14 -> 8339117 | U14: 709839 | Y14: =+U14+V14+W14-X14 -> 709839 | AE14: =+AA14+AB14+AC14-AD14 -> 0 | AK14: =+AG14+AH14+AI14-AJ14 -> 0 | AM14: 9152187 | AQ14: =+AM14+AN14+AO14-AP14 -> 9152187 | AS14: 7273272 | AW14: =+AS14+AT14+AU14-AV14 -> 7273272 | AY14: 16268204 | BC14: =+AY14+AZ14+BA14-BB14 -> 16268204 | BE14: 4476458 | BI14: =+BE14+BF14+BG14-BH14 -> 4476458 | BO14: =+BK14+BL14+BM14-BN14 -> 0 | BU14: =+BQ14+BR14+BS14-BT14 -> 0 | CA14: =+BW14+BX14+BY14-BZ14 -> 0 | CG14: =+CC14+CD14+CE14-CF14 -> 0 | CI14: 881673 | CM14: =+CI14+CJ14+CK14-CL14 -> 881673 | CS14: =+CO14+CP14+CQ14-CR14 -> 0
B15: -Water supply, Sewerage & Drainage | C15: =I15+O15+U15+AA15+AG15+AM15+AS15+AY15+BE15+BK15+BQ15+BW15+CC15+CI15+CO15 -> 9484462 | D15: =J15+P15+V15+AB15+AH15+AN15+AT15+AZ15+BF15+BL15+BR15+BX15+CD15+CJ15+CP15 -> 0 | E15: =K15+Q15+W15+AC15+AI15+AO15+AU15+BA15+BG15+BM15+BS15+BY15+CE15+CK15+CQ15 -> 0 | F15: =L15+R15+X15+AD15+AJ15+AP15+AV15+BB15+BH15+BN15+BT15+BZ15+CF15+CL15+CR15 -> 0 | G15: =+C15+D15+E15-F15 -> 9484462 | I15: 3024638 | M15: =+I15+J15+K15-L15 -> 3024638 | S15: =+O15+P15+Q15-R15 -> 0 | Y15: =+U15+V15+W15-X15 -> 0 | AE15: =+AA15+AB15+AC15-AD15 -> 0 | AK15: =+AG15+AH15+AI15-AJ15 -> 0 | AM15: 19600 | AQ15: =+AM15+AN15+AO15-AP15 -> 19600 | AW15: =+AS15+AT15+AU15-AV15 -> 0 | AY15: 1432868 | BC15: =+AY15+AZ15+BA15-BB15 -> 1432868 | BI15: =+BE15+BF15+BG15-BH15 -> 0 | BO15: =+BK15+BL15+BM15-BN15 -> 0 | BQ15: 59673 | BU15: =+BQ15+BR15+BS15-BT15 -> 59673 | CA15: =+BW15+BX15+BY15-BZ15 -> 0 | CG15: =+CC15+CD15+CE15-CF15 -> 0 | CM15: =+CI15+CJ15+CK15-CL15 -> 0 | CO15: 4947683 | CS15: =+CO15+CP15+CQ15-CR15 -> 4947683
B16: -Electrical Installations | C16: =I16+O16+U16+AA16+AG16+AM16+AS16+AY16+BE16+BK16+BQ16+BW16+CC16+CI16+CO16 -> 18255462 | D16: =J16+P16+V16+AB16+AH16+AN16+AT16+AZ16+BF16+BL16+BR16+BX16+CD16+CJ16+CP16 -> 199060 | E16: =K16+Q16+W16+AC16+AI16+AO16+AU16+BA16+BG16+BM16+BS16+BY16+CE16+CK16+CQ16 -> 0 | F16: =L16+R16+X16+AD16+AJ16+AP16+AV16+BB16+BH16+BN16+BT16+BZ16+CF16+CL16+CR16 -> 32150 | G16: =+C16+D16+E16-F16 -> 18422372 | I16: 10198492 | J16: 126900 | M16: =+I16+J16+K16-L16 -> 10325392 | O16: 270645 | S16: =+O16+P16+Q16-R16 -> 270645 | U16: 292295 | X16: 19550 | Y16: =+U16+V16+W16-X16 -> 272745 | AA16: 897807 | AE16: =+AA16+AB16+AC16-AD16 -> 897807 | AK16: =+AG16+AH16+AI16-AJ16 -> 0 | AM16: 42750 | AQ16: =+AM16+AN16+AO16-AP16 -> 42750 | AW16: =+AS16+AT16+AU16-AV16 -> 0 | AY16: 751385 | BC16: =+AY16+AZ16+BA16-BB16 -> 751385 | BE16: 219879 | BI16: =+BE16+BF16+BG16-BH16 -> 219879 | BK16: 152039 | BO16: =+BK16+BL16+BM16-BN16 -> 152039 | BQ16: 721057 | BT16: 12600 | BU16: =+BQ16+BR16+BS16-BT16 -> 708457 | CA16: =+BW16+BX16+BY16-BZ16 -> 0 | CG16: =+CC16+CD16+CE16-CF16 -> 0 | CI16: 36720 | CJ16: 72160 | CM16: =+CI16+CJ16+CK16-CL16 -> 108880 | CO16: 4672393 | CS16: =+CO16+CP16+CQ16-CR16 -> 4672393
B17: -Roads & Culverts | C17: =I17+O17+U17+AA17+AG17+AM17+AS17+AY17+BE17+BK17+BQ17+BW17+CC17+CI17+CO17 -> 3579962 | D17: =J17+P17+V17+AB17+AH17+AN17+AT17+AZ17+BF17+BL17+BR17+BX17+CD17+CJ17+CP17 -> 0 | E17: =K17+Q17+W17+AC17+AI17+AO17+AU17+BA17+BG17+BM17+BS17+BY17+CE17+CK17+CQ17 -> 0 | F17: =L17+R17+X17+AD17+AJ17+AP17+AV17+BB17+BH17+BN17+BT17+BZ17+CF17+CL17+CR17 -> 0 | G17: =+C17+D17+E17-F17 -> 3579962 | I17: 401956 | M17: =+I17+J17+K17-L17 -> 401956 | O17: 34193 | S17: =+O17+P17+Q17-R17 -> 34193 | Y17: =+U17+V17+W17-X17 -> 0 | AE17: =+AA17+AB17+AC17-AD17 -> 0 | AK17: =+AG17+AH17+AI17-AJ17 -> 0 | AQ17: =+AM17+AN17+AO17-AP17 -> 0 | AW17: =+AS17+AT17+AU17-AV17 -> 0 | AY17: 511425 | BC17: =+AY17+AZ17+BA17-BB17 -> 511425 | BI17: =+BE17+BF17+BG17-BH17 -> 0 | BO17: =+BK17+BL17+BM17-BN17 -> 0 | BQ17: 175104 | BU17: =+BQ17+BR17+BS17-BT17 -> 175104 | CA17: =+BW17+BX17+BY17-BZ17 -> 0 | CG17: =+CC17+CD17+CE17-CF17 -> 0 | CM17: =+CI17+CJ17+CK17-CL17 -> 0 | CO17: 2457284 | CS17: =+CO17+CP17+CQ17-CR17 -> 2457284
B18: -Audio/Fire/Airconditioning | C18: =I18+O18+U18+AA18+AG18+AM18+AS18+AY18+BE18+BK18+BQ18+BW18+CC18+CI18+CO18 -> 12237919 | D18: =J18+P18+V18+AB18+AH18+AN18+AT18+AZ18+BF18+BL18+BR18+BX18+CD18+CJ18+CP18 -> 446193 | E18: =K18+Q18+W18+AC18+AI18+AO18+AU18+BA18+BG18+BM18+BS18+BY18+CE18+CK18+CQ18 -> -59233 | F18: =L18+R18+X18+AD18+AJ18+AP18+AV18+BB18+BH18+BN18+BT18+BZ18+CF18+CL18+CR18 -> 80542 | G18: =+C18+D18+E18-F18 -> 12544337 | I18: 9600645 | M18: =+I18+J18+K18-L18 -> 9600645 | O18: 59233 | Q18: -59233 | S18: =+O18+P18+Q18-R18 -> 0 | Y18: =+U18+V18+W18-X18 -> 0 | AE18: =+AA18+AB18+AC18-AD18 -> 0 | AK18: =+AG18+AH18+AI18-AJ18 -> 0 | AQ18: =+AM18+AN18+AO18-AP18 -> 0 | AW18: =+AS18+AT18+AU18-AV18 -> 0 | BC18: =+AY18+AZ18+BA18-BB18 -> 0 | BE18: 23344 | BI18: =+BE18+BF18+BG18-BH18 -> 23344 | BK18: 39390 | BO18: =+BK18+BL18+BM18-BN18 -> 39390 | BQ18: 923107 | BR18: 446193 | BT18: 80542 | BU18: =+BQ18+BR18+BS18-BT18 -> 1288758 | CA18: =+BW18+BX18+BY18-BZ18 -> 0 | CG18: =+CC18+CD18+CE18-CF18 -> 0 | CI18: 357505 | CM18: =+CI18+CJ18+CK18-CL18 -> 357505 | CO18: 1234695 | CS18: =+CO18+CP18+CQ18-CR18 -> 1234695
B19: Plant & Equipment | C19: =I19+O19+U19+AA19+AG19+AM19+AS19+AY19+BE19+BK19+BQ19+BW19+CC19+CI19+CO19 -> 796244522 | D19: =J19+P19+V19+AB19+AH19+AN19+AT19+AZ19+BF19+BL19+BR19+BX19+CD19+CJ19+CP19 -> 660020 | E19: =K19+Q19+W19+AC19+AI19+AO19+AU19+BA19+BG19+BM19+BS19+BY19+CE19+CK19+CQ19 -> 0 | F19: =L19+R19+X19+AD19+AJ19+AP19+AV19+BB19+BH19+BN19+BT19+BZ19+CF19+CL19+CR19 -> 1915893 | G19: =+C19+D19+E19-F19 -> 794988649 | M19: =+I19+J19+K19-L19 -> 0 | O19: 689531884 | S19: =+O19+P19+Q19-R19 -> 689531884 | U19: 3420440 | X19: 1884659 | Y19: =+U19+V19+W19-X19 -> 1535781 | AE19: =+AA19+AB19+AC19-AD19 -> 0 | AK19: =+AG19+AH19+AI19-AJ19 -> 0 | AM19: 2966584 | AN19: 250000 | AQ19: =+AM19+AN19+AO19-AP19 -> 3216584 | AW19: =+AS19+AT19+AU19-AV19 -> 0 | AY19: 7412941 | BC19: =+AY19+AZ19+BA19-BB19 -> 7412941 | BE19: 9875624 | BH19: 31234 | BI19: =+BE19+BF19+BG19-BH19 -> 9844390 | BK19: 8822454 | BO19: =+BK19+BL19+BM19-BN19 -> 8822454 | BQ19: 324342 | BU19: =+BQ19+BR19+BS19-BT19 -> 324342 | BW19: 20220570 | BX19: 410020 | CA19: =+BW19+BX19+BY19-BZ19 -> 20630590 | CG19: =+CC19+CD19+CE19-CF19 -> 0 | CI19: 80555 | CM19: =+CI19+CJ19+CK19-CL19 -> 80555 | CO19: 53589128 | CS19: =+CO19+CP19+CQ19-CR19 -> 53589128
B20: Furniture & Fixtures | F20: =L20+R20+X20+AD20+AJ20+AP20+AV20+BB20+BH20+BN20+BT20+BZ20+CF20+CL20+CR20 -> 0 | G20: =+C20+D20+E20-F20 -> 0 | M20: =+I20+J20+K20-L20 -> 0 | S20: =+O20+P20+Q20-R20 -> 0 | Y20: =+U20+V20+W20-X20 -> 0 | AE20: =+AA20+AB20+AC20-AD20 -> 0 | AK20: =+AG20+AH20+AI20-AJ20 -> 0 | AQ20: =+AM20+AN20+AO20-AP20 -> 0 | AW20: =+AS20+AT20+AU20-AV20 -> 0 | BC20: =+AY20+AZ20+BA20-BB20 -> 0 | BI20: =+BE20+BF20+BG20-BH20 -> 0 | BO20: =+BK20+BL20+BM20-BN20 -> 0 | BU20: =+BQ20+BR20+BS20-BT20 -> 0 | CA20: =+BW20+BX20+BY20-BZ20 -> 0 | CG20: =+CC20+CD20+CE20-CF20 -> 0 | CM20: =+CI20+CJ20+CK20-CL20 -> 0 | CS20: =+CO20+CP20+CQ20-CR20 -> 0
B21: -Partitions | C21: =I21+O21+U21+AA21+AG21+AM21+AS21+AY21+BE21+BK21+BQ21+BW21+CC21+CI21+CO21 -> 23414961 | D21: =J21+P21+V21+AB21+AH21+AN21+AT21+AZ21+BF21+BL21+BR21+BX21+CD21+CJ21+CP21 -> 212668 | E21: =K21+Q21+W21+AC21+AI21+AO21+AU21+BA21+BG21+BM21+BS21+BY21+CE21+CK21+CQ21 -> 1167741 | F21: =L21+R21+X21+AD21+AJ21+AP21+AV21+BB21+BH21+BN21+BT21+BZ21+CF21+CL21+CR21 -> 36195 | G21: =+C21+D21+E21-F21 -> 24759175 | I21: 14914264 | K21: 1167741 | M21: =+I21+J21+K21-L21 -> 16082005 | O21: 449437 | S21: =+O21+P21+Q21-R21 -> 449437 | U21: 832484 | Y21: =+U21+V21+W21-X21 -> 832484 | AA21: 3008138 | AE21: =+AA21+AB21+AC21-AD21 -> 3008138 | AK21: =+AG21+AH21+AI21-AJ21 -> 0 | AM21: 458283 | AQ21: =+AM21+AN21+AO21-AP21 -> 458283 | AS21: 540785 | AW21: =+AS21+AT21+AU21-AV21 -> 540785 | AY21: 859980 | BC21: =+AY21+AZ21+BA21-BB21 -> 859980 | BI21: =+BE21+BF21+BG21-BH21 -> 0 | BK21: 950050 | BL21: 212668 | BN21: 36195 | BO21: =+BK21+BL21+BM21-BN21 -> 1126523 | BQ21: 111372 | BU21: =+BQ21+BR21+BS21-BT21 -> 111372 | BW21: 912467 | CA21: =+BW21+BX21+BY21-BZ21 -> 912467 | CG21: =+CC21+CD21+CE21-CF21 -> 0 | CI21: 377701 | CM21: =+CI21+CJ21+CK21-CL21 -> 377701 | CS21: =+CO21+CP21+CQ21-CR21 -> 0
B22: -Others | C22: =I22+O22+U22+AA22+AG22+AM22+AS22+AY22+BE22+BK22+BQ22+BW22+CC22+CI22+CO22 -> 50539356 | D22: =J22+P22+V22+AB22+AH22+AN22+AT22+AZ22+BF22+BL22+BR22+BX22+CD22+CJ22+CP22 -> 941271 | E22: =K22+Q22+W22+AC22+AI22+AO22+AU22+BA22+BG22+BM22+BS22+BY22+CE22+CK22+CQ22 -> -2160563 | F22: =L22+R22+X22+AD22+AJ22+AP22+AV22+BB22+BH22+BN22+BT22+BZ22+CF22+CL22+CR22 -> 151383 | G22: =+C22+D22+E22-F22 -> 49168681 | I22: 11949734 | J22: 352024 | K22: -2160563 | L22: 103222 | M22: =+I22+J22+K22-L22 -> 10037973 | O22: 3702368 | P22: 29640 | S22: =+O22+P22+Q22-R22 -> 3732008 | U22: 2324030 | V22: 94700 | X22: 22198 | Y22: =+U22+V22+W22-X22 -> 2396532 | AA22: 976886 | AB22: 44348 | AE22: =+AA22+AB22+AC22-AD22 -> 1021234 | AK22: =+AG22+AH22+AI22-AJ22 -> 0 | AM22: 9617133 | AQ22: =+AM22+AN22+AO22-AP22 -> 9617133 | AS22: 4297415 | AW22: =+AS22+AT22+AU22-AV22 -> 4297415 | AY22: 4552658 | AZ22: 100788 | BC22: =+AY22+AZ22+BA22-BB22 -> 4653446 | BE22: 2670692 | BF22: 247000 | BH22: 10140 | BI22: =+BE22+BF22+BG22-BH22 -> 2907552 | BK22: 839018 | BL22: 68271 | BN22: 15823 | BO22: =+BK22+BL22+BM22-BN22 -> 891466 | BQ22: 1568451 | BR22: 1800 | BU22: =+BQ22+BR22+BS22-BT22 -> 1570251 | BW22: 4214451 | CA22: =+BW22+BX22+BY22-BZ22 -> 4214451 | CG22: =+CC22+CD22+CE22-CF22 -> 0 | CI22: 2130649 | CJ22: 2700 | CM22: =+CI22+CJ22+CK22-CL22 -> 2133349 | CO22: 1695871 | CS22: =+CO22+CP22+CQ22-CR22 -> 1695871
B23: Vehicles | C23: =I23+O23+U23+AA23+AG23+AM23+AS23+AY23+BE23+BK23+BQ23+BW23+CC23+CI23+CO23 -> 21576938 | D23: =J23+P23+V23+AB23+AH23+AN23+AT23+AZ23+BF23+BL23+BR23+BX23+CD23+CJ23+CP23 -> 0 | E23: =K23+Q23+W23+AC23+AI23+AO23+AU23+BA23+BG23+BM23+BS23+BY23+CE23+CK23+CQ23 -> 0 | F23: =L23+R23+X23+AD23+AJ23+AP23+AV23+BB23+BH23+BN23+BT23+BZ23+CF23+CL23+CR23 -> 551683 | G23: =+C23+D23+E23-F23 -> 21025255 | I23: 10967009 | M23: =+I23+J23+K23-L23 -> 10967009 | O23: 734994 | S23: =+O23+P23+Q23-R23 -> 734994 | U23: 679097 | Y23: =+U23+V23+W23-X23 -> 679097 | AA23: 586850 | AE23: =+AA23+AB23+AC23-AD23 -> 586850 | AK23: =+AG23+AH23+AI23-AJ23 -> 0 | AM23: 1343304 | AQ23: =+AM23+AN23+AO23-AP23 -> 1343304 | AS23: 1214668 | AV23: 550000 | AW23: =+AS23+AT23+AU23-AV23 -> 664668 | AY23: 2020757 | BC23: =+AY23+AZ23+BA23-BB23 -> 2020757 | BE23: 991555 | BI23: =+BE23+BF23+BG23-BH23 -> 991555 | BK23: 536449 | BN23: 1683 | BO23: =+BK23+BL23+BM23-BN23 -> 534766 | BQ23: 40924 | BU23: =+BQ23+BR23+BS23-BT23 -> 40924 | BW23: 1157476 | CA23: =+BW23+BX23+BY23-BZ23 -> 1157476 | CG23: =+CC23+CD23+CE23-CF23 -> 0 | CI23: 1237308 | CM23: =+CI23+CJ23+CK23-CL23 -> 1237308 | CO23: 66547 | CS23: =+CO23+CP23+CQ23-CR23 -> 66547
B24: Office Equipments | C24: =I24+O24+U24+AA24+AG24+AM24+AS24+AY24+BE24+BK24+BQ24+BW24+CC24+CI24+CO24 -> 57476886 | D24: =J24+P24+V24+AB24+AH24+AN24+AT24+AZ24+BF24+BL24+BR24+BX24+CD24+CJ24+CP24 -> 2122560 | E24: =K24+Q24+W24+AC24+AI24+AO24+AU24+BA24+BG24+BM24+BS24+BY24+CE24+CK24+CQ24 -> 1075050 | F24: =L24+R24+X24+AD24+AJ24+AP24+AV24+BB24+BH24+BN24+BT24+BZ24+CF24+CL24+CR24 -> 1130830 | G24: =+C24+D24+E24-F24 -> 59543666 | I24: 22776043 | J24: 568540 | K24: 992822 | L24: 197538 | M24: =+I24+J24+K24-L24 -> 24139867 | O24: =846245+2164517-59233 -> 2951529 | P24: 25134 | Q24: 59233 | R24: 49485 | S24: =+O24+P24+Q24-R24 -> 2986411 | U24: 1114259 | V24: 197760 | X24: 52575 | Y24: =+U24+V24+W24-X24 -> 1259444 | AA24: =1787760-22995 -> 1764765 | AC24: 22995 | AE24: =+AA24+AB24+AC24-AD24 -> 1787760 | AK24: =+AG24+AH24+AI24-AJ24 -> 0 | AM24: 5689052 | AN24: 60562 | AP24: 153139 | AQ24: =+AM24+AN24-AO24-AP24 -> 5596475 | AS24: 1989484 | AT24: 25326 | AW24: =+AS24+AT24+AU24-AV24 -> 2014810 | AY24: 3375464 | AZ24: 164287 | BB24: 18900 | BC24: =+AY24+AZ24+BA24-BB24 -> 3520851 | BE24: 2998928 | BF24: 176695 | BH24: 2490 | BI24: =+BE24+BF24+BG24-BH24 -> 3173133 | BK24: 1446918 | BL24: 484980 | BN24: 466818 | BO24: =+BK24+BL24+BM24-BN24 -> 1465080 | BQ24: 1723845 | BR24: 40437 | BU24: =+BQ24+BR24+BS24-BT24 -> 1764282 | BW24: 8338492 | BX24: 101430 | BZ24: 17010 | CA24: =+BW24+BX24+BY24-BZ24 -> 8422912 | CG24: =+CC24+CD24+CE24-CF24 -> 0 | CI24: 3308107 | CJ24: 277409 | CL24: 172875 | CM24: =+CI24+CJ24+CK24-CL24 -> 3412641 | CS24: =+CO24+CP24+CQ24-CR24 -> 0
